{"text_format":"1","workbook":"xlsx","n_sheets":7,"sheets":["時間外命令簿","整理簿","●●","▲▲","集計表","Sheet1","実績グラフ(任意）"],"not_rendered":{"charts":1,"images":8,"macros":1,"external_links":0,"defined_names":10,"comments":3,"pivot_tables":0},"unopened":[],"bounds":{"document_bytes":16777216,"sheet_cells":100000,"rows_first":2000,"rows_last":500,"rows_between":2000,"halvings":0,"cell_chars":16384,"cell_head_chars":4096},"cells_cut":0,"cells_raw":0,"read":"whole","date_system":"1900"}

{"sheet":"時間外命令簿","index":0,"n_rows":121,"n_cols":68,"rows_kept":121,"cut":false,"hidden":true,"merged":[[115,57,116,58],[2,3,2,5],[3,59,4,60],[3,61,4,62],[3,63,4,64],[3,65,4,66],[3,67,4,67],[52,57,52,58],[53,57,53,58],[54,57,54,58],[49,53,50,58],[51,54,51,58],[112,62,114,62],[112,63,114,63],[112,64,114,64],[112,65,114,65],[112,66,114,66],[112,67,114,67],[114,55,114,56],[112,35,114,35],[112,49,114,49],[112,52,114,53],[112,54,114,54],[112,55,112,56],[109,62,111,62],[109,63,111,63],[112,59,114,59],[112,60,114,60],[112,61,114,61],[112,1,114,1],[112,2,114,2],[112,6,114,7],[112,8,114,8],[112,9,114,9],[112,11,114,11],[112,12,114,12],[112,15,114,15],[112,17,114,17],[106,63,108,63],[106,64,108,64],[106,65,108,65],[106,66,108,66],[106,67,108,67],[109,1,111,1],[109,2,111,2],[109,6,111,7],[109,8,111,8],[109,9,111,9],[109,11,111,11],[109,12,111,12],[109,15,111,15],[109,17,111,17],[109,64,111,64],[109,65,111,65],[109,66,111,66],[109,67,111,67],[111,55,111,56],[109,49,111,49],[109,52,111,53],[109,54,111,54],[109,55,109,56],[109,59,111,59],[103,67,105,67],[105,55,105,56],[106,1,108,1],[106,2,108,2],[106,6,108,7],[106,8,108,8],[106,9,108,9],[106,11,108,11],[106,12,108,12],[106,15,108,15],[106,17,108,17],[106,27,108,27],[106,28,108,28],[106,29,108,29],[106,31,108,31],[106,35,108,35],[106,49,108,49],[106,52,108,53],[106,54,108,54],[106,55,106,56],[108,55,108,56],[106,59,108,59],[106,60,108,60],[106,61,108,61],[100,49,102,49],[103,59,105,59],[103,60,105,60],[103,61,105,61],[103,62,105,62],[103,63,105,63],[103,64,105,64],[103,65,105,65],[103,66,105,66],[23,24,24,24],[25,24,26,24],[27,24,28,24],[29,24,30,24],[31,24,32,24],[100,66,102,66],[100,67,102,67],[102,55,102,56],[103,1,105,1],[103,2,105,2],[103,6,105,7],[103,8,105,8],[103,9,105,9],[103,11,105,11],[103,12,105,12],[103,15,105,15],[103,17,105,17],[103,27,105,27],[103,28,105,28],[103,29,105,29],[103,31,105,31],[103,35,105,35],[103,49,105,49],[103,52,105,53],[100,1,102,1],[100,2,102,2],[100,6,102,7],[100,8,102,8],[100,9,102,9],[100,11,102,11],[100,12,102,12],[100,15,102,15],[100,17,102,17],[1,11,1,16],[26,54,26,55],[28,51,28,53],[28,54,28,55],[30,51,30,53],[30,54,30,55],[32,51,32,53],[32,54,32,55],[34,51,34,53],[34,54,34,55],[9,24,10,24],[3,35,3,38],[3,39,3,42],[2,27,2,34],[1,51,1,52],[3,51,4,53],[3,54,4,55],[15,54,15,55],[25,51,25,53],[25,54,25,55],[3,29,3,30],[3,31,3,32],[13,24,14,24],[15,24,16,24],[33,24,34,24],[35,24,36,24],[37,24,38,24],[39,24,40,24],[41,24,42,24],[43,24,44,24],[39,6,39,8],[27,6,27,8],[29,6,29,8],[30,6,30,8],[32,6,32,8],[34,6,34,8],[36,6,36,8],[38,6,38,8],[35,6,35,8],[31,6,31,8],[33,6,33,8],[40,6,40,8],[42,6,42,8],[43,6,43,8],[44,6,44,8],[67,67,69,67],[61,59,63,59],[61,60,63,60],[64,67,66,67],[64,65,66,65],[64,66,66,66],[58,67,60,67],[55,67,57,67],[55,65,57,65],[55,66,57,66],[58,66,60,66],[67,59,69,59],[67,64,69,64],[64,63,66,63],[64,64,66,64],[55,61,57,61],[55,62,57,62],[55,63,57,63],[55,64,57,64],[67,63,69,63],[64,62,66,62],[64,59,66,59],[64,60,66,60],[58,60,60,60],[44,51,44,53],[44,54,44,55],[6,51,6,53],[6,54,6,55],[8,51,8,53],[51,29,51,35],[52,31,54,31],[52,35,54,35],[61,49,63,49],[61,54,63,54],[58,49,60,49],[58,54,60,54],[55,49,57,49],[52,49,54,49],[36,51,36,53],[36,54,36,55],[38,51,38,53],[38,54,38,55],[21,51,21,53],[40,51,40,53],[7,54,7,55],[42,51,42,53],[42,54,42,55],[40,54,40,55],[120,53,120,67],[82,63,84,63],[82,64,84,64],[82,65,84,65],[82,66,84,66],[85,63,87,63],[85,64,87,64],[85,65,87,65],[85,66,87,66],[85,67,87,67],[118,53,118,67],[94,60,96,60],[94,61,96,61],[94,62,96,62],[91,61,93,61],[91,62,93,62],[91,63,93,63],[91,64,93,64],[91,65,93,65],[91,66,93,66],[97,61,99,61],[117,61,117,67],[100,52,102,53],[100,54,102,54],[97,64,99,64],[94,63,96,63],[94,64,96,64],[94,65,96,65],[94,66,96,66],[94,67,96,67],[88,65,90,65],[88,66,90,66],[88,67,90,67],[97,63,99,63],[97,65,99,65],[97,66,99,66],[97,67,99,67],[88,63,90,63],[88,64,90,64],[76,64,78,64],[76,65,78,65],[76,66,78,66],[73,63,75,63],[73,64,75,64],[73,65,75,65],[73,66,75,66],[76,63,78,63],[79,65,81,65],[79,66,81,66],[115,53,116,53],[115,54,116,54],[115,55,116,56],[97,62,99,62],[85,62,87,62],[91,54,93,54],[91,59,93,59],[91,60,93,60],[88,62,90,62],[93,55,93,56],[91,52,93,53],[94,52,96,53],[94,55,94,56],[96,55,96,56],[85,60,87,60],[85,61,87,61],[97,55,97,56],[99,55,99,56],[91,55,91,56],[103,54,105,54],[103,55,103,56],[106,62,108,62],[109,60,111,60],[109,61,111,61],[88,60,90,60],[88,61,90,61],[85,52,87,53],[88,52,90,53],[115,67,116,67],[97,59,99,59],[97,60,99,60],[41,54,41,55],[58,63,60,63],[76,67,78,67],[76,54,78,54],[76,59,78,59],[76,60,78,60],[76,61,78,61],[76,62,78,62],[76,55,76,56],[78,55,78,56],[69,55,69,56],[97,54,99,54],[91,67,93,67],[94,54,96,54],[94,59,96,59],[67,65,69,65],[67,66,69,66],[88,29,90,29],[88,31,90,31],[88,35,90,35],[85,35,87,35],[88,55,88,56],[90,55,90,56],[70,54,72,54],[85,54,87,54],[85,59,87,59],[82,29,84,29],[79,29,81,29],[79,31,81,31],[79,35,81,35],[76,49,78,49],[76,52,78,53],[88,49,90,49],[88,54,90,54],[85,55,85,56],[87,55,87,56],[85,49,87,49],[88,59,90,59],[58,61,60,61],[58,62,60,62],[60,55,60,56],[61,52,63,53],[64,52,66,53],[67,52,69,53],[64,61,66,61],[67,49,69,49],[67,54,69,54],[66,55,66,56],[64,49,66,49],[64,54,66,54],[67,55,67,56],[58,59,60,59],[64,55,64,56],[67,60,69,60],[67,61,69,61],[67,62,69,62],[79,67,81,67],[82,49,84,49],[82,54,84,54],[82,59,84,59],[82,60,84,60],[79,59,81,59],[79,60,81,60],[79,61,81,61],[79,62,81,62],[79,63,81,63],[79,64,81,64],[82,67,84,67],[82,61,84,61],[82,62,84,62],[84,55,84,56],[79,55,79,56],[81,55,81,56],[82,55,82,56],[79,49,81,49],[79,52,81,53],[82,52,84,53],[79,54,81,54],[70,65,72,65],[70,66,72,66],[70,67,72,67],[73,49,75,49],[73,54,75,54],[73,59,75,59],[73,60,75,60],[70,59,72,59],[70,60,72,60],[70,61,72,61],[70,62,72,62],[70,63,72,63],[70,64,72,64],[73,67,75,67],[73,61,75,61],[73,62,75,62],[70,55,70,56],[72,55,72,56],[73,55,73,56],[75,55,75,56],[70,49,72,49],[70,52,72,53],[73,52,75,53],[61,65,63,65],[61,66,63,66],[61,67,63,67],[61,61,63,61],[61,62,63,62],[61,63,63,63],[61,64,63,64],[61,55,61,56],[63,55,63,56],[58,64,60,64],[58,65,60,65],[58,55,58,56],[9,51,9,53],[9,54,9,55],[11,51,11,53],[24,54,24,55],[26,51,26,53],[52,65,54,65],[52,54,54,54],[52,55,54,56],[11,54,11,55],[19,51,19,53],[19,54,19,55],[27,51,27,53],[27,54,27,55],[13,51,13,53],[13,54,13,55],[15,51,15,53],[58,52,60,53],[57,55,57,56],[10,51,10,53],[10,54,10,55],[12,51,12,53],[3,56,4,56],[3,57,4,57],[29,51,29,53],[29,54,29,55],[31,51,31,53],[31,54,31,55],[55,55,55,56],[21,54,21,55],[23,51,23,53],[23,54,23,55],[35,51,35,53],[35,54,35,55],[43,51,43,53],[43,54,43,55],[37,51,37,53],[37,54,37,55],[39,51,39,53],[39,54,39,55],[41,51,41,53],[47,52,47,67],[52,67,54,67],[5,51,5,53],[5,54,5,55],[7,51,7,53],[91,35,93,35],[100,35,102,35],[109,27,111,27],[109,28,111,28],[109,29,111,29],[109,31,111,31],[109,35,111,35],[112,27,114,27],[112,28,114,28],[112,29,114,29],[112,31,114,31],[91,27,93,27],[91,28,93,28],[100,27,102,27],[50,8,50,11],[50,12,50,28],[50,29,50,35],[41,6,41,8],[76,17,78,17],[76,27,78,27],[76,29,78,29],[76,31,78,31],[76,35,78,35],[73,35,75,35],[73,28,75,28],[73,29,75,29],[76,15,78,15],[76,28,78,28],[70,12,72,12],[67,12,69,12],[67,15,69,15],[73,17,75,17],[73,27,75,27],[64,17,66,17],[64,27,66,27],[64,28,66,28],[61,35,63,35],[58,31,60,31],[17,51,17,53],[17,54,17,55],[33,51,33,53],[33,54,33,55],[24,51,24,53],[8,54,8,55],[12,54,12,55],[14,51,14,53],[14,54,14,55],[16,51,16,53],[16,54,16,55],[18,51,18,53],[18,54,18,55],[20,51,20,53],[20,54,20,55],[22,51,22,53],[22,54,22,55],[97,49,99,49],[118,8,118,35],[119,8,119,35],[91,15,93,15],[91,17,93,17],[91,9,93,9],[91,11,93,11],[115,52,116,52],[97,52,99,53],[100,28,102,28],[100,29,102,29],[100,31,102,31],[119,53,119,67],[100,55,100,56],[100,59,102,59],[100,60,102,60],[100,61,102,61],[100,62,102,62],[100,63,102,63],[100,64,102,64],[100,65,102,65],[94,27,96,27],[94,28,96,28],[117,15,117,35],[85,15,87,15],[94,49,96,49],[73,31,75,31],[70,35,72,35],[91,49,93,49],[88,17,90,17],[88,15,90,15],[79,12,81,12],[79,15,81,15],[73,15,75,15],[70,31,72,31],[88,27,90,27],[88,28,90,28],[85,17,87,17],[85,27,87,27],[85,28,87,28],[85,29,87,29],[85,31,87,31],[82,31,84,31],[82,35,84,35],[91,12,93,12],[94,29,96,29],[91,29,93,29],[91,31,93,31],[91,1,93,1],[91,2,93,2],[91,6,93,7],[91,8,93,8],[120,8,120,35],[5,6,5,8],[7,6,7,8],[97,35,99,35],[115,6,116,7],[115,8,116,8],[115,9,116,9],[115,10,116,11],[115,35,116,35],[97,15,99,15],[97,17,99,17],[97,27,99,27],[97,28,99,28],[97,29,99,29],[97,31,99,31],[94,31,96,31],[94,35,96,35],[94,15,96,15],[94,17,96,17],[97,1,99,1],[97,2,99,2],[97,6,99,7],[97,8,99,8],[97,9,99,9],[97,11,99,11],[97,12,99,12],[94,1,96,1],[94,2,96,2],[94,6,96,7],[94,8,96,8],[94,9,96,9],[94,11,96,11],[94,12,96,12],[85,1,87,1],[85,2,87,2],[85,6,87,7],[85,8,87,8],[85,9,87,9],[85,11,87,11],[85,12,87,12],[88,1,90,1],[88,2,90,2],[88,6,90,7],[88,8,90,8],[88,9,90,9],[88,11,90,11],[88,12,90,12],[82,1,84,1],[82,2,84,2],[82,15,84,15],[79,27,81,27],[79,11,81,11],[79,28,81,28],[79,1,81,1],[79,2,81,2],[79,6,81,7],[79,8,81,8],[79,17,81,17],[82,6,84,7],[82,8,84,8],[82,9,84,9],[82,11,84,11],[82,12,84,12],[82,27,84,27],[82,28,84,28],[79,9,81,9],[82,17,84,17],[73,1,75,1],[73,2,75,2],[73,12,75,12],[76,1,78,1],[76,2,78,2],[76,6,78,7],[76,8,78,8],[76,9,78,9],[76,11,78,11],[76,12,78,12],[73,6,75,7],[73,8,75,8],[73,9,75,9],[73,11,75,11],[67,1,69,1],[67,2,69,2],[67,6,69,7],[67,8,69,8],[67,9,69,9],[67,11,69,11],[70,1,72,1],[70,2,72,2],[70,6,72,7],[70,8,72,8],[70,9,72,9],[70,11,72,11],[64,29,66,29],[64,31,66,31],[64,35,66,35],[70,15,72,15],[70,17,72,17],[70,27,72,27],[70,28,72,28],[70,29,72,29],[67,17,69,17],[67,27,69,27],[67,28,69,28],[67,35,69,35],[67,29,69,29],[67,31,69,31],[64,1,66,1],[64,2,66,2],[64,6,66,7],[64,8,66,8],[64,9,66,9],[64,11,66,11],[64,12,66,12],[64,15,66,15],[61,15,63,15],[61,17,63,17],[61,27,63,27],[61,28,63,28],[61,29,63,29],[61,31,63,31],[61,1,63,1],[61,2,63,2],[61,6,63,7],[61,8,63,8],[61,9,63,9],[61,11,63,11],[61,12,63,12],[58,1,60,1],[58,2,60,2],[58,6,60,7],[58,8,60,8],[58,9,60,9],[58,11,60,11],[58,12,60,12],[55,1,57,1],[55,2,57,2],[55,6,57,7],[55,8,57,8],[55,9,57,9],[55,11,57,11],[55,12,57,12],[52,1,54,1],[52,2,54,2],[52,6,54,7],[52,8,54,8],[52,9,54,9],[52,10,54,11],[52,12,52,27],[52,28,54,28],[52,29,54,29],[1,6,1,7],[3,6,4,8],[2,6,2,8],[17,6,17,8],[11,6,11,8],[13,6,13,8],[9,6,9,8],[3,27,4,27],[3,28,4,28],[3,11,4,11],[3,12,4,12],[2,11,2,20],[3,19,3,20],[2,24,4,24],[2,22,4,22],[7,24,8,24],[10,6,10,8],[11,24,12,24],[12,6,12,8],[8,6,8,8],[3,15,3,16],[3,17,3,18],[3,13,3,14],[6,6,6,8],[2,35,2,48],[3,43,4,43],[3,44,3,48],[18,6,18,8],[20,6,20,8],[22,6,22,8],[24,6,24,8],[26,6,26,8],[28,6,28,8],[2,21,4,21],[3,9,4,9],[3,10,4,10],[5,24,6,24],[25,6,25,8],[19,6,19,8],[21,6,21,8],[15,6,15,8],[14,6,14,8],[16,6,16,8],[3,33,3,34],[23,6,23,8],[17,24,18,24],[19,24,20,24],[21,24,22,24],[51,9,51,11],[51,12,51,28],[37,6,37,8],[49,52,50,52],[51,52,51,53],[52,52,54,53],[55,52,57,53],[46,52,46,67],[52,59,52,63],[52,64,54,64],[47,6,47,35],[49,65,50,67],[49,59,49,64],[50,59,50,61],[51,65,51,67],[51,59,51,61],[51,62,51,64],[50,62,50,64],[55,54,57,54],[52,66,54,66],[55,59,57,59],[55,60,57,60],[48,6,48,35],[50,6,50,7],[58,15,60,15],[58,17,60,17],[58,27,60,27],[58,28,60,28],[58,29,60,29],[55,31,57,31],[55,35,57,35],[55,15,57,15],[55,17,57,17],[55,27,57,27],[55,28,57,28],[55,29,57,29],[58,35,60,35]]}
[]
[null,null,null,null,null,null,null,null,null,null,"所属：",{"$f":"集計表!C3","v":"●●●立●●●学校"}]
[null,{"$f":"TEXT(DBCS(MONTH(G3))&\"月\",)","v":"１月"},null,"実施日:",null,null,"2023-01-01",null,null,{"$f":"G3+1","v":"2023-01-02"},null,"命 令",null,null,null,null,null,null,null,null,null,"自由記載","印刷",null,"翌日の\n時間外の\n有無",null,null,"実 績",null,null,null,null,null,null,null,"累 計"]
[null,null,null,null,null,null,"職員名",null,null,"勤務の内容","備考","開始\n時間","終了\n時間","実働時間",null,"通常",null,"特例",null,"大規模\n災害等",null,null,null,null,null,null,null,"開始\n時間","終了\n時間","通常",null,"特例",null,"大規模\n災害等",null,"月累計",null,null,null,"年累計",null,null,null,"45時間超月数","２～６月平均",null,null,null,null,null,null,"職員名",null,null,"用務名",null,"開始\n時間","終了\n時間",null,"実働\n時間",null,"通常",null,"特例",null,"大規模災害等",null,"備考"]
[null,null,null,null,null,null,null,null,null,null,null,null,null,"時間","分","時間","分","時間","分","時間","分",null,null,null,null,null,null,null,null,"時間","分","時間","分","時間","分","通常","特例","合計","大規模災害等含む","通常","特例","合計","大規模災害等含む",null,"２月","３月","４月","５月","６月"]
[null,{"$f":"集計表!AL2","v":0},{"$f":"IF(J6=\"\",\"\",IF(W6=\"\",\"\",MAX($C$5:C5)+1))","v":""},{"$f":"集計表!B6","v":"●●"},"①",null,{"$f":"IF(D6=0,\"\",集計表!D6)","v":"●●　■■"},null,null,{"$f":"IF(D6=0,\"\",IF(VLOOKUP(TEXT($G$3&$E6,),INDIRECT($D6&\"!G9:BS764\"),4,0)=0,\"\",VLOOKUP(TEXT($G$3&$E6,),INDIRECT($D6&\"!G9:BS764\"),4,0)))","v":""},{"$f":"IF($J6=\"\",\"\",IF(VLOOKUP(TEXT($G$3&$E6,),INDIRECT($D6&\"!G9:BS764\"),65,0)=0,\"\",VLOOKUP(TEXT($G$3&$E6,),INDIRECT($D6&\"!G9:BS764\"),65,0)))","v":""},{"$f":"IF($J6=\"\",\"\",VLOOKUP(TEXT($G$3&$E6,),INDIRECT($D6&\"!G9:BS764\"),2,0))","v":""},{"$f":"IF($J6=\"\",\"\",VLOOKUP(TEXT($G$3&$E6,),INDIRECT($D6&\"!G9:BS764\"),3,0))","v":""},{"$f":"IF($J6=\"\",\"\",HOUR(VLOOKUP(TEXT($G$3&$E6,),INDIRECT($D6&\"!G9:BS764\"),11,0)))","v":""},{"$f":"IF($J6=\"\",\"\",MINUTE(VLOOKUP(TEXT($G$3&$E6,),INDIRECT($D6&\"!G9:BS764\"),11,0)))","v":""},{"$f":"IF($J6=\"\",\"\",IF(VLOOKUP(TEXT($G$3&$E6,),INDIRECT($D6&\"!G9:BS764\"),15,0)=\"\",\"\",VLOOKUP(TEXT($G$3&$E6,),INDIRECT($D6&\"!G9:BS764\"),15,0)))","v":""},{"$f":"IF($J6=\"\",\"\",IF(VLOOKUP(TEXT($G$3&$E6,),INDIRECT($D6&\"!G9:BS764\"),16,0)=\"\",\"\",VLOOKUP(TEXT($G$3&$E6,),INDIRECT($D6&\"!G9:BS764\"),16,0)))","v":""},{"$f":"IF($J6=\"\",\"\",IF(VLOOKUP(TEXT($G$3&$E6,),INDIRECT($D6&\"!G9:BS764\"),17,0)=\"\",\"\",VLOOKUP(TEXT($G$3&$E6,),INDIRECT($D6&\"!G9:BS764\"),17,0)))","v":""},{"$f":"IF($J6=\"\",\"\",IF(VLOOKUP(TEXT($G$3&$E6,),INDIRECT($D6&\"!G9:BS764\"),18,0)=\"\",\"\",VLOOKUP(TEXT($G$3&$E6,),INDIRECT($D6&\"!G9:BS764\"),18,0)))","v":""},{"$f":"IF($J6=\"\",\"\",IF(VLOOKUP(TEXT($G$3&$E6,),INDIRECT($D6&\"!G9:BS764\"),19,0)=\"\",\"\",VLOOKUP(TEXT($G$3&$E6,),INDIRECT($D6&\"!G9:BS764\"),19,0)))","v":""},{"$f":"IF($J6=\"\",\"\",IF(VLOOKUP(TEXT($G$3&$E6,),INDIRECT($D6&\"!G9:BS764\"),20,0)=\"\",\"\",VLOOKUP(TEXT($G$3&$E6,),INDIRECT($D6&\"!G9:BS764\"),20,0)))","v":""},{"$f":"IF($J6=\"\",\"\",VLOOKUP(TEXT($G$3&$E6,),INDIRECT($D6&\"!G9:BS764\"),13,0))","v":""},1,{"$f":"IF(D6=0,0,VLOOKUP(TEXT($J$3&$E6,),INDIRECT($D6&\"!G9:BS764\"),11,0))","v":"00:00:00"},{"$f":"IF(AND(X6=0,X7=0),\"\",\"翌日時間外あり\")","v":""},null,null,{"$f":"IF($J6=\"\",\"\",VLOOKUP(TEXT($G$3&$E6,),INDIRECT($D6&\"!G9:BS764\"),21,0))","v":""},{"$f":"IF($J6=\"\",\"\",VLOOKUP(TEXT($G$3&$E6,),INDIRECT($D6&\"!G9:BS764\"),22,0))","v":""},{"$f":"IF($J6=\"\",\"\",IF(VLOOKUP(TEXT($G$3&$E6,),INDIRECT($D6&\"!G9:BS764\"),33,0)=\"\",\"\",VLOOKUP(TEXT($G$3&$E6,),INDIRECT($D6&\"!G9:BS764\"),33,0)))","v":""},{"$f":"IF($J6=\"\",\"\",IF(VLOOKUP(TEXT($G$3&$E6,),INDIRECT($D6&\"!G9:BS764\"),34,0)=\"\",\"\",VLOOKUP(TEXT($G$3&$E6,),INDIRECT($D6&\"!G9:BS764\"),34,0)))","v":""},{"$f":"IF($J6=\"\",\"\",IF(VLOOKUP(TEXT($G$3&$E6,),INDIRECT($D6&\"!G9:BS764\"),35,0)=\"\",\"\",VLOOKUP(TEXT($G$3&$E6,),INDIRECT($D6&\"!G9:BS764\"),35,0)))","v":""},{"$f":"IF($J6=\"\",\"\",IF(VLOOKUP(TEXT($G$3&$E6,),INDIRECT($D6&\"!G9:BS764\"),36,0)=\"\",\"\",VLOOKUP(TEXT($G$3&$E6,),INDIRECT($D6&\"!G9:BS764\"),36,0)))","v":""},{"$f":"IF($J6=\"\",\"\",IF(VLOOKUP(TEXT($G$3&$E6,),INDIRECT($D6&\"!G9:BS764\"),37,0)=\"\",\"\",VLOOKUP(TEXT($G$3&$E6,),INDIRECT($D6&\"!G9:BS764\"),37,0)))","v":""},{"$f":"IF($J6=\"\",\"\",IF(VLOOKUP(TEXT($G$3&$E6,),INDIRECT($D6&\"!G9:BS764\"),38,0)=\"\",\"\",VLOOKUP(TEXT($G$3&$E6,),INDIRECT($D6&\"!G9:BS764\"),38,0)))","v":""},{"$f":"IF(D6=0,\"\",VLOOKUP($B$3,INDIRECT($D6&\"!$D$7:$BS$764\"),42,FALSE))","v":{"$error":"#N/A"}},{"$f":"IF(D6=0,\"\",VLOOKUP($B$3,INDIRECT($D6&\"!$D$7:$BS$764\"),43,FALSE))","v":{"$error":"#N/A"}},{"$f":"IF(D6=0,\"\",VLOOKUP($B$3,INDIRECT($D6&\"!$D$7:$BS$764\"),44,FALSE))","v":{"$error":"#N/A"}},{"$f":"IF(D6=0,\"\",VLOOKUP($B$3,INDIRECT($D6&\"!$D$7:$BS$764\"),56,FALSE))","v":{"$error":"#N/A"}},{"$f":"IF(D6=0,\"\",VLOOKUP($B$3,INDIRECT($D6&\"!$D$7:$BS$764\"),45,FALSE))","v":{"$error":"#N/A"}},{"$f":"IF(D6=0,\"\",VLOOKUP($B$3,INDIRECT($D6&\"!$D$7:$BS$764\"),46,FALSE))","v":{"$error":"#N/A"}},{"$f":"IF(D6=0,\"\",VLOOKUP($B$3,INDIRECT($D6&\"!$D$7:$BS$764\"),47,FALSE))","v":{"$error":"#N/A"}},{"$f":"IF(D6=0,\"\",VLOOKUP($B$3,INDIRECT($D6&\"!$D$7:$BS$764\"),58,FALSE))","v":{"$error":"#N/A"}},{"$f":"IF(D6=0,\"\",VLOOKUP($B$3,INDIRECT($D6&\"!$D$7:$BS$764\"),54,FALSE))","v":{"$error":"#N/A"}},{"$f":"IF(D6=0,\"\",VLOOKUP($B$3,INDIRECT($D6&\"!$D$7:$BS$764\"),49,FALSE))","v":{"$error":"#N/A"}},{"$f":"IF(D6=0,\"\",VLOOKUP($B$3,INDIRECT($D6&\"!$D$7:$BS$764\"),50,FALSE))","v":{"$error":"#N/A"}},{"$f":"IF(D6=0,\"\",VLOOKUP($B$3,INDIRECT($D6&\"!$D$7:$BS$764\"),51,FALSE))","v":{"$error":"#N/A"}},{"$f":"IF(D6=0,\"\",VLOOKUP($B$3,INDIRECT($D6&\"!$D$7:$BS$764\"),52,FALSE))","v":{"$error":"#N/A"}},{"$f":"IF(D6=0,\"\",VLOOKUP($B$3,INDIRECT($D6&\"!$D$7:$BS$764\"),53,FALSE))","v":{"$error":"#N/A"}},null,1,{"$f":"IF($BC6=\"\",\"\",VLOOKUP($AY6,$C$6:$U$45,5,0))","v":""},null,null,{"$f":"IFERROR(VLOOKUP($AY6,$C$6:$U$45,8,0),\"\")","v":""},null,{"$f":"IF($BC6=\"\",\"\",VLOOKUP($AY6,$C$6:$U$45,10,0))","v":""},{"$f":"IF($BC6=\"\",\"\",VLOOKUP($AY6,$C$6:$U$45,11,0))","v":""},null,{"$f":"IF($BC6=\"\",\"\",VLOOKUP($AY6,$C$6:$U$45,12,0))","v":""},{"$f":"IF($BC6=\"\",\"\",VLOOKUP($AY6,$C$6:$U$45,13,0))","v":""},{"$f":"IF($BC6=\"\",\"\",VLOOKUP($AY6,$C$6:$U$45,14,0))","v":""},{"$f":"IF($BC6=\"\",\"\",VLOOKUP($AY6,$C$6:$U$45,15,0))","v":""},{"$f":"IF($BC6=\"\",\"\",VLOOKUP($AY6,$C$6:$U$45,16,0))","v":""},{"$f":"IF($BC6=\"\",\"\",VLOOKUP($AY6,$C$6:$U$45,17,0))","v":""},{"$f":"IF($BC6=\"\",\"\",VLOOKUP($AY6,$C$6:$U$45,18,0))","v":""},{"$f":"IF($BC6=\"\",\"\",VLOOKUP($AY6,$C$6:$U$45,19,0))","v":""},{"$f":"IF($BC6=\"\",\"\",VLOOKUP($AY6,$C$6:$U$45,9,0))","v":""}]
[null,null,{"$f":"IF(J7=\"\",\"\",IF(W7=\"\",\"\",MAX($C$5:C6)+1))","v":""},{"$f":"D6","v":"●●"},"②",null,{"$f":"G6","v":"●●　■■"},null,null,"",{"$f":"IF($J7=\"\",\"\",IF(VLOOKUP(TEXT($G$3&$E7,),INDIRECT($D7&\"!G9:BS764\"),65,0)=0,\"\",VLOOKUP(TEXT($G$3&$E7,),INDIRECT($D7&\"!G9:BS764\"),65,0)))","v":""},{"$f":"IF($J7=\"\",\"\",VLOOKUP(TEXT($G$3&$E7,),INDIRECT($D7&\"!G9:BS764\"),2,0))","v":""},{"$f":"IF($J7=\"\",\"\",VLOOKUP(TEXT($G$3&$E7,),INDIRECT($D7&\"!G9:BS764\"),3,0))","v":""},{"$f":"IF($J7=\"\",\"\",HOUR(VLOOKUP(TEXT($G$3&$E7,),INDIRECT($D7&\"!G9:BS764\"),11,0)))","v":""},{"$f":"IF($J7=\"\",\"\",MINUTE(VLOOKUP(TEXT($G$3&$E7,),INDIRECT($D7&\"!G9:BS764\"),11,0)))","v":""},{"$f":"IF($J7=\"\",\"\",IF(VLOOKUP(TEXT($G$3&$E7,),INDIRECT($D7&\"!G9:BS764\"),15,0)=\"\",\"\",VLOOKUP(TEXT($G$3&$E7,),INDIRECT($D7&\"!G9:BS764\"),15,0)))","v":""},{"$f":"IF($J7=\"\",\"\",IF(VLOOKUP(TEXT($G$3&$E7,),INDIRECT($D7&\"!G9:BS764\"),16,0)=\"\",\"\",VLOOKUP(TEXT($G$3&$E7,),INDIRECT($D7&\"!G9:BS764\"),16,0)))","v":""},{"$f":"IF($J7=\"\",\"\",IF(VLOOKUP(TEXT($G$3&$E7,),INDIRECT($D7&\"!G9:BS764\"),17,0)=\"\",\"\",VLOOKUP(TEXT($G$3&$E7,),INDIRECT($D7&\"!G9:BS764\"),17,0)))","v":""},{"$f":"IF($J7=\"\",\"\",IF(VLOOKUP(TEXT($G$3&$E7,),INDIRECT($D7&\"!G9:BS764\"),18,0)=\"\",\"\",VLOOKUP(TEXT($G$3&$E7,),INDIRECT($D7&\"!G9:BS764\"),18,0)))","v":""},{"$f":"IF($J7=\"\",\"\",IF(VLOOKUP(TEXT($G$3&$E7,),INDIRECT($D7&\"!G9:BS764\"),19,0)=\"\",\"\",VLOOKUP(TEXT($G$3&$E7,),INDIRECT($D7&\"!G9:BS764\"),19,0)))","v":""},{"$f":"IF($J7=\"\",\"\",IF(VLOOKUP(TEXT($G$3&$E7,),INDIRECT($D7&\"!G9:BS764\"),20,0)=\"\",\"\",VLOOKUP(TEXT($G$3&$E7,),INDIRECT($D7&\"!G9:BS764\"),20,0)))","v":""},{"$f":"IF($J7=\"\",\"\",VLOOKUP(TEXT($G$3&$E7,),INDIRECT($D7&\"!G9:BS764\"),13,0))","v":""},1,{"$f":"IF(D7=0,0,VLOOKUP(TEXT($J$3&$E7,),INDIRECT($D7&\"!G9:BS764\"),11,0))","v":"00:00:00"},null,null,null,{"$f":"IF($J7=\"\",\"\",VLOOKUP(TEXT($G$3&$E7,),INDIRECT($D7&\"!G9:BS764\"),21,0))","v":""},{"$f":"IF($J7=\"\",\"\",VLOOKUP(TEXT($G$3&$E7,),INDIRECT($D7&\"!G9:BS764\"),22,0))","v":""},{"$f":"IF($J7=\"\",\"\",IF(VLOOKUP(TEXT($G$3&$E7,),INDIRECT($D7&\"!G9:BS764\"),33,0)=\"\",\"\",VLOOKUP(TEXT($G$3&$E7,),INDIRECT($D7&\"!G9:BS764\"),33,0)))","v":""},{"$f":"IF($J7=\"\",\"\",IF(VLOOKUP(TEXT($G$3&$E7,),INDIRECT($D7&\"!G9:BS764\"),34,0)=\"\",\"\",VLOOKUP(TEXT($G$3&$E7,),INDIRECT($D7&\"!G9:BS764\"),34,0)))","v":""},{"$f":"IF($J7=\"\",\"\",IF(VLOOKUP(TEXT($G$3&$E7,),INDIRECT($D7&\"!G9:BS764\"),35,0)=\"\",\"\",VLOOKUP(TEXT($G$3&$E7,),INDIRECT($D7&\"!G9:BS764\"),35,0)))","v":""},{"$f":"IF($J7=\"\",\"\",IF(VLOOKUP(TEXT($G$3&$E7,),INDIRECT($D7&\"!G9:BS764\"),36,0)=\"\",\"\",VLOOKUP(TEXT($G$3&$E7,),INDIRECT($D7&\"!G9:BS764\"),36,0)))","v":""},{"$f":"IF($J7=\"\",\"\",IF(VLOOKUP(TEXT($G$3&$E7,),INDIRECT($D7&\"!G9:BS764\"),37,0)=\"\",\"\",VLOOKUP(TEXT($G$3&$E7,),INDIRECT($D7&\"!G9:BS764\"),37,0)))","v":""},{"$f":"IF($J7=\"\",\"\",IF(VLOOKUP(TEXT($G$3&$E7,),INDIRECT($D7&\"!G9:BS764\"),38,0)=\"\",\"\",VLOOKUP(TEXT($G$3&$E7,),INDIRECT($D7&\"!G9:BS764\"),38,0)))","v":""},null,null,null,null,null,null,null,null,null,null,null,null,null,null,null,2,{"$f":"IF($BC7=\"\",\"\",VLOOKUP($AY7,$C$6:$U$45,5,0))","v":""},null,null,{"$f":"IFERROR(VLOOKUP($AY7,$C$6:$U$45,8,0),\"\")","v":""},null,{"$f":"IF($BC7=\"\",\"\",VLOOKUP($AY7,$C$6:$U$45,10,0))","v":""},{"$f":"IF($BC7=\"\",\"\",VLOOKUP($AY7,$C$6:$U$45,11,0))","v":""},null,{"$f":"IF($BC7=\"\",\"\",VLOOKUP($AY7,$C$6:$U$45,12,0))","v":""},{"$f":"IF($BC7=\"\",\"\",VLOOKUP($AY7,$C$6:$U$45,13,0))","v":""},{"$f":"IF($BC7=\"\",\"\",VLOOKUP($AY7,$C$6:$U$45,14,0))","v":""},{"$f":"IF($BC7=\"\",\"\",VLOOKUP($AY7,$C$6:$U$45,15,0))","v":""},{"$f":"IF($BC7=\"\",\"\",VLOOKUP($AY7,$C$6:$U$45,16,0))","v":""},{"$f":"IF($BC7=\"\",\"\",VLOOKUP($AY7,$C$6:$U$45,17,0))","v":""},{"$f":"IF($BC7=\"\",\"\",VLOOKUP($AY7,$C$6:$U$45,18,0))","v":""},{"$f":"IF($BC7=\"\",\"\",VLOOKUP($AY7,$C$6:$U$45,19,0))","v":""},{"$f":"IF($BC7=\"\",\"\",VLOOKUP($AY7,$C$6:$U$45,9,0))","v":""}]
[null,null,{"$f":"IF(J8=\"\",\"\",IF(W8=\"\",\"\",MAX($C$5:C7)+1))","v":""},{"$f":"集計表!B7","v":"▲▲"},"①",null,{"$f":"IF(D8=0,\"\",集計表!D7)","v":"▲▲　◆◆"},null,null,"",{"$f":"IF($J8=\"\",\"\",IF(VLOOKUP(TEXT($G$3&$E8,),INDIRECT($D8&\"!G9:BS764\"),65,0)=0,\"\",VLOOKUP(TEXT($G$3&$E8,),INDIRECT($D8&\"!G9:BS764\"),65,0)))","v":""},{"$f":"IF($J8=\"\",\"\",VLOOKUP(TEXT($G$3&$E8,),INDIRECT($D8&\"!G9:BS764\"),2,0))","v":""},{"$f":"IF($J8=\"\",\"\",VLOOKUP(TEXT($G$3&$E8,),INDIRECT($D8&\"!G9:BS764\"),3,0))","v":""},{"$f":"IF($J8=\"\",\"\",HOUR(VLOOKUP(TEXT($G$3&$E8,),INDIRECT($D8&\"!G9:BS764\"),11,0)))","v":""},{"$f":"IF($J8=\"\",\"\",MINUTE(VLOOKUP(TEXT($G$3&$E8,),INDIRECT($D8&\"!G9:BS764\"),11,0)))","v":""},{"$f":"IF($J8=\"\",\"\",IF(VLOOKUP(TEXT($G$3&$E8,),INDIRECT($D8&\"!G9:BS764\"),15,0)=\"\",\"\",VLOOKUP(TEXT($G$3&$E8,),INDIRECT($D8&\"!G9:BS764\"),15,0)))","v":""},{"$f":"IF($J8=\"\",\"\",IF(VLOOKUP(TEXT($G$3&$E8,),INDIRECT($D8&\"!G9:BS764\"),16,0)=\"\",\"\",VLOOKUP(TEXT($G$3&$E8,),INDIRECT($D8&\"!G9:BS764\"),16,0)))","v":""},{"$f":"IF($J8=\"\",\"\",IF(VLOOKUP(TEXT($G$3&$E8,),INDIRECT($D8&\"!G9:BS764\"),17,0)=\"\",\"\",VLOOKUP(TEXT($G$3&$E8,),INDIRECT($D8&\"!G9:BS764\"),17,0)))","v":""},{"$f":"IF($J8=\"\",\"\",IF(VLOOKUP(TEXT($G$3&$E8,),INDIRECT($D8&\"!G9:BS764\"),18,0)=\"\",\"\",VLOOKUP(TEXT($G$3&$E8,),INDIRECT($D8&\"!G9:BS764\"),18,0)))","v":""},{"$f":"IF($J8=\"\",\"\",IF(VLOOKUP(TEXT($G$3&$E8,),INDIRECT($D8&\"!G9:BS764\"),19,0)=\"\",\"\",VLOOKUP(TEXT($G$3&$E8,),INDIRECT($D8&\"!G9:BS764\"),19,0)))","v":""},{"$f":"IF($J8=\"\",\"\",IF(VLOOKUP(TEXT($G$3&$E8,),INDIRECT($D8&\"!G9:BS764\"),20,0)=\"\",\"\",VLOOKUP(TEXT($G$3&$E8,),INDIRECT($D8&\"!G9:BS764\"),20,0)))","v":""},"",1,{"$f":"IF(D8=0,0,VLOOKUP(TEXT($J$3&$E8,),INDIRECT($D8&\"!G9:BS764\"),11,0))","v":"00:00:00"},{"$f":"IF(AND(X8=0,X9=0),\"\",\"翌日時間外あり\")","v":""},null,null,{"$f":"IF($J8=\"\",\"\",VLOOKUP(TEXT($G$3&$E8,),INDIRECT($D8&\"!G9:BS764\"),21,0))","v":""},{"$f":"IF($J8=\"\",\"\",VLOOKUP(TEXT($G$3&$E8,),INDIRECT($D8&\"!G9:BS764\"),22,0))","v":""},{"$f":"IF($J8=\"\",\"\",IF(VLOOKUP(TEXT($G$3&$E8,),INDIRECT($D8&\"!G9:BS764\"),33,0)=\"\",\"\",VLOOKUP(TEXT($G$3&$E8,),INDIRECT($D8&\"!G9:BS764\"),33,0)))","v":""},{"$f":"IF($J8=\"\",\"\",IF(VLOOKUP(TEXT($G$3&$E8,),INDIRECT($D8&\"!G9:BS764\"),34,0)=\"\",\"\",VLOOKUP(TEXT($G$3&$E8,),INDIRECT($D8&\"!G9:BS764\"),34,0)))","v":""},{"$f":"IF($J8=\"\",\"\",IF(VLOOKUP(TEXT($G$3&$E8,),INDIRECT($D8&\"!G9:BS764\"),35,0)=\"\",\"\",VLOOKUP(TEXT($G$3&$E8,),INDIRECT($D8&\"!G9:BS764\"),35,0)))","v":""},{"$f":"IF($J8=\"\",\"\",IF(VLOOKUP(TEXT($G$3&$E8,),INDIRECT($D8&\"!G9:BS764\"),36,0)=\"\",\"\",VLOOKUP(TEXT($G$3&$E8,),INDIRECT($D8&\"!G9:BS764\"),36,0)))","v":""},{"$f":"IF($J8=\"\",\"\",IF(VLOOKUP(TEXT($G$3&$E8,),INDIRECT($D8&\"!G9:BS764\"),37,0)=\"\",\"\",VLOOKUP(TEXT($G$3&$E8,),INDIRECT($D8&\"!G9:BS764\"),37,0)))","v":""},{"$f":"IF($J8=\"\",\"\",IF(VLOOKUP(TEXT($G$3&$E8,),INDIRECT($D8&\"!G9:BS764\"),38,0)=\"\",\"\",VLOOKUP(TEXT($G$3&$E8,),INDIRECT($D8&\"!G9:BS764\"),38,0)))","v":""},{"$f":"IF(D8=0,\"\",VLOOKUP($B$3,INDIRECT($D8&\"!$D$7:$BS$764\"),42,FALSE))","v":{"$error":"#N/A"}},{"$f":"IF(D8=0,\"\",VLOOKUP($B$3,INDIRECT($D8&\"!$D$7:$BS$764\"),43,FALSE))","v":{"$error":"#N/A"}},{"$f":"IF(D8=0,\"\",VLOOKUP($B$3,INDIRECT($D8&\"!$D$7:$BS$764\"),44,FALSE))","v":{"$error":"#N/A"}},{"$f":"IF(D8=0,\"\",VLOOKUP($B$3,INDIRECT($D8&\"!$D$7:$BS$764\"),56,FALSE))","v":{"$error":"#N/A"}},{"$f":"IF(D8=0,\"\",VLOOKUP($B$3,INDIRECT($D8&\"!$D$7:$BS$764\"),45,FALSE))","v":{"$error":"#N/A"}},{"$f":"IF(D8=0,\"\",VLOOKUP($B$3,INDIRECT($D8&\"!$D$7:$BS$764\"),46,FALSE))","v":{"$error":"#N/A"}},{"$f":"IF(D8=0,\"\",VLOOKUP($B$3,INDIRECT($D8&\"!$D$7:$BS$764\"),47,FALSE))","v":{"$error":"#N/A"}},{"$f":"IF(D8=0,\"\",VLOOKUP($B$3,INDIRECT($D8&\"!$D$7:$BS$764\"),58,FALSE))","v":{"$error":"#N/A"}},{"$f":"IF(D8=0,\"\",VLOOKUP($B$3,INDIRECT($D8&\"!$D$7:$BS$764\"),54,FALSE))","v":{"$error":"#N/A"}},{"$f":"IF(D8=0,\"\",VLOOKUP($B$3,INDIRECT($D8&\"!$D$7:$BS$764\"),49,FALSE))","v":{"$error":"#N/A"}},{"$f":"IF(D8=0,\"\",VLOOKUP($B$3,INDIRECT($D8&\"!$D$7:$BS$764\"),50,FALSE))","v":{"$error":"#N/A"}},{"$f":"IF(D8=0,\"\",VLOOKUP($B$3,INDIRECT($D8&\"!$D$7:$BS$764\"),51,FALSE))","v":{"$error":"#N/A"}},{"$f":"IF(D8=0,\"\",VLOOKUP($B$3,INDIRECT($D8&\"!$D$7:$BS$764\"),52,FALSE))","v":{"$error":"#N/A"}},{"$f":"IF(D8=0,\"\",VLOOKUP($B$3,INDIRECT($D8&\"!$D$7:$BS$764\"),53,FALSE))","v":{"$error":"#N/A"}},null,3,"",null,null,"",null,"","",null,"","","","","","","","",""]
[null,null,{"$f":"IF(J9=\"\",\"\",IF(W9=\"\",\"\",MAX($C$5:C8)+1))","v":""},{"$f":"D8","v":"▲▲"},"②",null,{"$f":"G8","v":"▲▲　◆◆"},null,null,"","","","","","","","","","","","","",1,"00:00:00",null,null,null,"","","","","","","","",null,null,null,null,null,null,null,null,null,null,null,null,null,null,null,4,"",null,null,"",null,"","",null,"","","","","","","","",""]
[null,null,{"$f":"IF(J10=\"\",\"\",IF(W10=\"\",\"\",MAX($C$5:C9)+1))","v":""},{"$f":"集計表!B8","v":0},"①",null,{"$f":"IF(D10=0,\"\",集計表!D8)","v":""},null,null,{"$f":"IF(D10=0,\"\",IF(VLOOKUP(TEXT($G$3&$E10,),INDIRECT($D10&\"!G9:BS764\"),4,0)=0,\"\",VLOOKUP(TEXT($G$3&$E10,),INDIRECT($D10&\"!G9:BS764\"),4,0)))","v":""},"","","","","","","","","","","","",1,"00:00:00",{"$f":"IF(AND(X10=0,X11=0),\"\",\"翌日時間外あり\")","v":""},null,null,"","","","","","","","",{"$f":"IF(D10=0,\"\",VLOOKUP($B$3,INDIRECT($D10&\"!$D$7:$BS$764\"),42,FALSE))","v":""},{"$f":"IF(D10=0,\"\",VLOOKUP($B$3,INDIRECT($D10&\"!$D$7:$BS$764\"),43,FALSE))","v":""},{"$f":"IF(D10=0,\"\",VLOOKUP($B$3,INDIRECT($D10&\"!$D$7:$BS$764\"),44,FALSE))","v":""},{"$f":"IF(D10=0,\"\",VLOOKUP($B$3,INDIRECT($D10&\"!$D$7:$BS$764\"),56,FALSE))","v":""},{"$f":"IF(D10=0,\"\",VLOOKUP($B$3,INDIRECT($D10&\"!$D$7:$BS$764\"),45,FALSE))","v":""},{"$f":"IF(D10=0,\"\",VLOOKUP($B$3,INDIRECT($D10&\"!$D$7:$BS$764\"),46,FALSE))","v":""},{"$f":"IF(D10=0,\"\",VLOOKUP($B$3,INDIRECT($D10&\"!$D$7:$BS$764\"),47,FALSE))","v":""},{"$f":"IF(D10=0,\"\",VLOOKUP($B$3,INDIRECT($D10&\"!$D$7:$BS$764\"),58,FALSE))","v":""},{"$f":"IF(D10=0,\"\",VLOOKUP($B$3,INDIRECT($D10&\"!$D$7:$BS$764\"),54,FALSE))","v":""},{"$f":"IF(D10=0,\"\",VLOOKUP($B$3,INDIRECT($D10&\"!$D$7:$BS$764\"),49,FALSE))","v":""},{"$f":"IF(D10=0,\"\",VLOOKUP($B$3,INDIRECT($D10&\"!$D$7:$BS$764\"),50,FALSE))","v":""},{"$f":"IF(D10=0,\"\",VLOOKUP($B$3,INDIRECT($D10&\"!$D$7:$BS$764\"),51,FALSE))","v":""},{"$f":"IF(D10=0,\"\",VLOOKUP($B$3,INDIRECT($D10&\"!$D$7:$BS$764\"),52,FALSE))","v":""},{"$f":"IF(D10=0,\"\",VLOOKUP($B$3,INDIRECT($D10&\"!$D$7:$BS$764\"),53,FALSE))","v":""},null,5,"",null,null,"",null,"","",null,"","","","","","","","",""]
[null,null,{"$f":"IF(J11=\"\",\"\",IF(W11=\"\",\"\",MAX($C$5:C10)+1))","v":""},{"$f":"D10","v":0},"②",null,{"$f":"G10","v":""},null,null,"","","","","","","","","","","","","",1,"00:00:00",null,null,null,"","","","","","","","",null,null,null,null,null,null,null,null,null,null,null,null,null,null,null,6,"",null,null,"",null,"","",null,"","","","","","","","",""]
[null,null,{"$f":"IF(J12=\"\",\"\",IF(W12=\"\",\"\",MAX($C$5:C11)+1))","v":""},{"$f":"集計表!B9","v":0},"①",null,{"$f":"IF(D12=0,\"\",集計表!D9)","v":""},null,null,"","","","","","","","","","","","","",1,"00:00:00",{"$f":"IF(AND(X12=0,X13=0),\"\",\"翌日時間外あり\")","v":""},null,null,"","","","","","","","",{"$f":"IF(D12=0,\"\",VLOOKUP($B$3,INDIRECT($D12&\"!$D$7:$BS$764\"),42,FALSE))","v":""},{"$f":"IF(D12=0,\"\",VLOOKUP($B$3,INDIRECT($D12&\"!$D$7:$BS$764\"),43,FALSE))","v":""},{"$f":"IF(D12=0,\"\",VLOOKUP($B$3,INDIRECT($D12&\"!$D$7:$BS$764\"),44,FALSE))","v":""},{"$f":"IF(D12=0,\"\",VLOOKUP($B$3,INDIRECT($D12&\"!$D$7:$BS$764\"),56,FALSE))","v":""},{"$f":"IF(D12=0,\"\",VLOOKUP($B$3,INDIRECT($D12&\"!$D$7:$BS$764\"),45,FALSE))","v":""},{"$f":"IF(D12=0,\"\",VLOOKUP($B$3,INDIRECT($D12&\"!$D$7:$BS$764\"),46,FALSE))","v":""},{"$f":"IF(D12=0,\"\",VLOOKUP($B$3,INDIRECT($D12&\"!$D$7:$BS$764\"),47,FALSE))","v":""},{"$f":"IF(D12=0,\"\",VLOOKUP($B$3,INDIRECT($D12&\"!$D$7:$BS$764\"),58,FALSE))","v":""},{"$f":"IF(D12=0,\"\",VLOOKUP($B$3,INDIRECT($D12&\"!$D$7:$BS$764\"),54,FALSE))","v":""},{"$f":"IF(D12=0,\"\",VLOOKUP($B$3,INDIRECT($D12&\"!$D$7:$BS$764\"),49,FALSE))","v":""},{"$f":"IF(D12=0,\"\",VLOOKUP($B$3,INDIRECT($D12&\"!$D$7:$BS$764\"),50,FALSE))","v":""},{"$f":"IF(D12=0,\"\",VLOOKUP($B$3,INDIRECT($D12&\"!$D$7:$BS$764\"),51,FALSE))","v":""},{"$f":"IF(D12=0,\"\",VLOOKUP($B$3,INDIRECT($D12&\"!$D$7:$BS$764\"),52,FALSE))","v":""},{"$f":"IF(D12=0,\"\",VLOOKUP($B$3,INDIRECT($D12&\"!$D$7:$BS$764\"),53,FALSE))","v":""},null,7,"",null,null,"",null,"","",null,"","","","","","","","",""]
[null,null,{"$f":"IF(J13=\"\",\"\",IF(W13=\"\",\"\",MAX($C$5:C12)+1))","v":""},{"$f":"D12","v":0},"②",null,{"$f":"G12","v":""},null,null,"","","","","","","","","","","","","",1,"00:00:00",null,null,null,"","","","","","","","",null,null,null,null,null,null,null,null,null,null,null,null,null,null,null,8,"",null,null,"",null,"","",null,"","","","","","","","",""]
[null,null,{"$f":"IF(J14=\"\",\"\",IF(W14=\"\",\"\",MAX($C$5:C13)+1))","v":""},{"$f":"集計表!B10","v":0},"①",null,{"$f":"IF(D14=0,\"\",集計表!D10)","v":""},null,null,"","","","","","","","","","","","","",1,"00:00:00",{"$f":"IF(AND(X14=0,X15=0),\"\",\"翌日時間外あり\")","v":""},null,null,"","","","","","","","",{"$f":"IF(D14=0,\"\",VLOOKUP($B$3,INDIRECT($D14&\"!$D$7:$BS$764\"),42,FALSE))","v":""},{"$f":"IF(D14=0,\"\",VLOOKUP($B$3,INDIRECT($D14&\"!$D$7:$BS$764\"),43,FALSE))","v":""},{"$f":"IF(D14=0,\"\",VLOOKUP($B$3,INDIRECT($D14&\"!$D$7:$BS$764\"),44,FALSE))","v":""},{"$f":"IF(D14=0,\"\",VLOOKUP($B$3,INDIRECT($D14&\"!$D$7:$BS$764\"),56,FALSE))","v":""},{"$f":"IF(D14=0,\"\",VLOOKUP($B$3,INDIRECT($D14&\"!$D$7:$BS$764\"),45,FALSE))","v":""},{"$f":"IF(D14=0,\"\",VLOOKUP($B$3,INDIRECT($D14&\"!$D$7:$BS$764\"),46,FALSE))","v":""},{"$f":"IF(D14=0,\"\",VLOOKUP($B$3,INDIRECT($D14&\"!$D$7:$BS$764\"),47,FALSE))","v":""},{"$f":"IF(D14=0,\"\",VLOOKUP($B$3,INDIRECT($D14&\"!$D$7:$BS$764\"),58,FALSE))","v":""},{"$f":"IF(D14=0,\"\",VLOOKUP($B$3,INDIRECT($D14&\"!$D$7:$BS$764\"),54,FALSE))","v":""},{"$f":"IF(D14=0,\"\",VLOOKUP($B$3,INDIRECT($D14&\"!$D$7:$BS$764\"),49,FALSE))","v":""},{"$f":"IF(D14=0,\"\",VLOOKUP($B$3,INDIRECT($D14&\"!$D$7:$BS$764\"),50,FALSE))","v":""},{"$f":"IF(D14=0,\"\",VLOOKUP($B$3,INDIRECT($D14&\"!$D$7:$BS$764\"),51,FALSE))","v":""},{"$f":"IF(D14=0,\"\",VLOOKUP($B$3,INDIRECT($D14&\"!$D$7:$BS$764\"),52,FALSE))","v":""},{"$f":"IF(D14=0,\"\",VLOOKUP($B$3,INDIRECT($D14&\"!$D$7:$BS$764\"),53,FALSE))","v":""},null,9,"",null,null,"",null,"","",null,"","","","","","","","",""]
[null,null,{"$f":"IF(J15=\"\",\"\",IF(W15=\"\",\"\",MAX($C$5:C14)+1))","v":""},{"$f":"D14","v":0},"②",null,{"$f":"G14","v":""},null,null,"","","","","","","","","","","","","",1,"00:00:00",null,null,null,"","","","","","","","",null,null,null,null,null,null,null,null,null,null,null,null,null,null,null,10,"",null,null,"",null,"","",null,"","","","","","","","",""]
[null,null,{"$f":"IF(J16=\"\",\"\",IF(W16=\"\",\"\",MAX($C$5:C15)+1))","v":""},{"$f":"集計表!B11","v":0},"①",null,{"$f":"IF(D16=0,\"\",集計表!D11)","v":""},null,null,"","","","","","","","","","","","","",1,"00:00:00",{"$f":"IF(AND(X16=0,X17=0),\"\",\"翌日時間外あり\")","v":""},null,null,"","","","","","","","",{"$f":"IF(D16=0,\"\",VLOOKUP($B$3,INDIRECT($D16&\"!$D$7:$BS$764\"),42,FALSE))","v":""},{"$f":"IF(D16=0,\"\",VLOOKUP($B$3,INDIRECT($D16&\"!$D$7:$BS$764\"),43,FALSE))","v":""},{"$f":"IF(D16=0,\"\",VLOOKUP($B$3,INDIRECT($D16&\"!$D$7:$BS$764\"),44,FALSE))","v":""},{"$f":"IF(D16=0,\"\",VLOOKUP($B$3,INDIRECT($D16&\"!$D$7:$BS$764\"),56,FALSE))","v":""},{"$f":"IF(D16=0,\"\",VLOOKUP($B$3,INDIRECT($D16&\"!$D$7:$BS$764\"),45,FALSE))","v":""},{"$f":"IF(D16=0,\"\",VLOOKUP($B$3,INDIRECT($D16&\"!$D$7:$BS$764\"),46,FALSE))","v":""},{"$f":"IF(D16=0,\"\",VLOOKUP($B$3,INDIRECT($D16&\"!$D$7:$BS$764\"),47,FALSE))","v":""},{"$f":"IF(D16=0,\"\",VLOOKUP($B$3,INDIRECT($D16&\"!$D$7:$BS$764\"),58,FALSE))","v":""},{"$f":"IF(D16=0,\"\",VLOOKUP($B$3,INDIRECT($D16&\"!$D$7:$BS$764\"),54,FALSE))","v":""},{"$f":"IF(D16=0,\"\",VLOOKUP($B$3,INDIRECT($D16&\"!$D$7:$BS$764\"),49,FALSE))","v":""},{"$f":"IF(D16=0,\"\",VLOOKUP($B$3,INDIRECT($D16&\"!$D$7:$BS$764\"),50,FALSE))","v":""},{"$f":"IF(D16=0,\"\",VLOOKUP($B$3,INDIRECT($D16&\"!$D$7:$BS$764\"),51,FALSE))","v":""},{"$f":"IF(D16=0,\"\",VLOOKUP($B$3,INDIRECT($D16&\"!$D$7:$BS$764\"),52,FALSE))","v":""},{"$f":"IF(D16=0,\"\",VLOOKUP($B$3,INDIRECT($D16&\"!$D$7:$BS$764\"),53,FALSE))","v":""},null,11,"",null,null,"",null,"","",null,"","","","","","","","",""]
[null,null,{"$f":"IF(J17=\"\",\"\",IF(W17=\"\",\"\",MAX($C$5:C16)+1))","v":""},{"$f":"D16","v":0},"②",null,{"$f":"G16","v":""},null,null,"","","","","","","","","","","","","",1,"00:00:00",null,null,null,"","","","","","",{"$f":"IF($J17=\"\",\"\",IF(VLOOKUP(TEXT($G$3&$E17,),INDIRECT($D17&\"!G9:BS764\"),37,0)=\"\",\"\",VLOOKUP(TEXT($G$3&$E17,),INDIRECT($D17&\"!G9:BS764\"),37,0)))","v":""},"",null,null,null,null,null,null,null,null,null,null,null,null,null,null,null,12,"",null,null,"",null,"","",null,"","","","","","","","",""]
[null,null,{"$f":"IF(J18=\"\",\"\",IF(W18=\"\",\"\",MAX($C$5:C17)+1))","v":""},{"$f":"集計表!B12","v":0},"①",null,{"$f":"IF(D18=0,\"\",集計表!D12)","v":""},null,null,"","","","","","","","","","","","","",1,"00:00:00",{"$f":"IF(AND(X18=0,X19=0),\"\",\"翌日時間外あり\")","v":""},null,null,"","","","","","","","",{"$f":"IF(D18=0,\"\",VLOOKUP($B$3,INDIRECT($D18&\"!$D$7:$BS$764\"),42,FALSE))","v":""},{"$f":"IF(D18=0,\"\",VLOOKUP($B$3,INDIRECT($D18&\"!$D$7:$BS$764\"),43,FALSE))","v":""},{"$f":"IF(D18=0,\"\",VLOOKUP($B$3,INDIRECT($D18&\"!$D$7:$BS$764\"),44,FALSE))","v":""},{"$f":"IF(D18=0,\"\",VLOOKUP($B$3,INDIRECT($D18&\"!$D$7:$BS$764\"),56,FALSE))","v":""},{"$f":"IF(D18=0,\"\",VLOOKUP($B$3,INDIRECT($D18&\"!$D$7:$BS$764\"),45,FALSE))","v":""},{"$f":"IF(D18=0,\"\",VLOOKUP($B$3,INDIRECT($D18&\"!$D$7:$BS$764\"),46,FALSE))","v":""},{"$f":"IF(D18=0,\"\",VLOOKUP($B$3,INDIRECT($D18&\"!$D$7:$BS$764\"),47,FALSE))","v":""},{"$f":"IF(D18=0,\"\",VLOOKUP($B$3,INDIRECT($D18&\"!$D$7:$BS$764\"),58,FALSE))","v":""},{"$f":"IF(D18=0,\"\",VLOOKUP($B$3,INDIRECT($D18&\"!$D$7:$BS$764\"),54,FALSE))","v":""},{"$f":"IF(D18=0,\"\",VLOOKUP($B$3,INDIRECT($D18&\"!$D$7:$BS$764\"),49,FALSE))","v":""},{"$f":"IF(D18=0,\"\",VLOOKUP($B$3,INDIRECT($D18&\"!$D$7:$BS$764\"),50,FALSE))","v":""},{"$f":"IF(D18=0,\"\",VLOOKUP($B$3,INDIRECT($D18&\"!$D$7:$BS$764\"),51,FALSE))","v":""},{"$f":"IF(D18=0,\"\",VLOOKUP($B$3,INDIRECT($D18&\"!$D$7:$BS$764\"),52,FALSE))","v":""},{"$f":"IF(D18=0,\"\",VLOOKUP($B$3,INDIRECT($D18&\"!$D$7:$BS$764\"),53,FALSE))","v":""},null,13,"",null,null,"",null,"","",null,"","","","","","","","",""]
[null,null,{"$f":"IF(J19=\"\",\"\",IF(W19=\"\",\"\",MAX($C$5:C18)+1))","v":""},{"$f":"D18","v":0},"②",null,{"$f":"G18","v":""},null,null,"","","","","","","","","","","","","",1,"00:00:00",null,null,null,"","","","","","","","",null,null,null,null,null,null,null,null,null,null,null,null,null,null,null,14,"",null,null,"",null,"","",null,"","","","","","","","",""]
[null,null,{"$f":"IF(J20=\"\",\"\",IF(W20=\"\",\"\",MAX($C$5:C19)+1))","v":""},{"$f":"集計表!B13","v":0},"①",null,{"$f":"IF(D20=0,\"\",集計表!D13)","v":""},null,null,"","","","","","","","","","","","","",1,"00:00:00",{"$f":"IF(AND(X20=0,X21=0),\"\",\"翌日時間外あり\")","v":""},null,null,"","","","","","","","",{"$f":"IF(D20=0,\"\",VLOOKUP($B$3,INDIRECT($D20&\"!$D$7:$BS$764\"),42,FALSE))","v":""},{"$f":"IF(D20=0,\"\",VLOOKUP($B$3,INDIRECT($D20&\"!$D$7:$BS$764\"),43,FALSE))","v":""},{"$f":"IF(D20=0,\"\",VLOOKUP($B$3,INDIRECT($D20&\"!$D$7:$BS$764\"),44,FALSE))","v":""},{"$f":"IF(D20=0,\"\",VLOOKUP($B$3,INDIRECT($D20&\"!$D$7:$BS$764\"),56,FALSE))","v":""},{"$f":"IF(D20=0,\"\",VLOOKUP($B$3,INDIRECT($D20&\"!$D$7:$BS$764\"),45,FALSE))","v":""},{"$f":"IF(D20=0,\"\",VLOOKUP($B$3,INDIRECT($D20&\"!$D$7:$BS$764\"),46,FALSE))","v":""},{"$f":"IF(D20=0,\"\",VLOOKUP($B$3,INDIRECT($D20&\"!$D$7:$BS$764\"),47,FALSE))","v":""},{"$f":"IF(D20=0,\"\",VLOOKUP($B$3,INDIRECT($D20&\"!$D$7:$BS$764\"),58,FALSE))","v":""},{"$f":"IF(D20=0,\"\",VLOOKUP($B$3,INDIRECT($D20&\"!$D$7:$BS$764\"),54,FALSE))","v":""},{"$f":"IF(D20=0,\"\",VLOOKUP($B$3,INDIRECT($D20&\"!$D$7:$BS$764\"),49,FALSE))","v":""},{"$f":"IF(D20=0,\"\",VLOOKUP($B$3,INDIRECT($D20&\"!$D$7:$BS$764\"),50,FALSE))","v":""},{"$f":"IF(D20=0,\"\",VLOOKUP($B$3,INDIRECT($D20&\"!$D$7:$BS$764\"),51,FALSE))","v":""},{"$f":"IF(D20=0,\"\",VLOOKUP($B$3,INDIRECT($D20&\"!$D$7:$BS$764\"),52,FALSE))","v":""},{"$f":"IF(D20=0,\"\",VLOOKUP($B$3,INDIRECT($D20&\"!$D$7:$BS$764\"),53,FALSE))","v":""},null,15,"",null,null,"",null,"","",null,"","","","","","","","",""]
[null,null,{"$f":"IF(J21=\"\",\"\",IF(W21=\"\",\"\",MAX($C$5:C20)+1))","v":""},{"$f":"D20","v":0},"②",null,{"$f":"G20","v":""},null,null,"","","","","","","","","","","","","",null,"00:00:00",null,null,null,"","","","","","","","",null,null,null,null,null,null,null,null,null,null,null,null,null,null,null,16,"",null,null,"",null,"","",null,"","","","","","","","",""]
[null,null,{"$f":"IF(J22=\"\",\"\",IF(W22=\"\",\"\",MAX($C$5:C21)+1))","v":""},{"$f":"集計表!B14","v":0},"①",null,{"$f":"IF(D22=0,\"\",集計表!D14)","v":""},null,null,"","","","","","","","","","","","","",1,"00:00:00",{"$f":"IF(AND(X22=0,X23=0),\"\",\"翌日時間外あり\")","v":""},null,null,"","","","","","","","",{"$f":"IF(D22=0,\"\",VLOOKUP($B$3,INDIRECT($D22&\"!$D$7:$BS$764\"),42,FALSE))","v":""},{"$f":"IF(D22=0,\"\",VLOOKUP($B$3,INDIRECT($D22&\"!$D$7:$BS$764\"),43,FALSE))","v":""},{"$f":"IF(D22=0,\"\",VLOOKUP($B$3,INDIRECT($D22&\"!$D$7:$BS$764\"),44,FALSE))","v":""},{"$f":"IF(D22=0,\"\",VLOOKUP($B$3,INDIRECT($D22&\"!$D$7:$BS$764\"),56,FALSE))","v":""},{"$f":"IF(D22=0,\"\",VLOOKUP($B$3,INDIRECT($D22&\"!$D$7:$BS$764\"),45,FALSE))","v":""},{"$f":"IF(D22=0,\"\",VLOOKUP($B$3,INDIRECT($D22&\"!$D$7:$BS$764\"),46,FALSE))","v":""},{"$f":"IF(D22=0,\"\",VLOOKUP($B$3,INDIRECT($D22&\"!$D$7:$BS$764\"),47,FALSE))","v":""},{"$f":"IF(D22=0,\"\",VLOOKUP($B$3,INDIRECT($D22&\"!$D$7:$BS$764\"),58,FALSE))","v":""},{"$f":"IF(D22=0,\"\",VLOOKUP($B$3,INDIRECT($D22&\"!$D$7:$BS$764\"),54,FALSE))","v":""},{"$f":"IF(D22=0,\"\",VLOOKUP($B$3,INDIRECT($D22&\"!$D$7:$BS$764\"),49,FALSE))","v":""},{"$f":"IF(D22=0,\"\",VLOOKUP($B$3,INDIRECT($D22&\"!$D$7:$BS$764\"),50,FALSE))","v":""},{"$f":"IF(D22=0,\"\",VLOOKUP($B$3,INDIRECT($D22&\"!$D$7:$BS$764\"),51,FALSE))","v":""},{"$f":"IF(D22=0,\"\",VLOOKUP($B$3,INDIRECT($D22&\"!$D$7:$BS$764\"),52,FALSE))","v":""},{"$f":"IF(D22=0,\"\",VLOOKUP($B$3,INDIRECT($D22&\"!$D$7:$BS$764\"),53,FALSE))","v":""},null,17,"",null,null,"",null,"","",null,"","","","","","","","",""]
[null,null,{"$f":"IF(J23=\"\",\"\",IF(W23=\"\",\"\",MAX($C$5:C22)+1))","v":""},{"$f":"D22","v":0},"②",null,{"$f":"G22","v":""},null,null,"","","","","","","","","","","","","",null,"00:00:00",null,null,null,"","","","","","","","",null,null,null,null,null,null,null,null,null,null,null,null,null,null,null,18,"",null,null,"",null,"","",null,"","","","","","","","",""]
[null,null,{"$f":"IF(J24=\"\",\"\",IF(W24=\"\",\"\",MAX($C$5:C23)+1))","v":""},{"$f":"集計表!B15","v":0},"①",null,{"$f":"IF(D24=0,\"\",集計表!D15)","v":""},null,null,"","","","","","","","","","","","","",1,"00:00:00",{"$f":"IF(AND(X24=0,X25=0),\"\",\"翌日時間外あり\")","v":""},null,null,"","","","","","","","",{"$f":"IF(D24=0,\"\",VLOOKUP($B$3,INDIRECT($D24&\"!$D$7:$BS$764\"),42,FALSE))","v":""},{"$f":"IF(D24=0,\"\",VLOOKUP($B$3,INDIRECT($D24&\"!$D$7:$BS$764\"),43,FALSE))","v":""},{"$f":"IF(D24=0,\"\",VLOOKUP($B$3,INDIRECT($D24&\"!$D$7:$BS$764\"),44,FALSE))","v":""},{"$f":"IF(D24=0,\"\",VLOOKUP($B$3,INDIRECT($D24&\"!$D$7:$BS$764\"),56,FALSE))","v":""},{"$f":"IF(D24=0,\"\",VLOOKUP($B$3,INDIRECT($D24&\"!$D$7:$BS$764\"),45,FALSE))","v":""},{"$f":"IF(D24=0,\"\",VLOOKUP($B$3,INDIRECT($D24&\"!$D$7:$BS$764\"),46,FALSE))","v":""},{"$f":"IF(D24=0,\"\",VLOOKUP($B$3,INDIRECT($D24&\"!$D$7:$BS$764\"),47,FALSE))","v":""},{"$f":"IF(D24=0,\"\",VLOOKUP($B$3,INDIRECT($D24&\"!$D$7:$BS$764\"),58,FALSE))","v":""},{"$f":"IF(D24=0,\"\",VLOOKUP($B$3,INDIRECT($D24&\"!$D$7:$BS$764\"),54,FALSE))","v":""},{"$f":"IF(D24=0,\"\",VLOOKUP($B$3,INDIRECT($D24&\"!$D$7:$BS$764\"),49,FALSE))","v":""},{"$f":"IF(D24=0,\"\",VLOOKUP($B$3,INDIRECT($D24&\"!$D$7:$BS$764\"),50,FALSE))","v":""},{"$f":"IF(D24=0,\"\",VLOOKUP($B$3,INDIRECT($D24&\"!$D$7:$BS$764\"),51,FALSE))","v":""},{"$f":"IF(D24=0,\"\",VLOOKUP($B$3,INDIRECT($D24&\"!$D$7:$BS$764\"),52,FALSE))","v":""},{"$f":"IF(D24=0,\"\",VLOOKUP($B$3,INDIRECT($D24&\"!$D$7:$BS$764\"),53,FALSE))","v":""},null,19,"",null,null,"",null,"","",null,"","","","","","","","",""]
[null,null,{"$f":"IF(J25=\"\",\"\",IF(W25=\"\",\"\",MAX($C$5:C24)+1))","v":""},{"$f":"D24","v":0},"②",null,{"$f":"G24","v":""},null,null,"","","","","","","","","","","","","",null,"00:00:00",null,null,null,"","","","","","","","",null,null,null,null,null,null,null,null,null,null,null,null,null,null,null,20,"",null,null,"",null,"","",null,"","","","","","","","",{"$f":"IF($BC25=\"\",\"\",VLOOKUP($AY25,$C$6:$U$45,9,0))","v":""}]
[null,null,{"$f":"IF(J26=\"\",\"\",IF(W26=\"\",\"\",MAX($C$5:C25)+1))","v":""},{"$f":"集計表!B16","v":0},"①",null,{"$f":"IF(D26=0,\"\",集計表!D16)","v":""},null,null,"","","","","","","","","","","","","",1,"00:00:00",{"$f":"IF(AND(X26=0,X27=0),\"\",\"翌日時間外あり\")","v":""},null,null,"","","","","","","","",{"$f":"IF(D26=0,\"\",VLOOKUP($B$3,INDIRECT($D26&\"!$D$7:$BS$764\"),42,FALSE))","v":""},{"$f":"IF(D26=0,\"\",VLOOKUP($B$3,INDIRECT($D26&\"!$D$7:$BS$764\"),43,FALSE))","v":""},{"$f":"IF(D26=0,\"\",VLOOKUP($B$3,INDIRECT($D26&\"!$D$7:$BS$764\"),44,FALSE))","v":""},{"$f":"IF(D26=0,\"\",VLOOKUP($B$3,INDIRECT($D26&\"!$D$7:$BS$764\"),56,FALSE))","v":""},{"$f":"IF(D26=0,\"\",VLOOKUP($B$3,INDIRECT($D26&\"!$D$7:$BS$764\"),45,FALSE))","v":""},{"$f":"IF(D26=0,\"\",VLOOKUP($B$3,INDIRECT($D26&\"!$D$7:$BS$764\"),46,FALSE))","v":""},{"$f":"IF(D26=0,\"\",VLOOKUP($B$3,INDIRECT($D26&\"!$D$7:$BS$764\"),47,FALSE))","v":""},{"$f":"IF(D26=0,\"\",VLOOKUP($B$3,INDIRECT($D26&\"!$D$7:$BS$764\"),58,FALSE))","v":""},{"$f":"IF(D26=0,\"\",VLOOKUP($B$3,INDIRECT($D26&\"!$D$7:$BS$764\"),54,FALSE))","v":""},{"$f":"IF(D26=0,\"\",VLOOKUP($B$3,INDIRECT($D26&\"!$D$7:$BS$764\"),49,FALSE))","v":""},{"$f":"IF(D26=0,\"\",VLOOKUP($B$3,INDIRECT($D26&\"!$D$7:$BS$764\"),50,FALSE))","v":""},{"$f":"IF(D26=0,\"\",VLOOKUP($B$3,INDIRECT($D26&\"!$D$7:$BS$764\"),51,FALSE))","v":""},{"$f":"IF(D26=0,\"\",VLOOKUP($B$3,INDIRECT($D26&\"!$D$7:$BS$764\"),52,FALSE))","v":""},{"$f":"IF(D26=0,\"\",VLOOKUP($B$3,INDIRECT($D26&\"!$D$7:$BS$764\"),53,FALSE))","v":""},null,null,{"$f":"IF($BC26=\"\",\"\",VLOOKUP($AY26,$C$6:$U$45,5,0))","v":""},null,null,{"$f":"IFERROR(VLOOKUP($AY26,$C$6:$U$45,8,0),\"\")","v":""},null,{"$f":"IF($BC26=\"\",\"\",VLOOKUP($AY26,$C$6:$U$45,10,0))","v":""},{"$f":"IF($BC26=\"\",\"\",VLOOKUP($AY26,$C$6:$U$45,11,0))","v":""},null,{"$f":"IF($BC26=\"\",\"\",VLOOKUP($AY26,$C$6:$U$45,9,0))","v":""},{"$f":"IF($BC26=\"\",\"\",VLOOKUP($AY26,$C$6:$U$45,14,0))","v":""},{"$f":"IF($BC26=\"\",\"\",VLOOKUP($AY26,$C$6:$U$45,15,0))","v":""},{"$f":"IF($BC26=\"\",\"\",VLOOKUP($AY26,$C$6:$U$45,16,0))","v":""},{"$f":"IF($BC26=\"\",\"\",VLOOKUP($AY26,$C$6:$U$45,17,0))","v":""},{"$f":"IF($BC26=\"\",\"\",VLOOKUP($AY26,$C$6:$U$45,18,0))","v":""},{"$f":"IF($BC26=\"\",\"\",VLOOKUP($AY26,$C$6:$U$45,19,0))","v":""}]
[null,null,{"$f":"IF(J27=\"\",\"\",IF(W27=\"\",\"\",MAX($C$5:C26)+1))","v":""},{"$f":"D26","v":0},"②",null,{"$f":"G26","v":""},null,null,"","","","","","","","","","","","","",null,"00:00:00",null,null,null,"","","","","","","","",null,null,null,null,null,null,null,null,null,null,null,null,null,null,null,null,"",null,null,"",null,"","",null,"","","","","","",""]
[null,null,{"$f":"IF(J28=\"\",\"\",IF(W28=\"\",\"\",MAX($C$5:C27)+1))","v":""},{"$f":"集計表!B17","v":0},"①",null,{"$f":"IF(D28=0,\"\",集計表!D17)","v":""},null,null,"","","","","","","","","","","","","",1,"00:00:00",{"$f":"IF(AND(X28=0,X29=0),\"\",\"翌日時間外あり\")","v":""},null,null,"","","","","","","","",{"$f":"IF(D28=0,\"\",VLOOKUP($B$3,INDIRECT($D28&\"!$D$7:$BS$764\"),42,FALSE))","v":""},{"$f":"IF(D28=0,\"\",VLOOKUP($B$3,INDIRECT($D28&\"!$D$7:$BS$764\"),43,FALSE))","v":""},{"$f":"IF(D28=0,\"\",VLOOKUP($B$3,INDIRECT($D28&\"!$D$7:$BS$764\"),44,FALSE))","v":""},{"$f":"IF(D28=0,\"\",VLOOKUP($B$3,INDIRECT($D28&\"!$D$7:$BS$764\"),56,FALSE))","v":""},{"$f":"IF(D28=0,\"\",VLOOKUP($B$3,INDIRECT($D28&\"!$D$7:$BS$764\"),45,FALSE))","v":""},{"$f":"IF(D28=0,\"\",VLOOKUP($B$3,INDIRECT($D28&\"!$D$7:$BS$764\"),46,FALSE))","v":""},{"$f":"IF(D28=0,\"\",VLOOKUP($B$3,INDIRECT($D28&\"!$D$7:$BS$764\"),47,FALSE))","v":""},{"$f":"IF(D28=0,\"\",VLOOKUP($B$3,INDIRECT($D28&\"!$D$7:$BS$764\"),58,FALSE))","v":""},{"$f":"IF(D28=0,\"\",VLOOKUP($B$3,INDIRECT($D28&\"!$D$7:$BS$764\"),54,FALSE))","v":""},{"$f":"IF(D28=0,\"\",VLOOKUP($B$3,INDIRECT($D28&\"!$D$7:$BS$764\"),49,FALSE))","v":""},{"$f":"IF(D28=0,\"\",VLOOKUP($B$3,INDIRECT($D28&\"!$D$7:$BS$764\"),50,FALSE))","v":""},{"$f":"IF(D28=0,\"\",VLOOKUP($B$3,INDIRECT($D28&\"!$D$7:$BS$764\"),51,FALSE))","v":""},{"$f":"IF(D28=0,\"\",VLOOKUP($B$3,INDIRECT($D28&\"!$D$7:$BS$764\"),52,FALSE))","v":""},{"$f":"IF(D28=0,\"\",VLOOKUP($B$3,INDIRECT($D28&\"!$D$7:$BS$764\"),53,FALSE))","v":""},null,null,"",null,null,"",null,"","",null,"","","","","","",""]
[null,null,{"$f":"IF(J29=\"\",\"\",IF(W29=\"\",\"\",MAX($C$5:C28)+1))","v":""},{"$f":"D28","v":0},"②",null,{"$f":"G28","v":""},null,null,"","","","","","","","","","","","","",null,"00:00:00",null,null,null,"","","","","","","","",null,null,null,null,null,null,null,null,null,null,null,null,null,null,null,null,"",null,null,"",null,"","",null,"","","","","","",""]
[null,null,{"$f":"IF(J30=\"\",\"\",IF(W30=\"\",\"\",MAX($C$5:C29)+1))","v":""},{"$f":"集計表!B18","v":0},"①",null,{"$f":"IF(D30=0,\"\",集計表!D18)","v":""},null,null,"","","","","","","","","","","","","",1,"00:00:00",{"$f":"IF(AND(X30=0,X31=0),\"\",\"翌日時間外あり\")","v":""},null,null,"","","","","","","","",{"$f":"IF(D30=0,\"\",VLOOKUP($B$3,INDIRECT($D30&\"!$D$7:$BS$764\"),42,FALSE))","v":""},{"$f":"IF(D30=0,\"\",VLOOKUP($B$3,INDIRECT($D30&\"!$D$7:$BS$764\"),43,FALSE))","v":""},{"$f":"IF(D30=0,\"\",VLOOKUP($B$3,INDIRECT($D30&\"!$D$7:$BS$764\"),44,FALSE))","v":""},{"$f":"IF(D30=0,\"\",VLOOKUP($B$3,INDIRECT($D30&\"!$D$7:$BS$764\"),56,FALSE))","v":""},{"$f":"IF(D30=0,\"\",VLOOKUP($B$3,INDIRECT($D30&\"!$D$7:$BS$764\"),45,FALSE))","v":""},{"$f":"IF(D30=0,\"\",VLOOKUP($B$3,INDIRECT($D30&\"!$D$7:$BS$764\"),46,FALSE))","v":""},{"$f":"IF(D30=0,\"\",VLOOKUP($B$3,INDIRECT($D30&\"!$D$7:$BS$764\"),47,FALSE))","v":""},{"$f":"IF(D30=0,\"\",VLOOKUP($B$3,INDIRECT($D30&\"!$D$7:$BS$764\"),58,FALSE))","v":""},{"$f":"IF(D30=0,\"\",VLOOKUP($B$3,INDIRECT($D30&\"!$D$7:$BS$764\"),54,FALSE))","v":""},{"$f":"IF(D30=0,\"\",VLOOKUP($B$3,INDIRECT($D30&\"!$D$7:$BS$764\"),49,FALSE))","v":""},{"$f":"IF(D30=0,\"\",VLOOKUP($B$3,INDIRECT($D30&\"!$D$7:$BS$764\"),50,FALSE))","v":""},{"$f":"IF(D30=0,\"\",VLOOKUP($B$3,INDIRECT($D30&\"!$D$7:$BS$764\"),51,FALSE))","v":""},{"$f":"IF(D30=0,\"\",VLOOKUP($B$3,INDIRECT($D30&\"!$D$7:$BS$764\"),52,FALSE))","v":""},{"$f":"IF(D30=0,\"\",VLOOKUP($B$3,INDIRECT($D30&\"!$D$7:$BS$764\"),53,FALSE))","v":""},null,null,"",null,null,"",null,"","",null,"","","","","","",""]
[null,null,{"$f":"IF(J31=\"\",\"\",IF(W31=\"\",\"\",MAX($C$5:C30)+1))","v":""},{"$f":"D30","v":0},"②",null,{"$f":"G30","v":""},null,null,"","","","","","","","","","","","","",null,"00:00:00",null,null,null,"","","","","","","","",null,null,null,null,null,null,null,null,null,null,null,null,null,null,null,null,"",null,null,"",null,"","",null,"","","","","","",""]
[null,null,{"$f":"IF(J32=\"\",\"\",IF(W32=\"\",\"\",MAX($C$5:C31)+1))","v":""},{"$f":"集計表!B19","v":0},"①",null,{"$f":"IF(D32=0,\"\",集計表!D19)","v":""},null,null,"","","","","","","","","","","","","",1,"00:00:00",{"$f":"IF(AND(X32=0,X33=0),\"\",\"翌日時間外あり\")","v":""},null,null,"","","","","","","","",{"$f":"IF(D32=0,\"\",VLOOKUP($B$3,INDIRECT($D32&\"!$D$7:$BS$764\"),42,FALSE))","v":""},{"$f":"IF(D32=0,\"\",VLOOKUP($B$3,INDIRECT($D32&\"!$D$7:$BS$764\"),43,FALSE))","v":""},{"$f":"IF(D32=0,\"\",VLOOKUP($B$3,INDIRECT($D32&\"!$D$7:$BS$764\"),44,FALSE))","v":""},{"$f":"IF(D32=0,\"\",VLOOKUP($B$3,INDIRECT($D32&\"!$D$7:$BS$764\"),56,FALSE))","v":""},{"$f":"IF(D32=0,\"\",VLOOKUP($B$3,INDIRECT($D32&\"!$D$7:$BS$764\"),45,FALSE))","v":""},{"$f":"IF(D32=0,\"\",VLOOKUP($B$3,INDIRECT($D32&\"!$D$7:$BS$764\"),46,FALSE))","v":""},{"$f":"IF(D32=0,\"\",VLOOKUP($B$3,INDIRECT($D32&\"!$D$7:$BS$764\"),47,FALSE))","v":""},{"$f":"IF(D32=0,\"\",VLOOKUP($B$3,INDIRECT($D32&\"!$D$7:$BS$764\"),58,FALSE))","v":""},{"$f":"IF(D32=0,\"\",VLOOKUP($B$3,INDIRECT($D32&\"!$D$7:$BS$764\"),54,FALSE))","v":""},{"$f":"IF(D32=0,\"\",VLOOKUP($B$3,INDIRECT($D32&\"!$D$7:$BS$764\"),49,FALSE))","v":""},{"$f":"IF(D32=0,\"\",VLOOKUP($B$3,INDIRECT($D32&\"!$D$7:$BS$764\"),50,FALSE))","v":""},{"$f":"IF(D32=0,\"\",VLOOKUP($B$3,INDIRECT($D32&\"!$D$7:$BS$764\"),51,FALSE))","v":""},{"$f":"IF(D32=0,\"\",VLOOKUP($B$3,INDIRECT($D32&\"!$D$7:$BS$764\"),52,FALSE))","v":""},{"$f":"IF(D32=0,\"\",VLOOKUP($B$3,INDIRECT($D32&\"!$D$7:$BS$764\"),53,FALSE))","v":""},null,null,"",null,null,"",null,"","",null,"","","","","","",""]
[null,null,{"$f":"IF(J33=\"\",\"\",IF(W33=\"\",\"\",MAX($C$5:C32)+1))","v":""},{"$f":"D32","v":0},"②",null,{"$f":"G32","v":""},null,null,"","","","","","","","","","","","","",null,"00:00:00",null,null,null,"","","","","","","","",null,null,null,null,null,null,null,null,null,null,null,null,null,null,null,null,"",null,null,"",null,"","",null,"","","","","","",""]
[null,null,{"$f":"IF(J34=\"\",\"\",IF(W34=\"\",\"\",MAX($C$5:C33)+1))","v":""},{"$f":"集計表!B20","v":0},"①",null,{"$f":"IF(D34=0,\"\",集計表!D20)","v":""},null,null,"","","","","","","","","","","","","",1,"00:00:00",{"$f":"IF(AND(X34=0,X35=0),\"\",\"翌日時間外あり\")","v":""},null,null,"","","","","","","","",{"$f":"IF(D34=0,\"\",VLOOKUP($B$3,INDIRECT($D34&\"!$D$7:$BS$764\"),42,FALSE))","v":""},{"$f":"IF(D34=0,\"\",VLOOKUP($B$3,INDIRECT($D34&\"!$D$7:$BS$764\"),43,FALSE))","v":""},{"$f":"IF(D34=0,\"\",VLOOKUP($B$3,INDIRECT($D34&\"!$D$7:$BS$764\"),44,FALSE))","v":""},{"$f":"IF(D34=0,\"\",VLOOKUP($B$3,INDIRECT($D34&\"!$D$7:$BS$764\"),56,FALSE))","v":""},{"$f":"IF(D34=0,\"\",VLOOKUP($B$3,INDIRECT($D34&\"!$D$7:$BS$764\"),45,FALSE))","v":""},{"$f":"IF(D34=0,\"\",VLOOKUP($B$3,INDIRECT($D34&\"!$D$7:$BS$764\"),46,FALSE))","v":""},{"$f":"IF(D34=0,\"\",VLOOKUP($B$3,INDIRECT($D34&\"!$D$7:$BS$764\"),47,FALSE))","v":""},{"$f":"IF(D34=0,\"\",VLOOKUP($B$3,INDIRECT($D34&\"!$D$7:$BS$764\"),58,FALSE))","v":""},{"$f":"IF(D34=0,\"\",VLOOKUP($B$3,INDIRECT($D34&\"!$D$7:$BS$764\"),54,FALSE))","v":""},{"$f":"IF(D34=0,\"\",VLOOKUP($B$3,INDIRECT($D34&\"!$D$7:$BS$764\"),49,FALSE))","v":""},{"$f":"IF(D34=0,\"\",VLOOKUP($B$3,INDIRECT($D34&\"!$D$7:$BS$764\"),50,FALSE))","v":""},{"$f":"IF(D34=0,\"\",VLOOKUP($B$3,INDIRECT($D34&\"!$D$7:$BS$764\"),51,FALSE))","v":""},{"$f":"IF(D34=0,\"\",VLOOKUP($B$3,INDIRECT($D34&\"!$D$7:$BS$764\"),52,FALSE))","v":""},{"$f":"IF(D34=0,\"\",VLOOKUP($B$3,INDIRECT($D34&\"!$D$7:$BS$764\"),53,FALSE))","v":""},null,null,"",null,null,"",null,"","",null,"","","","","","",""]
[null,null,{"$f":"IF(J35=\"\",\"\",IF(W35=\"\",\"\",MAX($C$5:C34)+1))","v":""},{"$f":"D34","v":0},"②",null,{"$f":"G34","v":""},null,null,"","","","","","","","","","","","","",null,"00:00:00",null,null,null,"","","","","","","","",null,null,null,null,null,null,null,null,null,null,null,null,null,null,null,null,"",null,null,"",null,"","",null,"","","","","","",""]
[null,null,{"$f":"IF(J36=\"\",\"\",IF(W36=\"\",\"\",MAX($C$5:C35)+1))","v":""},{"$f":"集計表!B21","v":0},"①",null,{"$f":"IF(D36=0,\"\",集計表!D21)","v":""},null,null,"","","","","","","","","","","","","",1,"00:00:00",{"$f":"IF(AND(X36=0,X37=0),\"\",\"翌日時間外あり\")","v":""},null,null,"","","","","","","","",{"$f":"IF(D36=0,\"\",VLOOKUP($B$3,INDIRECT($D36&\"!$D$7:$BS$764\"),42,FALSE))","v":""},{"$f":"IF(D36=0,\"\",VLOOKUP($B$3,INDIRECT($D36&\"!$D$7:$BS$764\"),43,FALSE))","v":""},{"$f":"IF(D36=0,\"\",VLOOKUP($B$3,INDIRECT($D36&\"!$D$7:$BS$764\"),44,FALSE))","v":""},{"$f":"IF(D36=0,\"\",VLOOKUP($B$3,INDIRECT($D36&\"!$D$7:$BS$764\"),56,FALSE))","v":""},{"$f":"IF(D36=0,\"\",VLOOKUP($B$3,INDIRECT($D36&\"!$D$7:$BS$764\"),45,FALSE))","v":""},{"$f":"IF(D36=0,\"\",VLOOKUP($B$3,INDIRECT($D36&\"!$D$7:$BS$764\"),46,FALSE))","v":""},{"$f":"IF(D36=0,\"\",VLOOKUP($B$3,INDIRECT($D36&\"!$D$7:$BS$764\"),47,FALSE))","v":""},{"$f":"IF(D36=0,\"\",VLOOKUP($B$3,INDIRECT($D36&\"!$D$7:$BS$764\"),58,FALSE))","v":""},{"$f":"IF(D36=0,\"\",VLOOKUP($B$3,INDIRECT($D36&\"!$D$7:$BS$764\"),54,FALSE))","v":""},{"$f":"IF(D36=0,\"\",VLOOKUP($B$3,INDIRECT($D36&\"!$D$7:$BS$764\"),49,FALSE))","v":""},{"$f":"IF(D36=0,\"\",VLOOKUP($B$3,INDIRECT($D36&\"!$D$7:$BS$764\"),50,FALSE))","v":""},{"$f":"IF(D36=0,\"\",VLOOKUP($B$3,INDIRECT($D36&\"!$D$7:$BS$764\"),51,FALSE))","v":""},{"$f":"IF(D36=0,\"\",VLOOKUP($B$3,INDIRECT($D36&\"!$D$7:$BS$764\"),52,FALSE))","v":""},{"$f":"IF(D36=0,\"\",VLOOKUP($B$3,INDIRECT($D36&\"!$D$7:$BS$764\"),53,FALSE))","v":""},null,null,"",null,null,"",null,"","",null,"","","","","","",""]
[null,null,{"$f":"IF(J37=\"\",\"\",IF(W37=\"\",\"\",MAX($C$5:C36)+1))","v":""},{"$f":"D36","v":0},"②",null,{"$f":"G36","v":""},null,null,"","","","","","","","","","","","","",null,"00:00:00",null,null,null,"","","","","","","","",null,null,null,null,null,null,null,null,null,null,null,null,null,null,null,null,"",null,null,"",null,"","",null,"","","","","","",""]
[null,null,{"$f":"IF(J38=\"\",\"\",IF(W38=\"\",\"\",MAX($C$5:C37)+1))","v":""},{"$f":"集計表!B22","v":0},"①",null,{"$f":"IF(D38=0,\"\",集計表!D22)","v":""},null,null,"","","","","","","","","","","","","",1,"00:00:00",{"$f":"IF(AND(X38=0,X39=0),\"\",\"翌日時間外あり\")","v":""},null,null,"","","","","","","","",{"$f":"IF(D38=0,\"\",VLOOKUP($B$3,INDIRECT($D38&\"!$D$7:$BS$764\"),42,FALSE))","v":""},{"$f":"IF(D38=0,\"\",VLOOKUP($B$3,INDIRECT($D38&\"!$D$7:$BS$764\"),43,FALSE))","v":""},{"$f":"IF(D38=0,\"\",VLOOKUP($B$3,INDIRECT($D38&\"!$D$7:$BS$764\"),44,FALSE))","v":""},{"$f":"IF(D38=0,\"\",VLOOKUP($B$3,INDIRECT($D38&\"!$D$7:$BS$764\"),56,FALSE))","v":""},{"$f":"IF(D38=0,\"\",VLOOKUP($B$3,INDIRECT($D38&\"!$D$7:$BS$764\"),45,FALSE))","v":""},{"$f":"IF(D38=0,\"\",VLOOKUP($B$3,INDIRECT($D38&\"!$D$7:$BS$764\"),46,FALSE))","v":""},{"$f":"IF(D38=0,\"\",VLOOKUP($B$3,INDIRECT($D38&\"!$D$7:$BS$764\"),47,FALSE))","v":""},{"$f":"IF(D38=0,\"\",VLOOKUP($B$3,INDIRECT($D38&\"!$D$7:$BS$764\"),58,FALSE))","v":""},{"$f":"IF(D38=0,\"\",VLOOKUP($B$3,INDIRECT($D38&\"!$D$7:$BS$764\"),54,FALSE))","v":""},{"$f":"IF(D38=0,\"\",VLOOKUP($B$3,INDIRECT($D38&\"!$D$7:$BS$764\"),49,FALSE))","v":""},{"$f":"IF(D38=0,\"\",VLOOKUP($B$3,INDIRECT($D38&\"!$D$7:$BS$764\"),50,FALSE))","v":""},{"$f":"IF(D38=0,\"\",VLOOKUP($B$3,INDIRECT($D38&\"!$D$7:$BS$764\"),51,FALSE))","v":""},{"$f":"IF(D38=0,\"\",VLOOKUP($B$3,INDIRECT($D38&\"!$D$7:$BS$764\"),52,FALSE))","v":""},{"$f":"IF(D38=0,\"\",VLOOKUP($B$3,INDIRECT($D38&\"!$D$7:$BS$764\"),53,FALSE))","v":""},null,null,"",null,null,"",null,"","",null,"","","","","","",""]
[null,null,{"$f":"IF(J39=\"\",\"\",IF(W39=\"\",\"\",MAX($C$5:C38)+1))","v":""},{"$f":"D38","v":0},"②",null,{"$f":"G38","v":""},null,null,"","","","","","","","","","","","","",null,"00:00:00",null,null,null,"","","","","","","","",null,null,null,null,null,null,null,null,null,null,null,null,null,null,null,null,"",null,null,"",null,"","",null,"","","","","","",""]
[null,null,{"$f":"IF(J40=\"\",\"\",IF(W40=\"\",\"\",MAX($C$5:C39)+1))","v":""},{"$f":"集計表!B23","v":0},"①",null,{"$f":"IF(D40=0,\"\",集計表!D23)","v":""},null,null,"","","","","","","","","","","","","",1,"00:00:00",{"$f":"IF(AND(X40=0,X41=0),\"\",\"翌日時間外あり\")","v":""},null,null,"","","","","","","","",{"$f":"IF(D40=0,\"\",VLOOKUP($B$3,INDIRECT($D40&\"!$D$7:$BS$764\"),42,FALSE))","v":""},{"$f":"IF(D40=0,\"\",VLOOKUP($B$3,INDIRECT($D40&\"!$D$7:$BS$764\"),43,FALSE))","v":""},{"$f":"IF(D40=0,\"\",VLOOKUP($B$3,INDIRECT($D40&\"!$D$7:$BS$764\"),44,FALSE))","v":""},{"$f":"IF(D40=0,\"\",VLOOKUP($B$3,INDIRECT($D40&\"!$D$7:$BS$764\"),56,FALSE))","v":""},{"$f":"IF(D40=0,\"\",VLOOKUP($B$3,INDIRECT($D40&\"!$D$7:$BS$764\"),45,FALSE))","v":""},{"$f":"IF(D40=0,\"\",VLOOKUP($B$3,INDIRECT($D40&\"!$D$7:$BS$764\"),46,FALSE))","v":""},{"$f":"IF(D40=0,\"\",VLOOKUP($B$3,INDIRECT($D40&\"!$D$7:$BS$764\"),47,FALSE))","v":""},{"$f":"IF(D40=0,\"\",VLOOKUP($B$3,INDIRECT($D40&\"!$D$7:$BS$764\"),58,FALSE))","v":""},{"$f":"IF(D40=0,\"\",VLOOKUP($B$3,INDIRECT($D40&\"!$D$7:$BS$764\"),54,FALSE))","v":""},{"$f":"IF(D40=0,\"\",VLOOKUP($B$3,INDIRECT($D40&\"!$D$7:$BS$764\"),49,FALSE))","v":""},{"$f":"IF(D40=0,\"\",VLOOKUP($B$3,INDIRECT($D40&\"!$D$7:$BS$764\"),50,FALSE))","v":""},{"$f":"IF(D40=0,\"\",VLOOKUP($B$3,INDIRECT($D40&\"!$D$7:$BS$764\"),51,FALSE))","v":""},{"$f":"IF(D40=0,\"\",VLOOKUP($B$3,INDIRECT($D40&\"!$D$7:$BS$764\"),52,FALSE))","v":""},{"$f":"IF(D40=0,\"\",VLOOKUP($B$3,INDIRECT($D40&\"!$D$7:$BS$764\"),53,FALSE))","v":""},null,null,"",null,null,"",null,"","",null,"","","","","","",""]
[null,null,{"$f":"IF(J41=\"\",\"\",IF(W41=\"\",\"\",MAX($C$5:C40)+1))","v":""},{"$f":"D40","v":0},"②",null,{"$f":"G40","v":""},null,null,"","","","","","","","","","","","","",null,"00:00:00",null,null,null,"","","","","","","","",null,null,null,null,null,null,null,null,null,null,null,null,null,null,null,null,"",null,null,"",null,"","",null,"","","","","","",""]
[null,null,{"$f":"IF(J42=\"\",\"\",IF(W42=\"\",\"\",MAX($C$5:C41)+1))","v":""},{"$f":"集計表!B24","v":0},"①",null,{"$f":"IF(D42=0,\"\",集計表!D24)","v":""},null,null,"","","","","","","","","","","","","",1,"00:00:00",{"$f":"IF(AND(X42=0,X43=0),\"\",\"翌日時間外あり\")","v":""},null,null,"","","","","","","","",{"$f":"IF(D42=0,\"\",VLOOKUP($B$3,INDIRECT($D42&\"!$D$7:$BS$764\"),42,FALSE))","v":""},{"$f":"IF(D42=0,\"\",VLOOKUP($B$3,INDIRECT($D42&\"!$D$7:$BS$764\"),43,FALSE))","v":""},{"$f":"IF(D42=0,\"\",VLOOKUP($B$3,INDIRECT($D42&\"!$D$7:$BS$764\"),44,FALSE))","v":""},{"$f":"IF(D42=0,\"\",VLOOKUP($B$3,INDIRECT($D42&\"!$D$7:$BS$764\"),56,FALSE))","v":""},{"$f":"IF(D42=0,\"\",VLOOKUP($B$3,INDIRECT($D42&\"!$D$7:$BS$764\"),45,FALSE))","v":""},{"$f":"IF(D42=0,\"\",VLOOKUP($B$3,INDIRECT($D42&\"!$D$7:$BS$764\"),46,FALSE))","v":""},{"$f":"IF(D42=0,\"\",VLOOKUP($B$3,INDIRECT($D42&\"!$D$7:$BS$764\"),47,FALSE))","v":""},{"$f":"IF(D42=0,\"\",VLOOKUP($B$3,INDIRECT($D42&\"!$D$7:$BS$764\"),58,FALSE))","v":""},{"$f":"IF(D42=0,\"\",VLOOKUP($B$3,INDIRECT($D42&\"!$D$7:$BS$764\"),54,FALSE))","v":""},{"$f":"IF(D42=0,\"\",VLOOKUP($B$3,INDIRECT($D42&\"!$D$7:$BS$764\"),49,FALSE))","v":""},{"$f":"IF(D42=0,\"\",VLOOKUP($B$3,INDIRECT($D42&\"!$D$7:$BS$764\"),50,FALSE))","v":""},{"$f":"IF(D42=0,\"\",VLOOKUP($B$3,INDIRECT($D42&\"!$D$7:$BS$764\"),51,FALSE))","v":""},{"$f":"IF(D42=0,\"\",VLOOKUP($B$3,INDIRECT($D42&\"!$D$7:$BS$764\"),52,FALSE))","v":""},{"$f":"IF(D42=0,\"\",VLOOKUP($B$3,INDIRECT($D42&\"!$D$7:$BS$764\"),53,FALSE))","v":""},null,null,"",null,null,"",null,"","",null,"","","","","","",""]
[null,null,{"$f":"IF(J43=\"\",\"\",IF(W43=\"\",\"\",MAX($C$5:C42)+1))","v":""},{"$f":"D42","v":0},"②",null,{"$f":"G42","v":""},null,null,"","","","","","","","","","","","","",null,"00:00:00",null,null,null,"","","","","","","","",null,null,null,null,null,null,null,null,null,null,null,null,null,null,null,null,"",null,null,"",null,"","",null,"","","","","","",""]
[null,null,{"$f":"IF(J44=\"\",\"\",IF(W44=\"\",\"\",MAX($C$5:C43)+1))","v":""},{"$f":"集計表!B25","v":0},"①",null,{"$f":"IF(D44=0,\"\",集計表!D25)","v":""},null,null,"","","","","","","","","","","","","",1,"00:00:00",{"$f":"IF(AND(X44=0,X45=0),\"\",\"翌日時間外あり\")","v":""},null,null,"","","","","","","","",{"$f":"IF(D44=0,\"\",VLOOKUP($B$3,INDIRECT($D44&\"!$D$7:$BS$764\"),42,FALSE))","v":""},{"$f":"IF(D44=0,\"\",VLOOKUP($B$3,INDIRECT($D44&\"!$D$7:$BS$764\"),43,FALSE))","v":""},{"$f":"IF(D44=0,\"\",VLOOKUP($B$3,INDIRECT($D44&\"!$D$7:$BS$764\"),44,FALSE))","v":""},{"$f":"IF(D44=0,\"\",VLOOKUP($B$3,INDIRECT($D44&\"!$D$7:$BS$764\"),56,FALSE))","v":""},{"$f":"IF(D44=0,\"\",VLOOKUP($B$3,INDIRECT($D44&\"!$D$7:$BS$764\"),45,FALSE))","v":""},{"$f":"IF(D44=0,\"\",VLOOKUP($B$3,INDIRECT($D44&\"!$D$7:$BS$764\"),46,FALSE))","v":""},{"$f":"IF(D44=0,\"\",VLOOKUP($B$3,INDIRECT($D44&\"!$D$7:$BS$764\"),47,FALSE))","v":""},{"$f":"IF(D44=0,\"\",VLOOKUP($B$3,INDIRECT($D44&\"!$D$7:$BS$764\"),58,FALSE))","v":""},{"$f":"IF(D44=0,\"\",VLOOKUP($B$3,INDIRECT($D44&\"!$D$7:$BS$764\"),54,FALSE))","v":""},{"$f":"IF(D44=0,\"\",VLOOKUP($B$3,INDIRECT($D44&\"!$D$7:$BS$764\"),49,FALSE))","v":""},{"$f":"IF(D44=0,\"\",VLOOKUP($B$3,INDIRECT($D44&\"!$D$7:$BS$764\"),50,FALSE))","v":""},{"$f":"IF(D44=0,\"\",VLOOKUP($B$3,INDIRECT($D44&\"!$D$7:$BS$764\"),51,FALSE))","v":""},{"$f":"IF(D44=0,\"\",VLOOKUP($B$3,INDIRECT($D44&\"!$D$7:$BS$764\"),52,FALSE))","v":""},{"$f":"IF(D44=0,\"\",VLOOKUP($B$3,INDIRECT($D44&\"!$D$7:$BS$764\"),53,FALSE))","v":""},null,null,"",null,null,"",null,"","",null,"","","","","","",""]
[null,null,{"$f":"IF(J45=\"\",\"\",IF(W45=\"\",\"\",MAX($C$5:C44)+1))","v":""},{"$f":"D44","v":0},"②",null,{"$f":"G44","v":""},null,null,"","","","","","","","","","","","","",null,{"$f":"IF(D45=0,0,VLOOKUP(TEXT($J$3&$E45,),INDIRECT($D45&\"!G9:BS764\"),11,0))","v":"00:00:00"},null,null,null,"","","","","","","","",null,null,null,null,null,null,null,null,null,null,null,null,null,null,null,null,"",null,null,"",null,"","",null,"","","","","","",""]
[null,null,null,null,null,null,null,null,null,null,null,null,null,null,null,null,null,null,null,null,null,"↑"]
[null,null,null,null,null,null,null,null,null,null,null,null,null,null,null,null,null,null,null,null,null,null,null,null,null,null,null,null,null,null,null,null,null,null,null,null,null,null,null,null,null,null,null,null,null,null,null,null,null,null,null,null,"  時間外勤務、休日勤務及び夜間勤務命令簿"]
[null,null,null,null,null,null,null,null,null,null,null,null,null,null,null,null,null,null,null,null,null,null,null,null,null,null,null,null,null,null,null,null,null,null,null,null,null,null,null,null,null,null,null,null,null,null,null,null,null,null,null,null,"  時間外勤務代休時間の勤務命令簿"]
[]
[null,null,null,null,null,null,null,null,null,null,null,null,null,null,null,null,null,null,null,null,null,null,null,null,null,null,null,null,null,null,null,null,null,null,null,null,null,null,null,null,null,null,null,null,null,null,null,null,null,null,null,null,"実　施\n年月日",{"$f":"G3","v":"2023-01-01"},null,null,null,null,null,"所属長",null,null,null,null,null,"直接監督責任者印"]
[null,null,null,null,null,null,null,null,null,null,null,null,null,null,null,null,null,null,null,null,null,null,null,null,null,null,null,null,null,null,null,null,null,null,null,null,null,null,null,null,null,null,null,null,null,null,null,null,null,null,null,null,null,null,null,null,null,null,null,"命令印",null,null,"確認印"]
[null,null,null,null,null,null,null,null,null,null,null,null,null,null,null,null,null,null,null,null,null,null,null,null,null,null,null,null,null,null,null,null,null,null,null,null,null,null,null,null,null,null,null,null,null,null,null,null,null,null,null,null,"所属部局課（室）",null,{"$f":"L2","v":"●●●立●●●学校"}]
[null,null,null,null,null,null,null,null,null,null,null,null,null,null,null,null,null,null,null,null,null,null,null,null,null,null,null,null,null,null,null,null,null,null,null,null,null,null,null,null,null,null,null,null,null,null,null,null,null,null,null,null,"氏　名",null,"勤務の内容","勤務を命じた時間",null,"通常",null,"時間外勤務",null,null,null,null,"休日\n勤務","夜間\n勤務","時間外勤務代休時間の勤務","備　　考"]
[null,null,null,null,null,null,null,null,null,null,null,null,null,null,null,null,null,null,null,null,null,null,null,null,null,null,null,null,null,null,null,null,null,null,null,null,null,null,null,null,null,null,null,null,null,null,null,null,null,null,null,null,null,null,null,null,null,"特例",null,100,125,135,150,160]
[null,null,null,null,null,null,null,null,null,null,null,null,null,null,null,null,null,null,null,null,null,null,null,null,null,null,null,null,null,null,null,null,null,null,null,null,null,null,null,null,null,null,null,null,null,null,null,null,null,null,null,null,null,null,null,null,null,"大規模\n災害等",null,100,100,100,100,100]
[null,null,null,null,null,null,null,null,null,null,null,null,null,null,null,null,null,null,null,null,null,null,null,null,null,null,null,null,null,null,null,null,null,null,null,null,null,null,null,null,null,null,null,null,null,null,null,null,null,null,1,null,{"$f":"IF(VLOOKUP($AY56,$AY$6:$BP$25,2,0)=\"\",\"\",VLOOKUP($AY56,$AY$6:$BP$25,2,0))","v":""},null,{"$f":"IF($BA56=\"\",\"\",VLOOKUP($AY56,$AY$6:$BP$25,5,0))","v":""},{"$f":"IF($BA56=\"\",\"\",VLOOKUP($AY56,$AY$6:$BP$25,7,0))","v":""},null,{"$f":"IF($BA56=\"\",\"\",(VLOOKUP($AY56,$AY$6:$BP$25,12,0)))","v":""},{"$f":"IF($BA56=\"\",\"\",(VLOOKUP($AY56,$AY$6:$BP$25,13,0)))","v":""},null,null,null,null,null,null,null,null,{"$f":"IF($BA56=\"\",\"\",(VLOOKUP($AY56,$AY$6:$BP$25,18,0)))","v":""}]
[null,null,null,null,null,null,null,null,null,null,null,null,null,null,null,null,null,null,null,null,null,null,null,null,null,null,null,null,null,null,null,null,null,null,null,null,null,null,null,null,null,null,null,null,null,null,null,null,null,null,null,null,null,null,null,{"$f":"IF($BA56=\"\",\"\",(VLOOKUP($AY56,$AY$6:$BP$25,10,0)))","v":""},{"$f":"IF($BA56=\"\",\"\",(VLOOKUP($AY56,$AY$6:$BP$25,11,0)))","v":""},{"$f":"IF($BA56=\"\",\"\",(VLOOKUP($AY56,$AY$6:$BP$25,14,0)))","v":""},{"$f":"IF($BA56=\"\",\"\",(VLOOKUP($AY56,$AY$6:$BP$25,15,0)))","v":""}]
[null,null,null,null,null,null,null,null,null,null,null,null,null,null,null,null,null,null,null,null,null,null,null,null,null,null,null,null,null,null,null,null,null,null,null,null,null,null,null,null,null,null,null,null,null,null,null,null,null,null,null,null,null,null,null,{"$f":"IF($BA56=\"\",\"\",VLOOKUP($AY56,$AY$6:$BP$25,8,0))","v":""},null,{"$f":"IF($BA56=\"\",\"\",(VLOOKUP($AY56,$AY$6:$BP$25,16,0)))","v":""},{"$f":"IF($BA56=\"\",\"\",(VLOOKUP($AY56,$AY$6:$BP$25,17,0)))","v":""}]
[null,null,null,null,null,null,null,null,null,null,null,null,null,null,null,null,null,null,null,null,null,null,null,null,null,null,null,null,null,null,null,null,null,null,null,null,null,null,null,null,null,null,null,null,null,null,null,null,null,null,2,null,{"$f":"IF(VLOOKUP($AY59,$AY$6:$BP$25,2,0)=\"\",\"\",VLOOKUP($AY59,$AY$6:$BP$25,2,0))","v":""},null,{"$f":"IF($BA59=\"\",\"\",VLOOKUP($AY59,$AY$6:$BP$25,5,0))","v":""},{"$f":"IF($BA59=\"\",\"\",VLOOKUP($AY59,$AY$6:$BP$25,7,0))","v":""},null,{"$f":"IF($BA59=\"\",\"\",(VLOOKUP($AY59,$AY$6:$BP$25,12,0)))","v":""},{"$f":"IF($BA59=\"\",\"\",(VLOOKUP($AY59,$AY$6:$BP$25,13,0)))","v":""},null,null,null,null,null,null,null,null,{"$f":"IF($BA59=\"\",\"\",(VLOOKUP($AY59,$AY$6:$BP$25,18,0)))","v":""}]
[null,null,null,null,null,null,null,null,null,null,null,null,null,null,null,null,null,null,null,null,null,null,null,null,null,null,null,null,null,null,null,null,null,null,null,null,null,null,null,null,null,null,null,null,null,null,null,null,null,null,null,null,null,null,null,{"$f":"IF($BA59=\"\",\"\",(VLOOKUP($AY59,$AY$6:$BP$25,10,0)))","v":""},{"$f":"IF($BA59=\"\",\"\",(VLOOKUP($AY59,$AY$6:$BP$25,11,0)))","v":""},{"$f":"IF($BA59=\"\",\"\",(VLOOKUP($AY59,$AY$6:$BP$25,14,0)))","v":""},{"$f":"IF($BA59=\"\",\"\",(VLOOKUP($AY59,$AY$6:$BP$25,15,0)))","v":""}]
[null,null,null,null,null,null,null,null,null,null,null,null,null,null,null,null,null,null,null,null,null,null,null,null,null,null,null,null,null,null,null,null,null,null,null,null,null,null,null,null,null,null,null,null,null,null,null,null,null,null,null,null,null,null,null,{"$f":"IF($BA59=\"\",\"\",VLOOKUP($AY59,$AY$6:$BP$25,8,0))","v":""},null,{"$f":"IF($BA59=\"\",\"\",(VLOOKUP($AY59,$AY$6:$BP$25,16,0)))","v":""},{"$f":"IF($BA59=\"\",\"\",(VLOOKUP($AY59,$AY$6:$BP$25,17,0)))","v":""}]
[null,null,null,null,null,null,null,null,null,null,null,null,null,null,null,null,null,null,null,null,null,null,null,null,null,null,null,null,null,null,null,null,null,null,null,null,null,null,null,null,null,null,null,null,null,null,null,null,null,null,3,null,{"$f":"IF(VLOOKUP($AY62,$AY$6:$BP$25,2,0)=\"\",\"\",VLOOKUP($AY62,$AY$6:$BP$25,2,0))","v":""},null,{"$f":"IF($BA62=\"\",\"\",VLOOKUP($AY62,$AY$6:$BP$25,5,0))","v":""},{"$f":"IF($BA62=\"\",\"\",VLOOKUP($AY62,$AY$6:$BP$25,7,0))","v":""},null,{"$f":"IF($BA62=\"\",\"\",(VLOOKUP($AY62,$AY$6:$BP$25,12,0)))","v":""},{"$f":"IF($BA62=\"\",\"\",(VLOOKUP($AY62,$AY$6:$BP$25,13,0)))","v":""},null,null,null,null,null,null,null,null,{"$f":"IF($BA62=\"\",\"\",(VLOOKUP($AY62,$AY$6:$BP$25,18,0)))","v":""}]
[null,null,null,null,null,null,null,null,null,null,null,null,null,null,null,null,null,null,null,null,null,null,null,null,null,null,null,null,null,null,null,null,null,null,null,null,null,null,null,null,null,null,null,null,null,null,null,null,null,null,null,null,null,null,null,{"$f":"IF($BA62=\"\",\"\",(VLOOKUP($AY62,$AY$6:$BP$25,10,0)))","v":""},{"$f":"IF($BA62=\"\",\"\",(VLOOKUP($AY62,$AY$6:$BP$25,11,0)))","v":""},{"$f":"IF($BA62=\"\",\"\",(VLOOKUP($AY62,$AY$6:$BP$25,14,0)))","v":""},{"$f":"IF($BA62=\"\",\"\",(VLOOKUP($AY62,$AY$6:$BP$25,15,0)))","v":""}]
[null,null,null,null,null,null,null,null,null,null,null,null,null,null,null,null,null,null,null,null,null,null,null,null,null,null,null,null,null,null,null,null,null,null,null,null,null,null,null,null,null,null,null,null,null,null,null,null,null,null,null,null,null,null,null,{"$f":"IF($BA62=\"\",\"\",VLOOKUP($AY62,$AY$6:$BP$25,8,0))","v":""},null,{"$f":"IF($BA62=\"\",\"\",(VLOOKUP($AY62,$AY$6:$BP$25,16,0)))","v":""},{"$f":"IF($BA62=\"\",\"\",(VLOOKUP($AY62,$AY$6:$BP$25,17,0)))","v":""}]
[null,null,null,null,null,null,null,null,null,null,null,null,null,null,null,null,null,null,null,null,null,null,null,null,null,null,null,null,null,null,null,null,null,null,null,null,null,null,null,null,null,null,null,null,null,null,null,null,null,null,4,null,{"$f":"IF(VLOOKUP($AY65,$AY$6:$BP$25,2,0)=\"\",\"\",VLOOKUP($AY65,$AY$6:$BP$25,2,0))","v":""},null,{"$f":"IF($BA65=\"\",\"\",VLOOKUP($AY65,$AY$6:$BP$25,5,0))","v":""},{"$f":"IF($BA65=\"\",\"\",VLOOKUP($AY65,$AY$6:$BP$25,7,0))","v":""},null,{"$f":"IF($BA65=\"\",\"\",(VLOOKUP($AY65,$AY$6:$BP$25,12,0)))","v":""},{"$f":"IF($BA65=\"\",\"\",(VLOOKUP($AY65,$AY$6:$BP$25,13,0)))","v":""},null,null,null,null,null,null,null,null,{"$f":"IF($BA65=\"\",\"\",(VLOOKUP($AY65,$AY$6:$BP$25,18,0)))","v":""}]
[null,null,null,null,null,null,null,null,null,null,null,null,null,null,null,null,null,null,null,null,null,null,null,null,null,null,null,null,null,null,null,null,null,null,null,null,null,null,null,null,null,null,null,null,null,null,null,null,null,null,null,null,null,null,null,{"$f":"IF($BA65=\"\",\"\",(VLOOKUP($AY65,$AY$6:$BP$25,10,0)))","v":""},{"$f":"IF($BA65=\"\",\"\",(VLOOKUP($AY65,$AY$6:$BP$25,11,0)))","v":""},{"$f":"IF($BA65=\"\",\"\",(VLOOKUP($AY65,$AY$6:$BP$25,14,0)))","v":""},{"$f":"IF($BA65=\"\",\"\",(VLOOKUP($AY65,$AY$6:$BP$25,15,0)))","v":""}]
[null,null,null,null,null,null,null,null,null,null,null,null,null,null,null,null,null,null,null,null,null,null,null,null,null,null,null,null,null,null,null,null,null,null,null,null,null,null,null,null,null,null,null,null,null,null,null,null,null,null,null,null,null,null,null,{"$f":"IF($BA65=\"\",\"\",VLOOKUP($AY65,$AY$6:$BP$25,8,0))","v":""},null,{"$f":"IF($BA65=\"\",\"\",(VLOOKUP($AY65,$AY$6:$BP$25,16,0)))","v":""},{"$f":"IF($BA65=\"\",\"\",(VLOOKUP($AY65,$AY$6:$BP$25,17,0)))","v":""}]
[null,null,null,null,null,null,null,null,null,null,null,null,null,null,null,null,null,null,null,null,null,null,null,null,null,null,null,null,null,null,null,null,null,null,null,null,null,null,null,null,null,null,null,null,null,null,null,null,null,null,5,null,{"$f":"IF(VLOOKUP($AY68,$AY$6:$BP$25,2,0)=\"\",\"\",VLOOKUP($AY68,$AY$6:$BP$25,2,0))","v":""},null,{"$f":"IF($BA68=\"\",\"\",VLOOKUP($AY68,$AY$6:$BP$25,5,0))","v":""},{"$f":"IF($BA68=\"\",\"\",VLOOKUP($AY68,$AY$6:$BP$25,7,0))","v":""},null,{"$f":"IF($BA68=\"\",\"\",(VLOOKUP($AY68,$AY$6:$BP$25,12,0)))","v":""},{"$f":"IF($BA68=\"\",\"\",(VLOOKUP($AY68,$AY$6:$BP$25,13,0)))","v":""},null,null,null,null,null,null,null,null,{"$f":"IF($BA68=\"\",\"\",(VLOOKUP($AY68,$AY$6:$BP$25,18,0)))","v":""}]
[null,null,null,null,null,null,null,null,null,null,null,null,null,null,null,null,null,null,null,null,null,null,null,null,null,null,null,null,null,null,null,null,null,null,null,null,null,null,null,null,null,null,null,null,null,null,null,null,null,null,null,null,null,null,null,{"$f":"IF($BA68=\"\",\"\",(VLOOKUP($AY68,$AY$6:$BP$25,10,0)))","v":""},{"$f":"IF($BA68=\"\",\"\",(VLOOKUP($AY68,$AY$6:$BP$25,11,0)))","v":""},{"$f":"IF($BA68=\"\",\"\",(VLOOKUP($AY68,$AY$6:$BP$25,14,0)))","v":""},{"$f":"IF($BA68=\"\",\"\",(VLOOKUP($AY68,$AY$6:$BP$25,15,0)))","v":""}]
[null,null,null,null,null,null,null,null,null,null,null,null,null,null,null,null,null,null,null,null,null,null,null,null,null,null,null,null,null,null,null,null,null,null,null,null,null,null,null,null,null,null,null,null,null,null,null,null,null,null,null,null,null,null,null,{"$f":"IF($BA68=\"\",\"\",VLOOKUP($AY68,$AY$6:$BP$25,8,0))","v":""},null,{"$f":"IF($BA68=\"\",\"\",(VLOOKUP($AY68,$AY$6:$BP$25,16,0)))","v":""},{"$f":"IF($BA68=\"\",\"\",(VLOOKUP($AY68,$AY$6:$BP$25,17,0)))","v":""}]
[null,null,null,null,null,null,null,null,null,null,null,null,null,null,null,null,null,null,null,null,null,null,null,null,null,null,null,null,null,null,null,null,null,null,null,null,null,null,null,null,null,null,null,null,null,null,null,null,null,null,6,null,{"$f":"IF(VLOOKUP($AY71,$AY$6:$BP$25,2,0)=\"\",\"\",VLOOKUP($AY71,$AY$6:$BP$25,2,0))","v":""},null,{"$f":"IF($BA71=\"\",\"\",VLOOKUP($AY71,$AY$6:$BP$25,5,0))","v":""},{"$f":"IF($BA71=\"\",\"\",VLOOKUP($AY71,$AY$6:$BP$25,7,0))","v":""},null,{"$f":"IF($BA71=\"\",\"\",(VLOOKUP($AY71,$AY$6:$BP$25,12,0)))","v":""},{"$f":"IF($BA71=\"\",\"\",(VLOOKUP($AY71,$AY$6:$BP$25,13,0)))","v":""},null,null,null,null,null,null,null,null,{"$f":"IF($BA71=\"\",\"\",(VLOOKUP($AY71,$AY$6:$BP$25,18,0)))","v":""}]
[null,null,null,null,null,null,null,null,null,null,null,null,null,null,null,null,null,null,null,null,null,null,null,null,null,null,null,null,null,null,null,null,null,null,null,null,null,null,null,null,null,null,null,null,null,null,null,null,null,null,null,null,null,null,null,{"$f":"IF($BA71=\"\",\"\",(VLOOKUP($AY71,$AY$6:$BP$25,10,0)))","v":""},{"$f":"IF($BA71=\"\",\"\",(VLOOKUP($AY71,$AY$6:$BP$25,11,0)))","v":""},{"$f":"IF($BA71=\"\",\"\",(VLOOKUP($AY71,$AY$6:$BP$25,14,0)))","v":""},{"$f":"IF($BA71=\"\",\"\",(VLOOKUP($AY71,$AY$6:$BP$25,15,0)))","v":""}]
[null,null,null,null,null,null,null,null,null,null,null,null,null,null,null,null,null,null,null,null,null,null,null,null,null,null,null,null,null,null,null,null,null,null,null,null,null,null,null,null,null,null,null,null,null,null,null,null,null,null,null,null,null,null,null,{"$f":"IF($BA71=\"\",\"\",VLOOKUP($AY71,$AY$6:$BP$25,8,0))","v":""},null,{"$f":"IF($BA71=\"\",\"\",(VLOOKUP($AY71,$AY$6:$BP$25,16,0)))","v":""},{"$f":"IF($BA71=\"\",\"\",(VLOOKUP($AY71,$AY$6:$BP$25,17,0)))","v":""}]
[null,null,null,null,null,null,null,null,null,null,null,null,null,null,null,null,null,null,null,null,null,null,null,null,null,null,null,null,null,null,null,null,null,null,null,null,null,null,null,null,null,null,null,null,null,null,null,null,null,null,7,null,{"$f":"IF(VLOOKUP($AY74,$AY$6:$BP$25,2,0)=\"\",\"\",VLOOKUP($AY74,$AY$6:$BP$25,2,0))","v":""},null,{"$f":"IF($BA74=\"\",\"\",VLOOKUP($AY74,$AY$6:$BP$25,5,0))","v":""},{"$f":"IF($BA74=\"\",\"\",VLOOKUP($AY74,$AY$6:$BP$25,7,0))","v":""},null,{"$f":"IF($BA74=\"\",\"\",(VLOOKUP($AY74,$AY$6:$BP$25,12,0)))","v":""},{"$f":"IF($BA74=\"\",\"\",(VLOOKUP($AY74,$AY$6:$BP$25,13,0)))","v":""},null,null,null,null,null,null,null,null,{"$f":"IF($BA74=\"\",\"\",(VLOOKUP($AY74,$AY$6:$BP$25,18,0)))","v":""}]
[null,null,null,null,null,null,null,null,null,null,null,null,null,null,null,null,null,null,null,null,null,null,null,null,null,null,null,null,null,null,null,null,null,null,null,null,null,null,null,null,null,null,null,null,null,null,null,null,null,null,null,null,null,null,null,{"$f":"IF($BA74=\"\",\"\",(VLOOKUP($AY74,$AY$6:$BP$25,10,0)))","v":""},{"$f":"IF($BA74=\"\",\"\",(VLOOKUP($AY74,$AY$6:$BP$25,11,0)))","v":""},{"$f":"IF($BA74=\"\",\"\",(VLOOKUP($AY74,$AY$6:$BP$25,14,0)))","v":""},{"$f":"IF($BA74=\"\",\"\",(VLOOKUP($AY74,$AY$6:$BP$25,15,0)))","v":""}]
[null,null,null,null,null,null,null,null,null,null,null,null,null,null,null,null,null,null,null,null,null,null,null,null,null,null,null,null,null,null,null,null,null,null,null,null,null,null,null,null,null,null,null,null,null,null,null,null,null,null,null,null,null,null,null,{"$f":"IF($BA74=\"\",\"\",VLOOKUP($AY74,$AY$6:$BP$25,8,0))","v":""},null,{"$f":"IF($BA74=\"\",\"\",(VLOOKUP($AY74,$AY$6:$BP$25,16,0)))","v":""},{"$f":"IF($BA74=\"\",\"\",(VLOOKUP($AY74,$AY$6:$BP$25,17,0)))","v":""}]
[null,null,null,null,null,null,null,null,null,null,null,null,null,null,null,null,null,null,null,null,null,null,null,null,null,null,null,null,null,null,null,null,null,null,null,null,null,null,null,null,null,null,null,null,null,null,null,null,null,null,8,null,{"$f":"IF(VLOOKUP($AY77,$AY$6:$BP$25,2,0)=\"\",\"\",VLOOKUP($AY77,$AY$6:$BP$25,2,0))","v":""},null,{"$f":"IF($BA77=\"\",\"\",VLOOKUP($AY77,$AY$6:$BP$25,5,0))","v":""},{"$f":"IF($BA77=\"\",\"\",VLOOKUP($AY77,$AY$6:$BP$25,7,0))","v":""},null,{"$f":"IF($BA77=\"\",\"\",(VLOOKUP($AY77,$AY$6:$BP$25,12,0)))","v":""},{"$f":"IF($BA77=\"\",\"\",(VLOOKUP($AY77,$AY$6:$BP$25,13,0)))","v":""},null,null,null,null,null,null,null,null,{"$f":"IF($BA77=\"\",\"\",(VLOOKUP($AY77,$AY$6:$BP$25,18,0)))","v":""}]
[null,null,null,null,null,null,null,null,null,null,null,null,null,null,null,null,null,null,null,null,null,null,null,null,null,null,null,null,null,null,null,null,null,null,null,null,null,null,null,null,null,null,null,null,null,null,null,null,null,null,null,null,null,null,null,{"$f":"IF($BA77=\"\",\"\",(VLOOKUP($AY77,$AY$6:$BP$25,10,0)))","v":""},{"$f":"IF($BA77=\"\",\"\",(VLOOKUP($AY77,$AY$6:$BP$25,11,0)))","v":""},{"$f":"IF($BA77=\"\",\"\",(VLOOKUP($AY77,$AY$6:$BP$25,14,0)))","v":""},{"$f":"IF($BA77=\"\",\"\",(VLOOKUP($AY77,$AY$6:$BP$25,15,0)))","v":""}]
[null,null,null,null,null,null,null,null,null,null,null,null,null,null,null,null,null,null,null,null,null,null,null,null,null,null,null,null,null,null,null,null,null,null,null,null,null,null,null,null,null,null,null,null,null,null,null,null,null,null,null,null,null,null,null,{"$f":"IF($BA77=\"\",\"\",VLOOKUP($AY77,$AY$6:$BP$25,8,0))","v":""},null,{"$f":"IF($BA77=\"\",\"\",(VLOOKUP($AY77,$AY$6:$BP$25,16,0)))","v":""},{"$f":"IF($BA77=\"\",\"\",(VLOOKUP($AY77,$AY$6:$BP$25,17,0)))","v":""}]
[null,null,null,null,null,null,null,null,null,null,null,null,null,null,null,null,null,null,null,null,null,null,null,null,null,null,null,null,null,null,null,null,null,null,null,null,null,null,null,null,null,null,null,null,null,null,null,null,null,null,9,null,{"$f":"IF(VLOOKUP($AY80,$AY$6:$BP$25,2,0)=\"\",\"\",VLOOKUP($AY80,$AY$6:$BP$25,2,0))","v":""},null,{"$f":"IF($BA80=\"\",\"\",VLOOKUP($AY80,$AY$6:$BP$25,5,0))","v":""},{"$f":"IF($BA80=\"\",\"\",VLOOKUP($AY80,$AY$6:$BP$25,7,0))","v":""},null,{"$f":"IF($BA80=\"\",\"\",(VLOOKUP($AY80,$AY$6:$BP$25,12,0)))","v":""},{"$f":"IF($BA80=\"\",\"\",(VLOOKUP($AY80,$AY$6:$BP$25,13,0)))","v":""},null,null,null,null,null,null,null,null,{"$f":"IF($BA80=\"\",\"\",(VLOOKUP($AY80,$AY$6:$BP$25,18,0)))","v":""}]
[null,null,null,null,null,null,null,null,null,null,null,null,null,null,null,null,null,null,null,null,null,null,null,null,null,null,null,null,null,null,null,null,null,null,null,null,null,null,null,null,null,null,null,null,null,null,null,null,null,null,null,null,null,null,null,{"$f":"IF($BA80=\"\",\"\",(VLOOKUP($AY80,$AY$6:$BP$25,10,0)))","v":""},{"$f":"IF($BA80=\"\",\"\",(VLOOKUP($AY80,$AY$6:$BP$25,11,0)))","v":""},{"$f":"IF($BA80=\"\",\"\",(VLOOKUP($AY80,$AY$6:$BP$25,14,0)))","v":""},{"$f":"IF($BA80=\"\",\"\",(VLOOKUP($AY80,$AY$6:$BP$25,15,0)))","v":""}]
[null,null,null,null,null,null,null,null,null,null,null,null,null,null,null,null,null,null,null,null,null,null,null,null,null,null,null,null,null,null,null,null,null,null,null,null,null,null,null,null,null,null,null,null,null,null,null,null,null,null,null,null,null,null,null,{"$f":"IF($BA80=\"\",\"\",VLOOKUP($AY80,$AY$6:$BP$25,8,0))","v":""},null,{"$f":"IF($BA80=\"\",\"\",(VLOOKUP($AY80,$AY$6:$BP$25,16,0)))","v":""},{"$f":"IF($BA80=\"\",\"\",(VLOOKUP($AY80,$AY$6:$BP$25,17,0)))","v":""}]
[null,null,null,null,null,null,null,null,null,null,null,null,null,null,null,null,null,null,null,null,null,null,null,null,null,null,null,null,null,null,null,null,null,null,null,null,null,null,null,null,null,null,null,null,null,null,null,null,null,null,10,null,{"$f":"IF(VLOOKUP($AY83,$AY$6:$BP$25,2,0)=\"\",\"\",VLOOKUP($AY83,$AY$6:$BP$25,2,0))","v":""},null,{"$f":"IF($BA83=\"\",\"\",VLOOKUP($AY83,$AY$6:$BP$25,5,0))","v":""},{"$f":"IF($BA83=\"\",\"\",VLOOKUP($AY83,$AY$6:$BP$25,7,0))","v":""},null,{"$f":"IF($BA83=\"\",\"\",(VLOOKUP($AY83,$AY$6:$BP$25,12,0)))","v":""},{"$f":"IF($BA83=\"\",\"\",(VLOOKUP($AY83,$AY$6:$BP$25,13,0)))","v":""},null,null,null,null,null,null,null,null,{"$f":"IF($BA83=\"\",\"\",(VLOOKUP($AY83,$AY$6:$BP$25,18,0)))","v":""}]
[null,null,null,null,null,null,null,null,null,null,null,null,null,null,null,null,null,null,null,null,null,null,null,null,null,null,null,null,null,null,null,null,null,null,null,null,null,null,null,null,null,null,null,null,null,null,null,null,null,null,null,null,null,null,null,{"$f":"IF($BA83=\"\",\"\",(VLOOKUP($AY83,$AY$6:$BP$25,10,0)))","v":""},{"$f":"IF($BA83=\"\",\"\",(VLOOKUP($AY83,$AY$6:$BP$25,11,0)))","v":""},{"$f":"IF($BA83=\"\",\"\",(VLOOKUP($AY83,$AY$6:$BP$25,14,0)))","v":""},{"$f":"IF($BA83=\"\",\"\",(VLOOKUP($AY83,$AY$6:$BP$25,15,0)))","v":""}]
[null,null,null,null,null,null,null,null,null,null,null,null,null,null,null,null,null,null,null,null,null,null,null,null,null,null,null,null,null,null,null,null,null,null,null,null,null,null,null,null,null,null,null,null,null,null,null,null,null,null,null,null,null,null,null,{"$f":"IF($BA83=\"\",\"\",VLOOKUP($AY83,$AY$6:$BP$25,8,0))","v":""},null,{"$f":"IF($BA83=\"\",\"\",(VLOOKUP($AY83,$AY$6:$BP$25,16,0)))","v":""},{"$f":"IF($BA83=\"\",\"\",(VLOOKUP($AY83,$AY$6:$BP$25,17,0)))","v":""}]
[null,null,null,null,null,null,null,null,null,null,null,null,null,null,null,null,null,null,null,null,null,null,null,null,null,null,null,null,null,null,null,null,null,null,null,null,null,null,null,null,null,null,null,null,null,null,null,null,null,null,11,null,{"$f":"IF(VLOOKUP($AY86,$AY$6:$BP$25,2,0)=\"\",\"\",VLOOKUP($AY86,$AY$6:$BP$25,2,0))","v":""},null,{"$f":"IF($BA86=\"\",\"\",VLOOKUP($AY86,$AY$6:$BP$25,5,0))","v":""},{"$f":"IF($BA86=\"\",\"\",VLOOKUP($AY86,$AY$6:$BP$25,7,0))","v":""},null,{"$f":"IF($BA86=\"\",\"\",(VLOOKUP($AY86,$AY$6:$BP$25,12,0)))","v":""},{"$f":"IF($BA86=\"\",\"\",(VLOOKUP($AY86,$AY$6:$BP$25,13,0)))","v":""},null,null,null,null,null,null,null,null,{"$f":"IF($BA86=\"\",\"\",(VLOOKUP($AY86,$AY$6:$BP$25,18,0)))","v":""}]
[null,null,null,null,null,null,null,null,null,null,null,null,null,null,null,null,null,null,null,null,null,null,null,null,null,null,null,null,null,null,null,null,null,null,null,null,null,null,null,null,null,null,null,null,null,null,null,null,null,null,null,null,null,null,null,{"$f":"IF($BA86=\"\",\"\",(VLOOKUP($AY86,$AY$6:$BP$25,10,0)))","v":""},{"$f":"IF($BA86=\"\",\"\",(VLOOKUP($AY86,$AY$6:$BP$25,11,0)))","v":""},{"$f":"IF($BA86=\"\",\"\",(VLOOKUP($AY86,$AY$6:$BP$25,14,0)))","v":""},{"$f":"IF($BA86=\"\",\"\",(VLOOKUP($AY86,$AY$6:$BP$25,15,0)))","v":""}]
[null,null,null,null,null,null,null,null,null,null,null,null,null,null,null,null,null,null,null,null,null,null,null,null,null,null,null,null,null,null,null,null,null,null,null,null,null,null,null,null,null,null,null,null,null,null,null,null,null,null,null,null,null,null,null,{"$f":"IF($BA86=\"\",\"\",VLOOKUP($AY86,$AY$6:$BP$25,8,0))","v":""},null,{"$f":"IF($BA86=\"\",\"\",(VLOOKUP($AY86,$AY$6:$BP$25,16,0)))","v":""},{"$f":"IF($BA86=\"\",\"\",(VLOOKUP($AY86,$AY$6:$BP$25,17,0)))","v":""}]
[null,null,null,null,null,null,null,null,null,null,null,null,null,null,null,null,null,null,null,null,null,null,null,null,null,null,null,null,null,null,null,null,null,null,null,null,null,null,null,null,null,null,null,null,null,null,null,null,null,null,12,null,{"$f":"IF(VLOOKUP($AY89,$AY$6:$BP$25,2,0)=\"\",\"\",VLOOKUP($AY89,$AY$6:$BP$25,2,0))","v":""},null,{"$f":"IF($BA89=\"\",\"\",VLOOKUP($AY89,$AY$6:$BP$25,5,0))","v":""},{"$f":"IF($BA89=\"\",\"\",VLOOKUP($AY89,$AY$6:$BP$25,7,0))","v":""},null,{"$f":"IF($BA89=\"\",\"\",(VLOOKUP($AY89,$AY$6:$BP$25,12,0)))","v":""},{"$f":"IF($BA89=\"\",\"\",(VLOOKUP($AY89,$AY$6:$BP$25,13,0)))","v":""},null,null,null,null,null,null,null,null,{"$f":"IF($BA89=\"\",\"\",(VLOOKUP($AY89,$AY$6:$BP$25,18,0)))","v":""}]
[null,null,null,null,null,null,null,null,null,null,null,null,null,null,null,null,null,null,null,null,null,null,null,null,null,null,null,null,null,null,null,null,null,null,null,null,null,null,null,null,null,null,null,null,null,null,null,null,null,null,null,null,null,null,null,{"$f":"IF($BA89=\"\",\"\",(VLOOKUP($AY89,$AY$6:$BP$25,10,0)))","v":""},{"$f":"IF($BA89=\"\",\"\",(VLOOKUP($AY89,$AY$6:$BP$25,11,0)))","v":""},{"$f":"IF($BA89=\"\",\"\",(VLOOKUP($AY89,$AY$6:$BP$25,14,0)))","v":""},{"$f":"IF($BA89=\"\",\"\",(VLOOKUP($AY89,$AY$6:$BP$25,15,0)))","v":""}]
[null,null,null,null,null,null,null,null,null,null,null,null,null,null,null,null,null,null,null,null,null,null,null,null,null,null,null,null,null,null,null,null,null,null,null,null,null,null,null,null,null,null,null,null,null,null,null,null,null,null,null,null,null,null,null,{"$f":"IF($BA89=\"\",\"\",VLOOKUP($AY89,$AY$6:$BP$25,8,0))","v":""},null,{"$f":"IF($BA89=\"\",\"\",(VLOOKUP($AY89,$AY$6:$BP$25,16,0)))","v":""},{"$f":"IF($BA89=\"\",\"\",(VLOOKUP($AY89,$AY$6:$BP$25,17,0)))","v":""}]
[null,null,null,null,null,null,null,null,null,null,null,null,null,null,null,null,null,null,null,null,null,null,null,null,null,null,null,null,null,null,null,null,null,null,null,null,null,null,null,null,null,null,null,null,null,null,null,null,null,null,13,null,{"$f":"IF(VLOOKUP($AY92,$AY$6:$BP$25,2,0)=\"\",\"\",VLOOKUP($AY92,$AY$6:$BP$25,2,0))","v":""},null,{"$f":"IF($BA92=\"\",\"\",VLOOKUP($AY92,$AY$6:$BP$25,5,0))","v":""},{"$f":"IF($BA92=\"\",\"\",VLOOKUP($AY92,$AY$6:$BP$25,7,0))","v":""},null,{"$f":"IF($BA92=\"\",\"\",(VLOOKUP($AY92,$AY$6:$BP$25,12,0)))","v":""},{"$f":"IF($BA92=\"\",\"\",(VLOOKUP($AY92,$AY$6:$BP$25,13,0)))","v":""},null,null,null,null,null,null,null,null,{"$f":"IF($BA92=\"\",\"\",(VLOOKUP($AY92,$AY$6:$BP$25,18,0)))","v":""}]
[null,null,null,null,null,null,null,null,null,null,null,null,null,null,null,null,null,null,null,null,null,null,null,null,null,null,null,null,null,null,null,null,null,null,null,null,null,null,null,null,null,null,null,null,null,null,null,null,null,null,null,null,null,null,null,{"$f":"IF($BA92=\"\",\"\",(VLOOKUP($AY92,$AY$6:$BP$25,10,0)))","v":""},{"$f":"IF($BA92=\"\",\"\",(VLOOKUP($AY92,$AY$6:$BP$25,11,0)))","v":""},{"$f":"IF($BA92=\"\",\"\",(VLOOKUP($AY92,$AY$6:$BP$25,14,0)))","v":""},{"$f":"IF($BA92=\"\",\"\",(VLOOKUP($AY92,$AY$6:$BP$25,15,0)))","v":""}]
[null,null,null,null,null,null,null,null,null,null,null,null,null,null,null,null,null,null,null,null,null,null,null,null,null,null,null,null,null,null,null,null,null,null,null,null,null,null,null,null,null,null,null,null,null,null,null,null,null,null,null,null,null,null,null,{"$f":"IF($BA92=\"\",\"\",VLOOKUP($AY92,$AY$6:$BP$25,8,0))","v":""},null,{"$f":"IF($BA92=\"\",\"\",(VLOOKUP($AY92,$AY$6:$BP$25,16,0)))","v":""},{"$f":"IF($BA92=\"\",\"\",(VLOOKUP($AY92,$AY$6:$BP$25,17,0)))","v":""}]
[null,null,null,null,null,null,null,null,null,null,null,null,null,null,null,null,null,null,null,null,null,null,null,null,null,null,null,null,null,null,null,null,null,null,null,null,null,null,null,null,null,null,null,null,null,null,null,null,null,null,14,null,{"$f":"IF(VLOOKUP($AY95,$AY$6:$BP$25,2,0)=\"\",\"\",VLOOKUP($AY95,$AY$6:$BP$25,2,0))","v":""},null,{"$f":"IF($BA95=\"\",\"\",VLOOKUP($AY95,$AY$6:$BP$25,5,0))","v":""},{"$f":"IF($BA95=\"\",\"\",VLOOKUP($AY95,$AY$6:$BP$25,7,0))","v":""},null,{"$f":"IF($BA95=\"\",\"\",(VLOOKUP($AY95,$AY$6:$BP$25,12,0)))","v":""},{"$f":"IF($BA95=\"\",\"\",(VLOOKUP($AY95,$AY$6:$BP$25,13,0)))","v":""},null,null,null,null,null,null,null,null,{"$f":"IF($BA95=\"\",\"\",(VLOOKUP($AY95,$AY$6:$BP$25,18,0)))","v":""}]
[null,null,null,null,null,null,null,null,null,null,null,null,null,null,null,null,null,null,null,null,null,null,null,null,null,null,null,null,null,null,null,null,null,null,null,null,null,null,null,null,null,null,null,null,null,null,null,null,null,null,null,null,null,null,null,{"$f":"IF($BA95=\"\",\"\",(VLOOKUP($AY95,$AY$6:$BP$25,10,0)))","v":""},{"$f":"IF($BA95=\"\",\"\",(VLOOKUP($AY95,$AY$6:$BP$25,11,0)))","v":""},{"$f":"IF($BA95=\"\",\"\",(VLOOKUP($AY95,$AY$6:$BP$25,14,0)))","v":""},{"$f":"IF($BA95=\"\",\"\",(VLOOKUP($AY95,$AY$6:$BP$25,15,0)))","v":""}]
[null,null,null,null,null,null,null,null,null,null,null,null,null,null,null,null,null,null,null,null,null,null,null,null,null,null,null,null,null,null,null,null,null,null,null,null,null,null,null,null,null,null,null,null,null,null,null,null,null,null,null,null,null,null,null,{"$f":"IF($BA95=\"\",\"\",VLOOKUP($AY95,$AY$6:$BP$25,8,0))","v":""},null,{"$f":"IF($BA95=\"\",\"\",(VLOOKUP($AY95,$AY$6:$BP$25,16,0)))","v":""},{"$f":"IF($BA95=\"\",\"\",(VLOOKUP($AY95,$AY$6:$BP$25,17,0)))","v":""}]
[null,null,null,null,null,null,null,null,null,null,null,null,null,null,null,null,null,null,null,null,null,null,null,null,null,null,null,null,null,null,null,null,null,null,null,null,null,null,null,null,null,null,null,null,null,null,null,null,null,null,15,null,{"$f":"IF(VLOOKUP($AY98,$AY$6:$BP$25,2,0)=\"\",\"\",VLOOKUP($AY98,$AY$6:$BP$25,2,0))","v":""},null,{"$f":"IF($BA98=\"\",\"\",VLOOKUP($AY98,$AY$6:$BP$25,5,0))","v":""},{"$f":"IF($BA98=\"\",\"\",VLOOKUP($AY98,$AY$6:$BP$25,7,0))","v":""},null,{"$f":"IF($BA98=\"\",\"\",(VLOOKUP($AY98,$AY$6:$BP$25,12,0)))","v":""},{"$f":"IF($BA98=\"\",\"\",(VLOOKUP($AY98,$AY$6:$BP$25,13,0)))","v":""},null,null,null,null,null,null,null,null,{"$f":"IF($BA98=\"\",\"\",(VLOOKUP($AY98,$AY$6:$BP$25,18,0)))","v":""}]
[null,null,null,null,null,null,null,null,null,null,null,null,null,null,null,null,null,null,null,null,null,null,null,null,null,null,null,null,null,null,null,null,null,null,null,null,null,null,null,null,null,null,null,null,null,null,null,null,null,null,null,null,null,null,null,{"$f":"IF($BA98=\"\",\"\",(VLOOKUP($AY98,$AY$6:$BP$25,10,0)))","v":""},{"$f":"IF($BA98=\"\",\"\",(VLOOKUP($AY98,$AY$6:$BP$25,11,0)))","v":""},{"$f":"IF($BA98=\"\",\"\",(VLOOKUP($AY98,$AY$6:$BP$25,14,0)))","v":""},{"$f":"IF($BA98=\"\",\"\",(VLOOKUP($AY98,$AY$6:$BP$25,15,0)))","v":""}]
[null,null,null,null,null,null,null,null,null,null,null,null,null,null,null,null,null,null,null,null,null,null,null,null,null,null,null,null,null,null,null,null,null,null,null,null,null,null,null,null,null,null,null,null,null,null,null,null,null,null,null,null,null,null,null,{"$f":"IF($BA98=\"\",\"\",VLOOKUP($AY98,$AY$6:$BP$25,8,0))","v":""},null,{"$f":"IF($BA98=\"\",\"\",(VLOOKUP($AY98,$AY$6:$BP$25,16,0)))","v":""},{"$f":"IF($BA98=\"\",\"\",(VLOOKUP($AY98,$AY$6:$BP$25,17,0)))","v":""}]
[null,null,null,null,null,null,null,null,null,null,null,null,null,null,null,null,null,null,null,null,null,null,null,null,null,null,null,null,null,null,null,null,null,null,null,null,null,null,null,null,null,null,null,null,null,null,null,null,null,null,16,null,{"$f":"IF(VLOOKUP($AY101,$AY$6:$BP$25,2,0)=\"\",\"\",VLOOKUP($AY101,$AY$6:$BP$25,2,0))","v":""},null,{"$f":"IF($BA101=\"\",\"\",VLOOKUP($AY101,$AY$6:$BP$25,5,0))","v":""},{"$f":"IF($BA101=\"\",\"\",VLOOKUP($AY101,$AY$6:$BP$25,7,0))","v":""},null,{"$f":"IF($BA101=\"\",\"\",(VLOOKUP($AY101,$AY$6:$BP$25,12,0)))","v":""},{"$f":"IF($BA101=\"\",\"\",(VLOOKUP($AY101,$AY$6:$BP$25,13,0)))","v":""},null,null,null,null,null,null,null,null,{"$f":"IF($BA101=\"\",\"\",(VLOOKUP($AY101,$AY$6:$BP$25,18,0)))","v":""}]
[null,null,null,null,null,null,null,null,null,null,null,null,null,null,null,null,null,null,null,null,null,null,null,null,null,null,null,null,null,null,null,null,null,null,null,null,null,null,null,null,null,null,null,null,null,null,null,null,null,null,null,null,null,null,null,{"$f":"IF($BA101=\"\",\"\",(VLOOKUP($AY101,$AY$6:$BP$25,10,0)))","v":""},{"$f":"IF($BA101=\"\",\"\",(VLOOKUP($AY101,$AY$6:$BP$25,11,0)))","v":""},{"$f":"IF($BA101=\"\",\"\",(VLOOKUP($AY101,$AY$6:$BP$25,14,0)))","v":""},{"$f":"IF($BA101=\"\",\"\",(VLOOKUP($AY101,$AY$6:$BP$25,15,0)))","v":""}]
[null,null,null,null,null,null,null,null,null,null,null,null,null,null,null,null,null,null,null,null,null,null,null,null,null,null,null,null,null,null,null,null,null,null,null,null,null,null,null,null,null,null,null,null,null,null,null,null,null,null,null,null,null,null,null,{"$f":"IF($BA101=\"\",\"\",VLOOKUP($AY101,$AY$6:$BP$25,8,0))","v":""},null,{"$f":"IF($BA101=\"\",\"\",(VLOOKUP($AY101,$AY$6:$BP$25,16,0)))","v":""},{"$f":"IF($BA101=\"\",\"\",(VLOOKUP($AY101,$AY$6:$BP$25,17,0)))","v":""}]
[null,null,null,null,null,null,null,null,null,null,null,null,null,null,null,null,null,null,null,null,null,null,null,null,null,null,null,null,null,null,null,null,null,null,null,null,null,null,null,null,null,null,null,null,null,null,null,null,null,null,17,null,{"$f":"IF(VLOOKUP($AY104,$AY$6:$BP$25,2,0)=\"\",\"\",VLOOKUP($AY104,$AY$6:$BP$25,2,0))","v":""},null,{"$f":"IF($BA104=\"\",\"\",VLOOKUP($AY104,$AY$6:$BP$25,5,0))","v":""},{"$f":"IF($BA104=\"\",\"\",VLOOKUP($AY104,$AY$6:$BP$25,7,0))","v":""},null,{"$f":"IF($BA104=\"\",\"\",(VLOOKUP($AY104,$AY$6:$BP$25,12,0)))","v":""},{"$f":"IF($BA104=\"\",\"\",(VLOOKUP($AY104,$AY$6:$BP$25,13,0)))","v":""},null,null,null,null,null,null,null,null,{"$f":"IF($BA104=\"\",\"\",(VLOOKUP($AY104,$AY$6:$BP$25,18,0)))","v":""}]
[null,null,null,null,null,null,null,null,null,null,null,null,null,null,null,null,null,null,null,null,null,null,null,null,null,null,null,null,null,null,null,null,null,null,null,null,null,null,null,null,null,null,null,null,null,null,null,null,null,null,null,null,null,null,null,{"$f":"IF($BA104=\"\",\"\",(VLOOKUP($AY104,$AY$6:$BP$25,10,0)))","v":""},{"$f":"IF($BA104=\"\",\"\",(VLOOKUP($AY104,$AY$6:$BP$25,11,0)))","v":""},{"$f":"IF($BA104=\"\",\"\",(VLOOKUP($AY104,$AY$6:$BP$25,14,0)))","v":""},{"$f":"IF($BA104=\"\",\"\",(VLOOKUP($AY104,$AY$6:$BP$25,15,0)))","v":""}]
[null,null,null,null,null,null,null,null,null,null,null,null,null,null,null,null,null,null,null,null,null,null,null,null,null,null,null,null,null,null,null,null,null,null,null,null,null,null,null,null,null,null,null,null,null,null,null,null,null,null,null,null,null,null,null,{"$f":"IF($BA104=\"\",\"\",VLOOKUP($AY104,$AY$6:$BP$25,8,0))","v":""},null,{"$f":"IF($BA104=\"\",\"\",(VLOOKUP($AY104,$AY$6:$BP$25,16,0)))","v":""},{"$f":"IF($BA104=\"\",\"\",(VLOOKUP($AY104,$AY$6:$BP$25,17,0)))","v":""}]
[null,null,null,null,null,null,null,null,null,null,null,null,null,null,null,null,null,null,null,null,null,null,null,null,null,null,null,null,null,null,null,null,null,null,null,null,null,null,null,null,null,null,null,null,null,null,null,null,null,null,18,null,{"$f":"IF(VLOOKUP($AY107,$AY$6:$BP$25,2,0)=\"\",\"\",VLOOKUP($AY107,$AY$6:$BP$25,2,0))","v":""},null,{"$f":"IF($BA107=\"\",\"\",VLOOKUP($AY107,$AY$6:$BP$25,5,0))","v":""},{"$f":"IF($BA107=\"\",\"\",VLOOKUP($AY107,$AY$6:$BP$25,7,0))","v":""},null,{"$f":"IF($BA107=\"\",\"\",(VLOOKUP($AY107,$AY$6:$BP$25,12,0)))","v":""},{"$f":"IF($BA107=\"\",\"\",(VLOOKUP($AY107,$AY$6:$BP$25,13,0)))","v":""},null,null,null,null,null,null,null,null,{"$f":"IF($BA107=\"\",\"\",(VLOOKUP($AY107,$AY$6:$BP$25,18,0)))","v":""}]
[null,null,null,null,null,null,null,null,null,null,null,null,null,null,null,null,null,null,null,null,null,null,null,null,null,null,null,null,null,null,null,null,null,null,null,null,null,null,null,null,null,null,null,null,null,null,null,null,null,null,null,null,null,null,null,{"$f":"IF($BA107=\"\",\"\",(VLOOKUP($AY107,$AY$6:$BP$25,10,0)))","v":""},{"$f":"IF($BA107=\"\",\"\",(VLOOKUP($AY107,$AY$6:$BP$25,11,0)))","v":""},{"$f":"IF($BA107=\"\",\"\",(VLOOKUP($AY107,$AY$6:$BP$25,14,0)))","v":""},{"$f":"IF($BA107=\"\",\"\",(VLOOKUP($AY107,$AY$6:$BP$25,15,0)))","v":""}]
[null,null,null,null,null,null,null,null,null,null,null,null,null,null,null,null,null,null,null,null,null,null,null,null,null,null,null,null,null,null,null,null,null,null,null,null,null,null,null,null,null,null,null,null,null,null,null,null,null,null,null,null,null,null,null,{"$f":"IF($BA107=\"\",\"\",VLOOKUP($AY107,$AY$6:$BP$25,8,0))","v":""},null,{"$f":"IF($BA107=\"\",\"\",(VLOOKUP($AY107,$AY$6:$BP$25,16,0)))","v":""},{"$f":"IF($BA107=\"\",\"\",(VLOOKUP($AY107,$AY$6:$BP$25,17,0)))","v":""}]
[null,null,null,null,null,null,null,null,null,null,null,null,null,null,null,null,null,null,null,null,null,null,null,null,null,null,null,null,null,null,null,null,null,null,null,null,null,null,null,null,null,null,null,null,null,null,null,null,null,null,19,null,{"$f":"IF(VLOOKUP($AY110,$AY$6:$BP$25,2,0)=\"\",\"\",VLOOKUP($AY110,$AY$6:$BP$25,2,0))","v":""},null,{"$f":"IF($BA110=\"\",\"\",VLOOKUP($AY110,$AY$6:$BP$25,5,0))","v":""},{"$f":"IF($BA110=\"\",\"\",VLOOKUP($AY110,$AY$6:$BP$25,7,0))","v":""},null,{"$f":"IF($BA110=\"\",\"\",(VLOOKUP($AY110,$AY$6:$BP$25,12,0)))","v":""},{"$f":"IF($BA110=\"\",\"\",(VLOOKUP($AY110,$AY$6:$BP$25,13,0)))","v":""},null,null,null,null,null,null,null,null,{"$f":"IF($BA110=\"\",\"\",(VLOOKUP($AY110,$AY$6:$BP$25,18,0)))","v":""}]
[null,null,null,null,null,null,null,null,null,null,null,null,null,null,null,null,null,null,null,null,null,null,null,null,null,null,null,null,null,null,null,null,null,null,null,null,null,null,null,null,null,null,null,null,null,null,null,null,null,null,null,null,null,null,null,{"$f":"IF($BA110=\"\",\"\",(VLOOKUP($AY110,$AY$6:$BP$25,10,0)))","v":""},{"$f":"IF($BA110=\"\",\"\",(VLOOKUP($AY110,$AY$6:$BP$25,11,0)))","v":""},{"$f":"IF($BA110=\"\",\"\",(VLOOKUP($AY110,$AY$6:$BP$25,14,0)))","v":""},{"$f":"IF($BA110=\"\",\"\",(VLOOKUP($AY110,$AY$6:$BP$25,15,0)))","v":""}]
[null,null,null,null,null,null,null,null,null,null,null,null,null,null,null,null,null,null,null,null,null,null,null,null,null,null,null,null,null,null,null,null,null,null,null,null,null,null,null,null,null,null,null,null,null,null,null,null,null,null,null,null,null,null,null,{"$f":"IF($BA110=\"\",\"\",VLOOKUP($AY110,$AY$6:$BP$25,8,0))","v":""},null,{"$f":"IF($BA110=\"\",\"\",(VLOOKUP($AY110,$AY$6:$BP$25,16,0)))","v":""},{"$f":"IF($BA110=\"\",\"\",(VLOOKUP($AY110,$AY$6:$BP$25,17,0)))","v":""}]
[null,null,null,null,null,null,null,null,null,null,null,null,null,null,null,null,null,null,null,null,null,null,null,null,null,null,null,null,null,null,null,null,null,null,null,null,null,null,null,null,null,null,null,null,null,null,null,null,null,null,20,null,{"$f":"IF(VLOOKUP($AY113,$AY$6:$BP$25,2,0)=\"\",\"\",VLOOKUP($AY113,$AY$6:$BP$25,2,0))","v":""},null,{"$f":"IF($BA113=\"\",\"\",VLOOKUP($AY113,$AY$6:$BP$25,5,0))","v":""},{"$f":"IF($BA113=\"\",\"\",VLOOKUP($AY113,$AY$6:$BP$25,7,0))","v":""},null,{"$f":"IF($BA113=\"\",\"\",(VLOOKUP($AY113,$AY$6:$BP$25,12,0)))","v":""},{"$f":"IF($BA113=\"\",\"\",(VLOOKUP($AY113,$AY$6:$BP$25,13,0)))","v":""},null,null,null,null,null,null,null,null,{"$f":"IF($BA113=\"\",\"\",(VLOOKUP($AY113,$AY$6:$BP$25,18,0)))","v":""}]
[null,null,null,null,null,null,null,null,null,null,null,null,null,null,null,null,null,null,null,null,null,null,null,null,null,null,null,null,null,null,null,null,null,null,null,null,null,null,null,null,null,null,null,null,null,null,null,null,null,null,null,null,null,null,null,{"$f":"IF($BA113=\"\",\"\",(VLOOKUP($AY113,$AY$6:$BP$25,10,0)))","v":""},{"$f":"IF($BA113=\"\",\"\",(VLOOKUP($AY113,$AY$6:$BP$25,11,0)))","v":""},{"$f":"IF($BA113=\"\",\"\",(VLOOKUP($AY113,$AY$6:$BP$25,14,0)))","v":""},{"$f":"IF($BA113=\"\",\"\",(VLOOKUP($AY113,$AY$6:$BP$25,15,0)))","v":""}]
[null,null,null,null,null,null,null,null,null,null,null,null,null,null,null,null,null,null,null,null,null,null,null,null,null,null,null,null,null,null,null,null,null,null,null,null,null,null,null,null,null,null,null,null,null,null,null,null,null,null,null,null,null,null,null,{"$f":"IF($BA113=\"\",\"\",VLOOKUP($AY113,$AY$6:$BP$25,8,0))","v":""},null,{"$f":"IF($BA113=\"\",\"\",(VLOOKUP($AY113,$AY$6:$BP$25,16,0)))","v":""},{"$f":"IF($BA113=\"\",\"\",(VLOOKUP($AY113,$AY$6:$BP$25,17,0)))","v":""}]
[null,null,null,null,null,null,null,null,null,null,null,null,null,null,null,null,null,null,null,null,null,null,null,null,null,null,null,null,null,null,null,null,null,null,null,null,null,null,null,null,null,null,null,null,null,null,null,null,null,null,null,null,"計",{"$f":"COUNTIF(BA56:BB115,\">=!\")","v":0},null,null,null,null,null," 時","時","時","時","時","時","時","時"]
[null,null,null,null,null,null,null,null,null,null,null,null,null,null,null,null,null,null,null,null,null,null,null,null,null,null,null,null,null,null,null,null,null,null,null,null,null,null,null,null,null,null,null,null,null,null,null,null,null,null,null,null,null,null,null,null,null,null,null,"分","分","分","分","分","分","分","分"]
[null,null,null,null,null,null,null,null,null,null,null,null,null,null,null,null,null,null,null,null,null,null,null,null,null,null,null,null,null,null,null,null,null,null,null,null,null,null,null,null,null,null,null,null,null,null,null,null,null,null,null,null,"備考 "]
[null,null,null,null,null,null,null,null,null,null,null,null,null,null,null,null,null,null,null,null,null,null,null,null,null,null,null,null,null,null,null,null,null,null,null,null,null,null,null,null,null,null,null,null,null,null,null,null,null,null,null,null,1,"　所属の長は、職員に時間外勤務、休日勤務（第17条に定める日の勤務を含む。以下同じ。）及び夜間勤務（以下「時間外勤務等」という。）を命ずるときは、職員の氏名及び勤務の内容並びに勤務を命じた時間を、それぞれ命令簿の該当欄に記入の上押印するものとする。"]
[null,null,null,null,null,null,null,null,null,null,null,null,null,null,null,null,null,null,null,null,null,null,null,null,null,null,null,null,null,null,null,null,null,null,null,null,null,null,null,null,null,null,null,null,null,null,null,null,null,null,null,null,2,"　時間外勤務等の欄には、時間外勤務等を命ぜられた職員の直接の監督の責にある者が、その職員の実際に勤務した時間数を時間外勤務（その勤務に対応した支給割合の欄）、休日勤務及び夜間勤務の欄にそれぞれ記入し、その記入事項について所属の長の確認を受けるものとする。　"]
[null,null,null,null,null,null,null,null,null,null,null,null,null,null,null,null,null,null,null,null,null,null,null,null,null,null,null,null,null,null,null,null,null,null,null,null,null,null,null,null,null,null,null,null,null,null,null,null,null,null,null,null,3,"　一月の時間外勤務時間が60時間を超えた場合には、その後の支給割合を「125/100」及び「135/100」は「150/100」に、「150/100」及び「160/100」は「175/100」（短時間勤務職員については、「100/100」は「150/100」に、「125/100」は「175/100」）と読み替えるものとする。"]

{"sheet":"整理簿","index":1,"n_rows":42,"n_cols":14,"rows_kept":42,"cut":false,"hidden":true,"merged":[[17,1,23,1],[17,2,23,2],[17,11,23,11],[17,12,23,12],[23,3,23,4],[10,1,16,1],[10,2,16,2],[10,11,16,11],[10,12,16,12],[16,3,16,4],[2,0,2,12],[3,5,5,7],[3,9,5,10],[3,11,5,11],[8,1,9,1],[8,2,8,4],[8,5,8,6],[8,7,8,8],[8,9,8,10],[8,11,9,11],[8,12,9,12],[24,1,29,1],[24,2,29,2],[24,11,29,11],[24,12,29,12],[29,3,29,4],[38,0,38,12],[41,0,41,12],[30,1,35,1],[30,2,35,2],[30,11,35,11],[30,12,35,12],[35,3,35,4]]}
["別記第４号様式"]
[]
["時間外勤務手当、休日勤務手当及び夜間勤務手当整理簿"]
[null,null,null,null,"所属の",null,null,null,"直接監督"]
[null,null,null,null,"長の確認",null,null,null,"者（責任"]
[null,null,null,null,"の印",null,null,null,"者）の印"]
[{"$f":"●●!D9","v":"2023-01-01"}]
[{"$f":"A7","v":44927},{"$f":"MONTH(A7)","v":1},null,null,null,null,null,null,null,null,{"$f":"時間外命令簿!L2","v":"●●●立●●●学校"}]
["級　","氏名","基準の額",null,null,"時間外勤務手当",null,"休日勤務手当",null,"夜間勤務手当",null,"支給額","摘要"]
["号俸",null,"（A）１時間当たりの給与額","（B)率","（A)×（B）","時間","計算額","時間","計算額","時間","計算額"]
[null,{"$f":"●●!AA3","v":"●●　■■"},null,"25/100",{"$f":"ROUND($C$11*N11,0)","v":0},{"$f":"●●!AA74","v":0},{"$f":"$E11*F11","v":0},null,{"$f":"$E11*H11","v":0},null,{"$f":"$E11*J11","v":0},{"$f":"SUM(G17,I17,K17)","v":0},null,{"$f":"25/100","v":0.25}]
[null,null,null,"100/100",{"$f":"ROUND($C$11*N12,0)","v":0},{"$f":"●●!AB74","v":0},null,null,null,null,null,null,null,{"$f":"100/100","v":1}]
["級",null,null,"125/100",0,{"$f":"●●!AC74","v":0},{"$f":"$E13*F13","v":0},null,{"$f":"$E13*H13","v":0},null,{"$f":"$E13*J13","v":0},null,null,{"$f":"125/100","v":1.25}]
["号俸",null,null,"135/100",{"$f":"ROUND($C$11*N14,0)","v":0},{"$f":"●●!AD74","v":0},{"$f":"$E14*F14","v":0},null,{"$f":"$E14*H14","v":0},null,{"$f":"$E14*J14","v":0},null,null,{"$f":"135/100","v":1.35}]
["　（　　　　　　）",null,null,"150/１00",{"$f":"ROUND($C$11*N15,0)","v":0},{"$f":"●●!AE74","v":0},{"$f":"$E15*F15","v":0},null,{"$f":"$E15*H15","v":0},null,{"$f":"$E15*J15","v":0},null,null,{"$f":"150/100","v":1.5}]
["円",null,null,"160/１00",{"$f":"ROUND($C$11*N16,0)","v":0},{"$f":"●●!AF74","v":0},{"$f":"$E16*F16","v":0},null,{"$f":"$E16*H16","v":0},null,{"$f":"$E16*J16","v":0},null,null,{"$f":"160/100","v":1.6}]
[null,null,null,"小計",null,{"$f":"SUM(F11:F16)","v":0},{"$f":"SUM(G11:G16)","v":0},0,0,0,0]
[null,{"$f":"▲▲!AA3","v":"▲▲　◆◆"},null,"25/100",{"$f":"ROUND($C$18*N18,0)","v":0},{"$f":"▲▲!AA74","v":0},{"$f":"$E18*F18","v":0},null,{"$f":"$E18*H18","v":0},null,{"$f":"$E18*J18","v":0},{"$f":"SUM(G24,I24,K24)","v":0},null,{"$f":"25/100","v":0.25}]
[null,null,null,"100/100",{"$f":"ROUND($C$18*N19,0)","v":0},{"$f":"▲▲!AB74","v":0},null,null,null,null,null,null,null,{"$f":"100/100","v":1}]
["級",null,null,"125/100",{"$f":"ROUND($C$18*N20,0)","v":0},{"$f":"▲▲!AC74","v":0},{"$f":"$E20*F20","v":0},null,{"$f":"$E20*H20","v":0},null,{"$f":"$E20*J20","v":0},null,null,{"$f":"125/100","v":1.25}]
["号俸",null,null,"135/100",0,{"$f":"▲▲!AD74","v":0},{"$f":"$E21*F21","v":0},null,{"$f":"$E21*H21","v":0},null,{"$f":"$E21*J21","v":0},null,null,{"$f":"135/100","v":1.35}]
["　（　　　　　　）",null,null,"150/１00",0,{"$f":"▲▲!AE74","v":0},{"$f":"$E22*F22","v":0},null,{"$f":"$E22*H22","v":0},null,{"$f":"$E22*J22","v":0},null,null,{"$f":"150/100","v":1.5}]
["円",null,null,"160/１00",0,{"$f":"▲▲!AF74","v":0},{"$f":"$E23*F23","v":0},null,{"$f":"$E23*H23","v":0},null,{"$f":"$E23*J23","v":0},null,null,{"$f":"160/100","v":1.6}]
[null,null,null,"小計",null,{"$f":"SUM(F18:F23)","v":0},0,0,0,0,0]
[null,null,null,"25/１００",{"$f":"ROUND($C$25*N25,0)","v":0},null,{"$f":"$E25*F25","v":0},null,{"$f":"$E25*H25","v":0},null,{"$f":"$E25*J25","v":0},{"$f":"SUM(G30,I30,K30)","v":0},null,{"$f":"25/100","v":0.25}]
["級",null,null,"125/１00",{"$f":"ROUND($C$25*N26,0)","v":0},null,{"$f":"$E26*F26","v":0},null,{"$f":"$E26*H26","v":0},null,{"$f":"$E26*J26","v":0},null,null,{"$f":"125/100","v":1.25}]
["号俸",null,null,"135/１00",{"$f":"ROUND($C$25*N27,0)","v":0},null,{"$f":"$E27*F27","v":0},null,{"$f":"$E27*H27","v":0},null,{"$f":"$E27*J27","v":0},null,null,{"$f":"135/100","v":1.35}]
["　（　　　　　　）",null,null,"150/１00",{"$f":"ROUND($C$25*N28,0)","v":0},null,{"$f":"$E28*F28","v":0},null,{"$f":"$E28*H28","v":0},null,{"$f":"$E28*J28","v":0},null,null,{"$f":"150/100","v":1.5}]
["円",null,null,"160/１00",{"$f":"ROUND($C$25*N29,0)","v":0},null,{"$f":"$E29*F29","v":0},null,{"$f":"$E29*H29","v":0},null,{"$f":"$E29*J29","v":0},null,null,{"$f":"160/100","v":1.6}]
[null,null,null,"小計",null,{"$f":"SUM(F25:F29)","v":0},0,0,0,0,0]
[null,null,null,"25/１００",{"$f":"ROUND($C$31*N31,0)","v":0},null,{"$f":"$E31*F31","v":0},null,{"$f":"$E31*H31","v":0},null,{"$f":"$E31*J31","v":0},{"$f":"SUM(G36,I36,K36)","v":0},null,{"$f":"25/100","v":0.25}]
["級",null,null,"125/１00",{"$f":"ROUND($C$31*N32,0)","v":0},null,{"$f":"$E32*F32","v":0},null,{"$f":"$E32*H32","v":0},null,{"$f":"$E32*J32","v":0},null,null,{"$f":"125/100","v":1.25}]
["号俸",null,null,"135/１00",{"$f":"ROUND($C$31*N33,0)","v":0},null,{"$f":"$E33*F33","v":0},null,{"$f":"$E33*H33","v":0},null,{"$f":"$E33*J33","v":0},null,null,{"$f":"135/100","v":1.35}]
["　（　　　　　　）",null,null,"150/１00",{"$f":"ROUND($C$31*N34,0)","v":0},null,{"$f":"$E34*F34","v":0},null,{"$f":"$E34*H34","v":0},null,{"$f":"$E34*J34","v":0},null,null,{"$f":"150/100","v":1.5}]
["円",null,null,"160/１00",{"$f":"ROUND($C$31*N35,0)","v":0},null,{"$f":"$E35*F35","v":0},null,{"$f":"$E35*H35","v":0},null,{"$f":"$E35*J35","v":0},null,null,{"$f":"160/100","v":1.6}]
[null,null,null,"小計",null,{"$f":"SUM(F31:F35)","v":0},0,0,0,0,0]
["備考"]
["１　級号俸欄の記入に当たり、職務の級の最高の号俸を超える給料月額を受ける者については、その者の受ける当該給料月額を括弧内に記入すること。"]
["２　時間欄には、時間外勤務、休日勤務及び夜間勤務命令簿における実際に勤務したそれぞれの時間数（１時間未満の端数があるときは、第18条により計算した時間数）を記入すること。"]
["３　時間外勤務手当等の計算額欄には、それぞれの率に応じた時間数に対する手当の額を記入し、その小計を記入すること。"]
["４　支給額欄には、時間外勤務手当等の小計（計）欄の額の合計額を記入すること。"]
["５　給与期間内に給料の異動があったときは、同一人について２欄を使用し、それぞれ１時間当たりの給与月額の異なる部分について計算したものを記入すること。ただし、支給額は、当該給与期間内の分の合計を記入すること。"]

{"sheet":"●●","index":2,"n_rows":112,"n_cols":94,"rows_kept":112,"cut":false,"hidden":true,"merged":[[2,91,3,94],[6,73,7,73],[6,74,7,74],[6,75,7,75],[7,60,7,67],[6,70,7,70],[6,71,7,71],[6,72,7,72],[81,72,82,72],[81,73,82,73],[81,74,82,74],[6,7,7,7],[6,8,7,8],[6,9,7,9],[6,10,7,12],[6,16,7,16],[7,13,7,15],[6,56,6,58],[6,38,6,40],[6,35,6,37],[6,32,6,34],[6,44,7,44],[5,43,7,43],[81,66,81,67],[81,69,82,69],[81,70,82,70],[81,71,82,71],[70,3,70,4],[81,62,82,62],[81,55,82,55],[81,56,82,56],[81,57,82,57],[81,60,82,60],[81,61,82,61],[75,48,75,50],[75,51,75,53],[70,20,70,25],[81,63,82,63],[81,64,81,65],[71,20,71,25],[107,65,107,66],[107,22,107,24],[107,25,107,27],[107,28,107,30],[81,68,82,68],[107,63,107,64],[107,57,107,60],[107,61,107,62],[107,10,107,12],[107,13,107,15],[107,16,107,18],[107,19,107,21],[107,55,108,55],[107,50,108,50],[107,32,107,45],[107,46,107,48],[107,51,108,51],[107,52,108,52],[107,53,108,53],[107,54,108,54],[107,1,108,1],[107,2,108,2],[107,3,108,3],[107,4,107,6],[107,7,107,9],[107,89,108,89],[107,90,108,90],[107,67,107,68],[107,69,107,70],[107,71,107,72],[107,73,107,74],[107,75,107,76],[107,77,107,78],[107,79,107,80],[107,81,107,82],[107,83,107,84],[107,85,108,85],[107,86,108,86],[107,87,108,87],[107,88,108,88],[2,26,2,31],[5,7,5,25],[2,10,2,12],[2,20,2,23],[2,24,2,25],[5,26,5,31],[6,24,6,25],[6,17,7,17],[6,18,7,18],[6,19,7,19],[6,20,6,21],[6,22,6,23]]}
[null,null,null,"時間外勤務入力表（個表）",null,null,null,null,null,null,null,null,null,null,null,null,null,null,null,null,null,null,null,null,null,null,null,null,null,null,null,null,null,null,null,null,null,null,null,null,null,null,null,null,null,"11:32:55","2022-12-23",null,null,null,null,null,null,null,null,null,null,null,null,null,null,null,null,null,null,null,null,null,null,null,null,null,null,null,null,null,null,null,null,null,null,null,null,null,null,null,null,null,null,"【別記様式１（時間外勤務手当管理表）への貼り付け】"]
[null,null,null,null,null,null,null,null,null,null,null,null,null,null,null,null,null,null,null,null,null,null,null,null,null,null,null,null,null,null,null,null,null,null,null,null,null,null,null,null,null,null,null,null,null,"11:32:55","2022-12-23"]
[null,null,null,null,null,null,null,null,null,null,null,null,null,null,null,null,null,null,null,"職名",{"$f":"集計表!C6","v":"事務職員"},null,null,null,"氏名",null,{"$f":"集計表!D6","v":"●●　■■"},null,null,null,null,null,null,null,null,null,null,null,null,null,null,null,null,{"$f":"時間外命令簿!L2","v":"●●●立●●●学校"},null,"11:32:55","2022-12-23",null,null,null,null,null,null,null,null,null,null,null,null,null,null,null,null,null,null,null,null,null,null,null,null,null,null,null,null,null,null,null,null,null,null,null,null,null,null,null,null,null,null,"日付",null,"命令時間"]
[null,null,"職",null,null,null,null,null,null,null,null,null,null,null,null,null,null,null,null,null,null,null,null,null,null,null,null,null,null,null,null,null,null,null,null,null,null,null,null,null,null,null,null,null,null,"11:32:55","2022-12-23",null,null,null,null,null,null,null,null,null,null,null,null,null,null,null,null,null,null,null,null,null,"11:10:24","2022-12-21"]
[null,null,null,{"$f":"整理簿!A7","v":44927},null,null,null,null,null,null,null,null,null,null,null,null,null,null,null,null,null,null,null,null,null,null,null,null,null,null,null,null,null,null,null,null,null,null,null,null,null,null,null,null,null,"11:32:55","2022-12-23",null,null,null,null,null,null,null,null,null,null,null,null,null,null,null,null,null,null,null,null,null,null,null,null,null,null,null,null,null,null,null,null,null,null,null,null,null,null,null,null,null,null,null,null,"自","至","時間数"]
[null,null,null,null,null,null,null,"命　　　　　　　令",null,null,null,null,null,null,null,null,null,null,null,null,null,null,null,null,null,null,"実績(時間外勤務手当時数)",null,null,null,null,null,null,null,null,null,null,null,null,null,null,null,null,"対応事項","参考",null,null,null,null,null,null,null,null,null,null,null,null,null,null,null,null,null,null,"11:32:55","2022-12-23"]
[null,null,null,null,null,null,null,"開始\n時間","終了\n時間","勤務の内容","除く時間\n（休憩等）",null,null,null,null,null,"実働\n時間","除く\n時間",null,"摘要","通常\n業務",null,"特例\n業務",null,"大規模\n災害等",null,25,100,125,135,150,160,"通常",null,null,"特例",null,null,"大規模",null,null,null,null,null,"入力日","11:32:55","2022-12-23",null,null,null,null,null,null,null,null,null,"数式列",null,null,null,null,null,null,null,null,null,null,null,null,null,"記載例\nH23.4.1","（曜日）","記載例\n18:00","記載例\n21:00","時間","分"]
[null,null,"作業",null,null,null,"作業",null,null,null,null,null,null,"２回目",null,null,null,null,null,null,"時間","分","時間","分","時間","分",100,100,100,100,100,100,"時","分","計","時","分","計","時","分","計","総計","実績計",null,null,"11:32:55","2022-12-23",null,null,null,null,null,null,null,null,null,null,null,null,null,"数式列",null,null,null,null,null,null,null,null,null,null,null,null,null,null,null,"（除く時間）"]
[null,null,{"$f":"IF(D9=\"\",\"\",IF(OR(WEEKDAY(E9)=1,WEEKDAY(E9)=7),\"週休日\",IF(COUNTIF($D$77:$D$105,D9)=1,\"休日\",\"平日\")))","v":"週休日"},"2023-01-01",{"$f":"D9","v":44927},"①",{"$f":"TEXT(D9&F9,)","v":"44927①"},null,null,null,null,"～",null,null,"～",null,{"$f":"I9-H9-R9","v":0},{"$f":"SUM(M9-K9,P9-N9)","v":0},{"$f":"IFERROR(DATEDIF(D9,T9,\"ｄ\"),\"\")","v":""},{"$f":"IF(I9=\"\",\"\",\"命令簿を印刷し、決裁してください\")","v":""},null,null,null,null,null,null,null,null,null,null,null,null,{"$f":"U9","v":0},{"$f":"IF(V9>=30,1,\"\")","v":""},{"$f":"SUM(AG9:AH9)","v":0},{"$f":"W9","v":0},{"$f":"IF(X9>=30,1,\"\")","v":""},{"$f":"SUM(AJ9:AK9)","v":0},{"$f":"Y9","v":0},{"$f":"IF(Z9>=30,1,\"\")","v":""},{"$f":"SUM(AM9:AN9)","v":0},{"$f":"SUM(AO9,AL9,AI9)","v":0},{"$f":"SUM(AA9:AF9)","v":0},{"$f":"IF(H9=\"\",\"\",\"客観的計測記録を活用した照合を行い、命令簿の実績確認の決裁をしてください。\")","v":""},{"$f":"AW9","v":""},"08:06:57","2023-01-26",{"$f":"IF(H9=\"\",\"\",AU9)","v":""},{"$f":"IF(H9=\"\",\"\",AV9)","v":""},null,"2023-01-26",null,null,null,null,null,{"$f":"IF(K9=\"\",\"\",TEXT(K9,\"[h]:mm\")&\"～\"&TEXT(M9,\"[h]:mm\"))","v":""},{"$f":"IF(N9=\"\",\"\",TEXT(N9,\"[h]:mm\")&\"～\"&TEXT(P9,\"[h]:mm\"))","v":""},{"$f":"IF(BF9=\"\",IF(BE9=\"\",T9,TEXT(BE9&\"除く。 \"&T9,)),TEXT(BE9&\",\"&BF9&\"除く。 \"&T9,))","v":""},{"$f":"IF(#REF!>0,MAX(BH$8:BH8)+1,0)","v":{"$error":"#REF!"}},{"$f":"IF(D9=\"\",\"\",D9)","v":"2023-01-01"},{"$f":"#REF!","v":{"$error":"#REF!"}},{"$f":"#REF!","v":{"$error":"#REF!"}},{"$f":"#REF!","v":{"$error":"#REF!"}},{"$f":"#REF!","v":{"$error":"#REF!"}},{"$f":"IF(#REF!=0,\"\",TEXT(#REF!,\"[h]:mm\")&\"～\"&TEXT(#REF!,\"[h]:mm\"))","v":{"$error":"#REF!"}},{"$f":"IF(#REF!=0,\"\",TEXT(#REF!,\"[h]:mm\")&\"～\"&TEXT(#REF!,\"[h]:mm\"))","v":{"$error":"#REF!"}},{"$f":"IF(BO9=\"\",IF(BN9=\"\",\"\",TEXT(BN9&\"除く。 \",)),TEXT(BN9&\",\"&BO9&\"除く。 \",))","v":{"$error":"#REF!"}},null,1,{"$f":"IFERROR(VLOOKUP(BR9,$BH$9:$BQ$70,2,0),\"\")","v":""},{"$f":"IF(BS9=\"\",\"\",TEXT(BS9,\"aaa\"))","v":""},{"$f":"IFERROR(VLOOKUP(BR9,$BH$9:$BQ$70,3,0),\"\")","v":""},{"$f":"IFERROR(VLOOKUP(BR9,$BH$9:$BQ$70,4,0),\"\")","v":""},{"$f":"IFERROR(VLOOKUP(BR9,$BH$9:$BQ$70,5,0),\"\")","v":""},{"$f":"IFERROR(VLOOKUP(BR9,$BH$9:$BQ$70,6,0),\"\")","v":""},{"$f":"IFERROR(VLOOKUP(BR9,$BH$9:$BQ$70,9,0),\"\")","v":""}]
[null,null,"週休日",{"$f":"D9","v":"2023-01-01"},{"$f":"D10","v":44927},"②",{"$f":"TEXT(D10&F10,)","v":"44927②"},null,null,null,null,"～",null,null,"～",null,{"$f":"I10-H10-R10","v":0},{"$f":"SUM(M10-K10,P10-N10)","v":0},{"$f":"IFERROR(DATEDIF(D10,T10,\"ｄ\"),\"\")","v":""},{"$f":"IF(I10=\"\",\"\",\"命令簿を印刷し、決裁してください\")","v":""},null,null,null,null,null,null,null,null,null,null,null,null,{"$f":"U10","v":0},"",{"$f":"SUM(AG10:AH10)","v":0},{"$f":"W10","v":0},"",{"$f":"SUM(AJ10:AK10)","v":0},{"$f":"Y10","v":0},"",{"$f":"SUM(AM10:AN10)","v":0},{"$f":"SUM(AO10,AL10,AI10)","v":0},{"$f":"SUM(AA10:AF10)","v":0},{"$f":"IF(H10=\"\",\"\",\"客観的計測記録を活用した照合を行い、命令簿の実績確認の決裁をしてください。\")","v":""},{"$f":"AW10","v":""},"07:27:37","2023-01-26",{"$f":"IF(H10=\"\",\"\",AU10)","v":""},{"$f":"IF(H10=\"\",\"\",AV10)","v":""},null,"2023-01-26",null,null,null,null,null,"","","",{"$f":"IF(#REF!>0,MAX(BH$8:BH9)+1,0)","v":{"$error":"#REF!"}},"2023-01-01",{"$f":"#REF!","v":{"$error":"#REF!"}},{"$f":"#REF!","v":{"$error":"#REF!"}},{"$f":"#REF!","v":{"$error":"#REF!"}},{"$f":"#REF!","v":{"$error":"#REF!"}},{"$f":"IF(#REF!=0,\"\",TEXT(#REF!,\"[h]:mm\")&\"～\"&TEXT(#REF!,\"[h]:mm\"))","v":{"$error":"#REF!"}},{"$f":"IF(#REF!=0,\"\",TEXT(#REF!,\"[h]:mm\")&\"～\"&TEXT(#REF!,\"[h]:mm\"))","v":{"$error":"#REF!"}},{"$f":"IF(BO10=\"\",IF(BN10=\"\",\"\",TEXT(BN10&\"除く。 \",)),TEXT(BN10&\",\"&BO10&\"除く。 \",))","v":{"$error":"#REF!"}},null,2,"",{"$f":"IF(BS10=\"\",\"\",TEXT(BS10,\"aaa\"))","v":""},"","","","",""]
[null,null,"平日",{"$f":"D9+1","v":"2023-01-02"},{"$f":"D11","v":44928},"①",{"$f":"TEXT(D11&F11,)","v":"44928①"},null,null,null,null,"～",null,null,"～",null,0,0,"","",null,null,null,null,null,null,null,null,null,null,null,null,0,{"$f":"IF(V11>=30,1,\"\")","v":""},0,0,"",0,0,"",0,{"$f":"SUM(AO11,AL11,AI11)","v":0},{"$f":"SUM(AA11:AF11)","v":0},"","","07:36:45","2023-01-26","","",null,"2023-01-26",null,null,null,null,null,"","","",{"$f":"IF(#REF!>0,MAX(BH$8:BH10)+1,0)","v":{"$error":"#REF!"}},"2023-01-02",{"$f":"#REF!","v":{"$error":"#REF!"}},{"$f":"#REF!","v":{"$error":"#REF!"}},{"$f":"#REF!","v":{"$error":"#REF!"}},{"$f":"#REF!","v":{"$error":"#REF!"}},{"$f":"IF(#REF!=0,\"\",TEXT(#REF!,\"[h]:mm\")&\"～\"&TEXT(#REF!,\"[h]:mm\"))","v":{"$error":"#REF!"}},{"$f":"IF(#REF!=0,\"\",TEXT(#REF!,\"[h]:mm\")&\"～\"&TEXT(#REF!,\"[h]:mm\"))","v":{"$error":"#REF!"}},{"$error":"#REF!"},null,3,"","","","","","",""]
[null,null,"平日",{"$f":"D11","v":"2023-01-02"},44928,"②",{"$f":"TEXT(D12&F12,)","v":"44928②"},null,null,null,null,"～",null,null,"～",null,0,0,"","",null,null,null,null,null,null,null,null,null,null,null,null,0,"",0,0,"",0,0,"",0,0,0,"","","07:27:37","2023-01-26","","",null,"2023-01-26",null,null,null,null,null,"","","",{"$f":"IF(#REF!>0,MAX(BH$8:BH11)+1,0)","v":{"$error":"#REF!"}},"2023-01-02",{"$f":"#REF!","v":{"$error":"#REF!"}},{"$f":"#REF!","v":{"$error":"#REF!"}},{"$f":"#REF!","v":{"$error":"#REF!"}},{"$f":"#REF!","v":{"$error":"#REF!"}},{"$f":"IF(#REF!=0,\"\",TEXT(#REF!,\"[h]:mm\")&\"～\"&TEXT(#REF!,\"[h]:mm\"))","v":{"$error":"#REF!"}},{"$f":"IF(#REF!=0,\"\",TEXT(#REF!,\"[h]:mm\")&\"～\"&TEXT(#REF!,\"[h]:mm\"))","v":{"$error":"#REF!"}},{"$error":"#REF!"},null,4,"","","","","","",""]
[null,null,"平日",{"$f":"D11+1","v":"2023-01-03"},44929,"①",{"$f":"TEXT(D13&F13,)","v":"44929①"},null,null,null,null,"～",null,null,"～",null,0,0,"","",null,null,null,null,null,null,null,null,null,null,null,null,0,"",0,0,"",0,0,"",0,0,0,"","","07:27:37","2023-01-26","","",null,"2023-01-26",null,null,null,null,null,"","","",{"$f":"IF(#REF!>0,MAX(BH$8:BH12)+1,0)","v":{"$error":"#REF!"}},"2023-01-03",{"$f":"#REF!","v":{"$error":"#REF!"}},{"$f":"#REF!","v":{"$error":"#REF!"}},{"$f":"#REF!","v":{"$error":"#REF!"}},{"$f":"#REF!","v":{"$error":"#REF!"}},{"$f":"IF(#REF!=0,\"\",TEXT(#REF!,\"[h]:mm\")&\"～\"&TEXT(#REF!,\"[h]:mm\"))","v":{"$error":"#REF!"}},{"$f":"IF(#REF!=0,\"\",TEXT(#REF!,\"[h]:mm\")&\"～\"&TEXT(#REF!,\"[h]:mm\"))","v":{"$error":"#REF!"}},{"$error":"#REF!"},null,5,"","","","","","",""]
[null,null,"平日",{"$f":"D13","v":"2023-01-03"},44929,"②","44929②",null,null,null,null,"～",null,null,"～",null,0,0,"","",null,null,null,null,null,null,null,null,null,null,null,null,0,"",0,0,"",0,0,"",0,0,0,"","","07:27:37","2023-01-26","","",null,"2023-01-26",null,null,null,null,null,"","","",{"$f":"IF(#REF!>0,MAX(BH$8:BH13)+1,0)","v":{"$error":"#REF!"}},"2023-01-03",{"$f":"#REF!","v":{"$error":"#REF!"}},{"$f":"#REF!","v":{"$error":"#REF!"}},{"$f":"#REF!","v":{"$error":"#REF!"}},{"$f":"#REF!","v":{"$error":"#REF!"}},{"$f":"IF(#REF!=0,\"\",TEXT(#REF!,\"[h]:mm\")&\"～\"&TEXT(#REF!,\"[h]:mm\"))","v":{"$error":"#REF!"}},{"$f":"IF(#REF!=0,\"\",TEXT(#REF!,\"[h]:mm\")&\"～\"&TEXT(#REF!,\"[h]:mm\"))","v":{"$error":"#REF!"}},{"$error":"#REF!"},null,6,"","","","","","",""]
[null,null,"平日",{"$f":"D13+1","v":"2023-01-04"},44930,"①","44930①",null,null,null,null,"～",null,null,"～",null,0,0,"","",null,null,null,null,null,null,null,null,null,null,null,null,0,"",0,0,"",0,0,"",0,0,0,"","","07:27:37","2023-01-26","","",null,"2023-01-26",null,null,null,null,null,"","","",{"$f":"IF(#REF!>0,MAX(BH$8:BH14)+1,0)","v":{"$error":"#REF!"}},"2023-01-04",{"$f":"#REF!","v":{"$error":"#REF!"}},{"$f":"#REF!","v":{"$error":"#REF!"}},{"$f":"#REF!","v":{"$error":"#REF!"}},{"$f":"#REF!","v":{"$error":"#REF!"}},{"$f":"IF(#REF!=0,\"\",TEXT(#REF!,\"[h]:mm\")&\"～\"&TEXT(#REF!,\"[h]:mm\"))","v":{"$error":"#REF!"}},{"$f":"IF(#REF!=0,\"\",TEXT(#REF!,\"[h]:mm\")&\"～\"&TEXT(#REF!,\"[h]:mm\"))","v":{"$error":"#REF!"}},{"$error":"#REF!"},null,7,"","","","","","",""]
[null,null,"平日",{"$f":"D15","v":"2023-01-04"},44930,"②","44930②",null,null,null,null,"～",null,null,"～",null,0,0,"","",null,null,null,null,null,null,null,null,null,null,null,null,0,"",0,0,"",0,0,"",0,0,0,"","","07:27:37","2023-01-26","","",null,"2023-01-26",null,null,null,null,null,"","","",{"$f":"IF(#REF!>0,MAX(BH$8:BH15)+1,0)","v":{"$error":"#REF!"}},"2023-01-04",{"$f":"#REF!","v":{"$error":"#REF!"}},{"$f":"#REF!","v":{"$error":"#REF!"}},{"$f":"#REF!","v":{"$error":"#REF!"}},{"$f":"#REF!","v":{"$error":"#REF!"}},{"$f":"IF(#REF!=0,\"\",TEXT(#REF!,\"[h]:mm\")&\"～\"&TEXT(#REF!,\"[h]:mm\"))","v":{"$error":"#REF!"}},{"$f":"IF(#REF!=0,\"\",TEXT(#REF!,\"[h]:mm\")&\"～\"&TEXT(#REF!,\"[h]:mm\"))","v":{"$error":"#REF!"}},{"$error":"#REF!"},null,8,"","","","","","",""]
[null,null,"平日",{"$f":"D15+1","v":"2023-01-05"},44931,"①","44931①",null,null,null,null,"～",null,null,"～",null,0,0,{"$f":"IFERROR(DATEDIF(D17,T17,\"ｄ\"),\"\")","v":""},"",null,null,null,null,null,null,null,null,null,null,null,null,0,"",0,0,"",0,0,"",0,0,0,"",{"$f":"AW17","v":""},"07:27:38","2023-01-26","",{"$f":"IF(H17=\"\",\"\",AV17)","v":""},null,"2023-01-26",null,null,null,null,null,"","","",{"$f":"IF(#REF!>0,MAX(BH$8:BH16)+1,0)","v":{"$error":"#REF!"}},"2023-01-05",{"$f":"#REF!","v":{"$error":"#REF!"}},{"$f":"#REF!","v":{"$error":"#REF!"}},{"$f":"#REF!","v":{"$error":"#REF!"}},{"$f":"#REF!","v":{"$error":"#REF!"}},{"$f":"IF(#REF!=0,\"\",TEXT(#REF!,\"[h]:mm\")&\"～\"&TEXT(#REF!,\"[h]:mm\"))","v":{"$error":"#REF!"}},{"$f":"IF(#REF!=0,\"\",TEXT(#REF!,\"[h]:mm\")&\"～\"&TEXT(#REF!,\"[h]:mm\"))","v":{"$error":"#REF!"}},{"$error":"#REF!"},null,9,"","",0.41824074074074075,44916,"","",""]
[null,null,"平日",{"$f":"D17","v":"2023-01-05"},44931,"②","44931②",null,null,null,null,"～",null,null,"～",null,0,0,"","",null,null,null,null,null,null,null,null,null,null,null,null,0,"",0,0,"",0,0,"",0,0,0,"","","07:27:38","2023-01-26","","",null,"2023-01-26",null,null,null,null,null,"","","",{"$f":"IF(#REF!>0,MAX(BH$8:BH17)+1,0)","v":{"$error":"#REF!"}},"2023-01-05",{"$f":"#REF!","v":{"$error":"#REF!"}},{"$f":"#REF!","v":{"$error":"#REF!"}},{"$f":"#REF!","v":{"$error":"#REF!"}},{"$f":"#REF!","v":{"$error":"#REF!"}},{"$f":"IF(#REF!=0,\"\",TEXT(#REF!,\"[h]:mm\")&\"～\"&TEXT(#REF!,\"[h]:mm\"))","v":{"$error":"#REF!"}},{"$f":"IF(#REF!=0,\"\",TEXT(#REF!,\"[h]:mm\")&\"～\"&TEXT(#REF!,\"[h]:mm\"))","v":{"$error":"#REF!"}},{"$error":"#REF!"},null,10,"","",{"$f":"IFERROR(VLOOKUP(BR18,$BH$9:$BQ$70,3,0),\"\")","v":""},{"$f":"IFERROR(VLOOKUP(BR18,$BH$9:$BQ$70,4,0),\"\")","v":""},"","",""]
[null,null,"平日",{"$f":"D17+1","v":"2023-01-06"},44932,"①","44932①",null,null,null,null,"～",null,null,"～",null,0,0,"","",null,null,null,null,null,null,null,null,null,null,null,null,0,"",0,0,"",0,0,"",0,0,0,"","","07:27:38","2023-01-26","",{"$f":"IF(H19=\"\",\"\",AV19)","v":""},null,"2023-01-26",null,null,null,null,null,"","","",{"$f":"IF(#REF!>0,MAX(BH$8:BH18)+1,0)","v":{"$error":"#REF!"}},"2023-01-06",{"$f":"#REF!","v":{"$error":"#REF!"}},{"$f":"#REF!","v":{"$error":"#REF!"}},{"$f":"#REF!","v":{"$error":"#REF!"}},{"$f":"#REF!","v":{"$error":"#REF!"}},{"$f":"IF(#REF!=0,\"\",TEXT(#REF!,\"[h]:mm\")&\"～\"&TEXT(#REF!,\"[h]:mm\"))","v":{"$error":"#REF!"}},{"$f":"IF(#REF!=0,\"\",TEXT(#REF!,\"[h]:mm\")&\"～\"&TEXT(#REF!,\"[h]:mm\"))","v":{"$error":"#REF!"}},{"$error":"#REF!"},null,11,"","","","","","",""]
[null,null,"平日",{"$f":"D19","v":"2023-01-06"},44932,"②","44932②",null,null,null,null,"～",null,null,"～",null,0,0,"","",null,null,null,null,null,null,null,null,null,null,null,null,0,"",0,0,"",0,0,"",0,0,0,"","","07:27:38","2023-01-26","","",null,"2023-01-26",null,null,null,null,null,"","","",{"$f":"IF(#REF!>0,MAX(BH$8:BH19)+1,0)","v":{"$error":"#REF!"}},"2023-01-06",{"$f":"#REF!","v":{"$error":"#REF!"}},{"$f":"#REF!","v":{"$error":"#REF!"}},{"$f":"#REF!","v":{"$error":"#REF!"}},{"$f":"#REF!","v":{"$error":"#REF!"}},{"$f":"IF(#REF!=0,\"\",TEXT(#REF!,\"[h]:mm\")&\"～\"&TEXT(#REF!,\"[h]:mm\"))","v":{"$error":"#REF!"}},{"$f":"IF(#REF!=0,\"\",TEXT(#REF!,\"[h]:mm\")&\"～\"&TEXT(#REF!,\"[h]:mm\"))","v":{"$error":"#REF!"}},{"$error":"#REF!"},null,12,"","","","","","",""]
[null,null,"週休日",{"$f":"D19+1","v":"2023-01-07"},44933,"①","44933①",null,null,null,null,"～",null,null,"～",null,0,0,"","",null,null,null,null,null,null,null,null,null,null,null,null,0,"",0,0,"",0,0,"",0,0,0,"","","07:27:38","2023-01-26","","",null,"2023-01-26",null,null,null,null,null,"","","",{"$f":"IF(#REF!>0,MAX(BH$8:BH20)+1,0)","v":{"$error":"#REF!"}},"2023-01-07",{"$f":"#REF!","v":{"$error":"#REF!"}},{"$f":"#REF!","v":{"$error":"#REF!"}},{"$f":"#REF!","v":{"$error":"#REF!"}},{"$f":"#REF!","v":{"$error":"#REF!"}},{"$f":"IF(#REF!=0,\"\",TEXT(#REF!,\"[h]:mm\")&\"～\"&TEXT(#REF!,\"[h]:mm\"))","v":{"$error":"#REF!"}},{"$f":"IF(#REF!=0,\"\",TEXT(#REF!,\"[h]:mm\")&\"～\"&TEXT(#REF!,\"[h]:mm\"))","v":{"$error":"#REF!"}},{"$error":"#REF!"},null,13,"","","","","","",""]
[null,null,"週休日",{"$f":"D21","v":"2023-01-07"},44933,"②","44933②",null,null,null,null,"～",null,null,"～",null,0,0,"","",null,null,null,null,null,null,null,null,null,null,null,null,0,"",0,0,"",0,0,"",0,0,0,"","","07:27:38","2023-01-26","","",null,"2023-01-26",null,null,null,null,null,"","","",{"$f":"IF(#REF!>0,MAX(BH$8:BH21)+1,0)","v":{"$error":"#REF!"}},"2023-01-07",{"$f":"#REF!","v":{"$error":"#REF!"}},{"$f":"#REF!","v":{"$error":"#REF!"}},{"$f":"#REF!","v":{"$error":"#REF!"}},{"$f":"#REF!","v":{"$error":"#REF!"}},{"$f":"IF(#REF!=0,\"\",TEXT(#REF!,\"[h]:mm\")&\"～\"&TEXT(#REF!,\"[h]:mm\"))","v":{"$error":"#REF!"}},{"$f":"IF(#REF!=0,\"\",TEXT(#REF!,\"[h]:mm\")&\"～\"&TEXT(#REF!,\"[h]:mm\"))","v":{"$error":"#REF!"}},{"$error":"#REF!"},null,14,"","","","","","",""]
[null,null,"週休日",{"$f":"D21+1","v":"2023-01-08"},44934,"①","44934①",null,null,null,null,"～",null,null,"～",null,0,0,"","",null,null,null,null,null,null,null,null,null,null,null,null,0,"",0,0,"",0,0,"",0,0,0,"","","07:27:38","2023-01-26","","",null,"2023-01-26",null,null,null,null,null,"","","",{"$f":"IF(#REF!>0,MAX(BH$8:BH22)+1,0)","v":{"$error":"#REF!"}},"2023-01-08",{"$f":"#REF!","v":{"$error":"#REF!"}},{"$f":"#REF!","v":{"$error":"#REF!"}},{"$f":"#REF!","v":{"$error":"#REF!"}},{"$f":"#REF!","v":{"$error":"#REF!"}},{"$f":"IF(#REF!=0,\"\",TEXT(#REF!,\"[h]:mm\")&\"～\"&TEXT(#REF!,\"[h]:mm\"))","v":{"$error":"#REF!"}},{"$f":"IF(#REF!=0,\"\",TEXT(#REF!,\"[h]:mm\")&\"～\"&TEXT(#REF!,\"[h]:mm\"))","v":{"$error":"#REF!"}},{"$error":"#REF!"},null,15,"","","","","","",""]
[null,null,"週休日",{"$f":"D23","v":"2023-01-08"},44934,"②","44934②",null,null,null,null,"～",null,null,"～",null,0,0,"","",null,null,null,null,null,null,null,null,null,null,null,null,0,"",0,0,"",0,0,"",0,0,0,"","","07:27:38","2023-01-26","","",null,"2023-01-26",null,null,null,null,null,"","","",{"$f":"IF(#REF!>0,MAX(BH$8:BH23)+1,0)","v":{"$error":"#REF!"}},"2023-01-08",{"$f":"#REF!","v":{"$error":"#REF!"}},{"$f":"#REF!","v":{"$error":"#REF!"}},{"$f":"#REF!","v":{"$error":"#REF!"}},{"$f":"#REF!","v":{"$error":"#REF!"}},{"$f":"IF(#REF!=0,\"\",TEXT(#REF!,\"[h]:mm\")&\"～\"&TEXT(#REF!,\"[h]:mm\"))","v":{"$error":"#REF!"}},{"$f":"IF(#REF!=0,\"\",TEXT(#REF!,\"[h]:mm\")&\"～\"&TEXT(#REF!,\"[h]:mm\"))","v":{"$error":"#REF!"}},{"$error":"#REF!"},null,16,"","","","","","",""]
[null,null,"平日",{"$f":"D23+1","v":"2023-01-09"},44935,"①","44935①",null,null,null,null,"～",null,null,"～",null,0,0,"","",null,null,null,null,null,null,null,null,null,null,null,null,0,"",0,0,"",0,0,"",0,0,0,"","","07:27:38","2023-01-26","","",null,"2023-01-26",null,null,null,null,null,"","","",{"$f":"IF(#REF!>0,MAX(BH$8:BH24)+1,0)","v":{"$error":"#REF!"}},"2023-01-09",{"$f":"#REF!","v":{"$error":"#REF!"}},{"$f":"#REF!","v":{"$error":"#REF!"}},{"$f":"#REF!","v":{"$error":"#REF!"}},{"$f":"#REF!","v":{"$error":"#REF!"}},{"$f":"IF(#REF!=0,\"\",TEXT(#REF!,\"[h]:mm\")&\"～\"&TEXT(#REF!,\"[h]:mm\"))","v":{"$error":"#REF!"}},{"$f":"IF(#REF!=0,\"\",TEXT(#REF!,\"[h]:mm\")&\"～\"&TEXT(#REF!,\"[h]:mm\"))","v":{"$error":"#REF!"}},{"$error":"#REF!"},null,17,"","","","","","",""]
[null,null,"平日",{"$f":"D25","v":"2023-01-09"},44935,"②","44935②",null,null,null,null,"～",null,null,"～",null,0,0,"","",null,null,null,null,null,null,null,null,null,null,null,null,0,"",0,0,"",0,0,"",0,0,0,"","","07:27:38","2023-01-26","","",null,"2023-01-26",null,null,null,null,null,"","","",{"$f":"IF(#REF!>0,MAX(BH$8:BH25)+1,0)","v":{"$error":"#REF!"}},"2023-01-09",{"$f":"#REF!","v":{"$error":"#REF!"}},{"$f":"#REF!","v":{"$error":"#REF!"}},{"$f":"#REF!","v":{"$error":"#REF!"}},{"$f":"#REF!","v":{"$error":"#REF!"}},{"$f":"IF(#REF!=0,\"\",TEXT(#REF!,\"[h]:mm\")&\"～\"&TEXT(#REF!,\"[h]:mm\"))","v":{"$error":"#REF!"}},{"$f":"IF(#REF!=0,\"\",TEXT(#REF!,\"[h]:mm\")&\"～\"&TEXT(#REF!,\"[h]:mm\"))","v":{"$error":"#REF!"}},{"$error":"#REF!"},null,18,"","","","","","",""]
[null,null,"平日",{"$f":"D25+1","v":"2023-01-10"},44936,"①","44936①",null,null,null,null,"～",null,null,"～",null,0,0,"","",null,null,null,null,null,null,null,null,null,null,null,null,0,"",0,0,"",0,0,"",0,0,0,"","","07:27:38","2023-01-26","","",null,"2023-01-26",null,null,null,null,null,"","","",{"$f":"IF(#REF!>0,MAX(BH$8:BH26)+1,0)","v":{"$error":"#REF!"}},"2023-01-10",{"$f":"#REF!","v":{"$error":"#REF!"}},{"$f":"#REF!","v":{"$error":"#REF!"}},{"$f":"#REF!","v":{"$error":"#REF!"}},{"$f":"#REF!","v":{"$error":"#REF!"}},{"$f":"IF(#REF!=0,\"\",TEXT(#REF!,\"[h]:mm\")&\"～\"&TEXT(#REF!,\"[h]:mm\"))","v":{"$error":"#REF!"}},{"$f":"IF(#REF!=0,\"\",TEXT(#REF!,\"[h]:mm\")&\"～\"&TEXT(#REF!,\"[h]:mm\"))","v":{"$error":"#REF!"}},{"$error":"#REF!"},null,19,"","","","","","",""]
[null,null,"平日",{"$f":"D27","v":"2023-01-10"},44936,"②","44936②",null,null,null,null,"～",null,null,"～",null,0,0,"","",null,null,null,null,null,null,null,null,null,null,null,null,0,"",0,0,"",0,0,"",0,0,0,"","","07:27:38","2023-01-26","","",null,"2023-01-26",null,null,null,null,null,"","","",{"$f":"IF(#REF!>0,MAX(BH$8:BH27)+1,0)","v":{"$error":"#REF!"}},"2023-01-10",{"$f":"#REF!","v":{"$error":"#REF!"}},{"$f":"#REF!","v":{"$error":"#REF!"}},{"$f":"#REF!","v":{"$error":"#REF!"}},{"$f":"#REF!","v":{"$error":"#REF!"}},{"$f":"IF(#REF!=0,\"\",TEXT(#REF!,\"[h]:mm\")&\"～\"&TEXT(#REF!,\"[h]:mm\"))","v":{"$error":"#REF!"}},{"$f":"IF(#REF!=0,\"\",TEXT(#REF!,\"[h]:mm\")&\"～\"&TEXT(#REF!,\"[h]:mm\"))","v":{"$error":"#REF!"}},{"$error":"#REF!"},null,20,"","","","","","",""]
[null,null,"平日",{"$f":"D27+1","v":"2023-01-11"},44937,"①","44937①",null,null,null,null,"～",null,null,"～",null,0,0,"","",null,null,null,null,null,null,null,null,null,null,null,null,0,"",0,0,"",0,0,"",0,0,0,"","","07:27:38","2023-01-26","","",null,"2023-01-26",null,null,null,null,null,"","","",{"$f":"IF(#REF!>0,MAX(BH$8:BH28)+1,0)","v":{"$error":"#REF!"}},"2023-01-11",{"$f":"#REF!","v":{"$error":"#REF!"}},{"$f":"#REF!","v":{"$error":"#REF!"}},{"$f":"#REF!","v":{"$error":"#REF!"}},{"$f":"#REF!","v":{"$error":"#REF!"}},{"$f":"IF(#REF!=0,\"\",TEXT(#REF!,\"[h]:mm\")&\"～\"&TEXT(#REF!,\"[h]:mm\"))","v":{"$error":"#REF!"}},{"$f":"IF(#REF!=0,\"\",TEXT(#REF!,\"[h]:mm\")&\"～\"&TEXT(#REF!,\"[h]:mm\"))","v":{"$error":"#REF!"}},{"$error":"#REF!"},null,21,"","","","","","",""]
[null,null,"平日",{"$f":"D29","v":"2023-01-11"},44937,"②","44937②",null,null,null,null,"～",null,null,"～",null,0,0,"","",null,null,null,null,null,null,null,null,null,null,null,null,{"$f":"U30","v":0},"",0,0,"",0,0,"",0,0,0,"","","07:27:38","2023-01-26","","",null,"2023-01-26",null,null,null,null,null,"","","",{"$f":"IF(#REF!>0,MAX(BH$8:BH29)+1,0)","v":{"$error":"#REF!"}},"2023-01-11",{"$f":"#REF!","v":{"$error":"#REF!"}},{"$f":"#REF!","v":{"$error":"#REF!"}},{"$f":"#REF!","v":{"$error":"#REF!"}},{"$f":"#REF!","v":{"$error":"#REF!"}},{"$f":"IF(#REF!=0,\"\",TEXT(#REF!,\"[h]:mm\")&\"～\"&TEXT(#REF!,\"[h]:mm\"))","v":{"$error":"#REF!"}},{"$f":"IF(#REF!=0,\"\",TEXT(#REF!,\"[h]:mm\")&\"～\"&TEXT(#REF!,\"[h]:mm\"))","v":{"$error":"#REF!"}},{"$error":"#REF!"},null,22,"","","","","","",""]
[null,null,"平日",{"$f":"D29+1","v":"2023-01-12"},44938,"①","44938①",null,null,null,null,"～",null,null,"～",null,0,0,"","",null,null,null,null,null,null,null,null,null,null,null,null,0,"",0,0,"",0,0,"",0,0,0,"","","07:27:38","2023-01-26","","",null,"2023-01-26",null,null,null,null,null,"","","",{"$f":"IF(#REF!>0,MAX(BH$8:BH30)+1,0)","v":{"$error":"#REF!"}},"2023-01-12",{"$f":"#REF!","v":{"$error":"#REF!"}},{"$f":"#REF!","v":{"$error":"#REF!"}},{"$f":"#REF!","v":{"$error":"#REF!"}},{"$f":"#REF!","v":{"$error":"#REF!"}},{"$f":"IF(#REF!=0,\"\",TEXT(#REF!,\"[h]:mm\")&\"～\"&TEXT(#REF!,\"[h]:mm\"))","v":{"$error":"#REF!"}},{"$f":"IF(#REF!=0,\"\",TEXT(#REF!,\"[h]:mm\")&\"～\"&TEXT(#REF!,\"[h]:mm\"))","v":{"$error":"#REF!"}},{"$error":"#REF!"},null,23,"","","","","","",""]
[null,null,"平日",{"$f":"D31","v":"2023-01-12"},44938,"②","44938②",null,null,null,null,"～",null,null,"～",null,0,0,"","",null,null,null,null,null,null,null,null,null,null,null,null,0,"",0,0,"",0,0,"",0,0,0,"","","07:27:38","2023-01-26","","",null,"2023-01-26",null,null,null,null,null,"","","",{"$f":"IF(#REF!>0,MAX(BH$8:BH31)+1,0)","v":{"$error":"#REF!"}},"2023-01-12",{"$f":"#REF!","v":{"$error":"#REF!"}},{"$f":"#REF!","v":{"$error":"#REF!"}},{"$f":"#REF!","v":{"$error":"#REF!"}},{"$f":"#REF!","v":{"$error":"#REF!"}},{"$f":"IF(#REF!=0,\"\",TEXT(#REF!,\"[h]:mm\")&\"～\"&TEXT(#REF!,\"[h]:mm\"))","v":{"$error":"#REF!"}},{"$f":"IF(#REF!=0,\"\",TEXT(#REF!,\"[h]:mm\")&\"～\"&TEXT(#REF!,\"[h]:mm\"))","v":{"$error":"#REF!"}},{"$error":"#REF!"},null,24,"","","","","","",""]
[null,null,"平日",{"$f":"D31+1","v":"2023-01-13"},44939,"①","44939①",null,null,null,null,"～",null,null,"～",null,0,0,"","",null,null,null,null,null,null,null,null,null,null,null,null,0,"",0,0,"",0,0,"",0,0,0,"","","07:27:38","2023-01-26","","",null,"2023-01-26",null,null,null,null,null,"","","",{"$f":"IF(#REF!>0,MAX(BH$8:BH32)+1,0)","v":{"$error":"#REF!"}},"2023-01-13",{"$f":"#REF!","v":{"$error":"#REF!"}},{"$f":"#REF!","v":{"$error":"#REF!"}},{"$f":"#REF!","v":{"$error":"#REF!"}},{"$f":"#REF!","v":{"$error":"#REF!"}},{"$f":"IF(#REF!=0,\"\",TEXT(#REF!,\"[h]:mm\")&\"～\"&TEXT(#REF!,\"[h]:mm\"))","v":{"$error":"#REF!"}},{"$f":"IF(#REF!=0,\"\",TEXT(#REF!,\"[h]:mm\")&\"～\"&TEXT(#REF!,\"[h]:mm\"))","v":{"$error":"#REF!"}},{"$error":"#REF!"},null,25,"","","","","","",""]
[null,null,"平日",{"$f":"D33","v":"2023-01-13"},44939,"②","44939②",null,null,null,null,"～",null,null,"～",null,0,0,"","",null,null,null,null,null,null,null,null,null,null,null,null,0,"",0,0,"",0,0,"",0,0,0,"","","07:27:39","2023-01-26","","",null,"2023-01-26",null,null,null,null,null,"","","",{"$f":"IF(#REF!>0,MAX(BH$8:BH33)+1,0)","v":{"$error":"#REF!"}},"2023-01-13",{"$f":"#REF!","v":{"$error":"#REF!"}},{"$f":"#REF!","v":{"$error":"#REF!"}},{"$f":"#REF!","v":{"$error":"#REF!"}},{"$f":"#REF!","v":{"$error":"#REF!"}},{"$f":"IF(#REF!=0,\"\",TEXT(#REF!,\"[h]:mm\")&\"～\"&TEXT(#REF!,\"[h]:mm\"))","v":{"$error":"#REF!"}},{"$f":"IF(#REF!=0,\"\",TEXT(#REF!,\"[h]:mm\")&\"～\"&TEXT(#REF!,\"[h]:mm\"))","v":{"$error":"#REF!"}},{"$error":"#REF!"},null,26,"","","","","","",""]
[null,null,"週休日",{"$f":"D33+1","v":"2023-01-14"},44940,"①","44940①",null,null,null,null,"～",null,null,"～",null,0,0,"","",null,null,null,null,null,null,null,null,null,null,null,null,0,"",0,0,"",0,0,"",0,0,0,"","","07:27:39","2023-01-26","","",null,"2023-01-26",null,null,null,null,null,"","","",{"$f":"IF(#REF!>0,MAX(BH$8:BH34)+1,0)","v":{"$error":"#REF!"}},"2023-01-14",{"$f":"#REF!","v":{"$error":"#REF!"}},{"$f":"#REF!","v":{"$error":"#REF!"}},{"$f":"#REF!","v":{"$error":"#REF!"}},{"$f":"#REF!","v":{"$error":"#REF!"}},{"$f":"IF(#REF!=0,\"\",TEXT(#REF!,\"[h]:mm\")&\"～\"&TEXT(#REF!,\"[h]:mm\"))","v":{"$error":"#REF!"}},{"$f":"IF(#REF!=0,\"\",TEXT(#REF!,\"[h]:mm\")&\"～\"&TEXT(#REF!,\"[h]:mm\"))","v":{"$error":"#REF!"}},{"$error":"#REF!"},null,27,"","","","","","",""]
[null,null,"週休日",{"$f":"D35","v":"2023-01-14"},44940,"②","44940②",null,null,null,null,"～",null,null,"～",null,0,0,"","",null,null,null,null,null,null,null,null,null,null,null,null,0,"",0,0,"",0,0,"",0,0,0,"","","07:27:39","2023-01-26","","",null,"2023-01-26",null,null,null,null,null,"","","",{"$f":"IF(#REF!>0,MAX(BH$8:BH35)+1,0)","v":{"$error":"#REF!"}},"2023-01-14",{"$f":"#REF!","v":{"$error":"#REF!"}},{"$f":"#REF!","v":{"$error":"#REF!"}},{"$f":"#REF!","v":{"$error":"#REF!"}},{"$f":"#REF!","v":{"$error":"#REF!"}},{"$f":"IF(#REF!=0,\"\",TEXT(#REF!,\"[h]:mm\")&\"～\"&TEXT(#REF!,\"[h]:mm\"))","v":{"$error":"#REF!"}},{"$f":"IF(#REF!=0,\"\",TEXT(#REF!,\"[h]:mm\")&\"～\"&TEXT(#REF!,\"[h]:mm\"))","v":{"$error":"#REF!"}},{"$error":"#REF!"},null,28,"","","","","","",""]
[null,null,"週休日",{"$f":"D35+1","v":"2023-01-15"},44941,"①","44941①",null,null,null,null,"～",null,null,"～",null,0,0,"","",null,null,null,null,null,null,null,null,null,null,null,null,0,"",0,0,"",0,0,"",0,0,0,"","","07:27:39","2023-01-26","","",null,"2023-01-26",null,null,null,null,null,"","","",{"$f":"IF(#REF!>0,MAX(BH$8:BH36)+1,0)","v":{"$error":"#REF!"}},"2023-01-15",{"$f":"#REF!","v":{"$error":"#REF!"}},{"$f":"#REF!","v":{"$error":"#REF!"}},{"$f":"#REF!","v":{"$error":"#REF!"}},{"$f":"#REF!","v":{"$error":"#REF!"}},{"$f":"IF(#REF!=0,\"\",TEXT(#REF!,\"[h]:mm\")&\"～\"&TEXT(#REF!,\"[h]:mm\"))","v":{"$error":"#REF!"}},{"$f":"IF(#REF!=0,\"\",TEXT(#REF!,\"[h]:mm\")&\"～\"&TEXT(#REF!,\"[h]:mm\"))","v":{"$error":"#REF!"}},{"$error":"#REF!"},null,29,"","","","","","",""]
[null,null,"週休日",{"$f":"D37","v":"2023-01-15"},44941,"②","44941②",null,null,null,null,"～",null,null,"～",null,0,0,"","",null,null,null,null,null,null,null,null,null,null,null,null,0,"",0,0,"",0,0,"",0,0,0,"","","07:27:39","2023-01-26","","",null,"2023-01-26",null,null,null,null,null,"","","",{"$f":"IF(#REF!>0,MAX(BH$8:BH37)+1,0)","v":{"$error":"#REF!"}},"2023-01-15",{"$f":"#REF!","v":{"$error":"#REF!"}},{"$f":"#REF!","v":{"$error":"#REF!"}},{"$f":"#REF!","v":{"$error":"#REF!"}},{"$f":"#REF!","v":{"$error":"#REF!"}},{"$f":"IF(#REF!=0,\"\",TEXT(#REF!,\"[h]:mm\")&\"～\"&TEXT(#REF!,\"[h]:mm\"))","v":{"$error":"#REF!"}},{"$f":"IF(#REF!=0,\"\",TEXT(#REF!,\"[h]:mm\")&\"～\"&TEXT(#REF!,\"[h]:mm\"))","v":{"$error":"#REF!"}},{"$error":"#REF!"},null,30,"","","","","","",""]
[null,null,"平日",{"$f":"D37+1","v":"2023-01-16"},44942,"①","44942①",null,null,null,null,"～",null,null,"～",null,0,0,"","",null,null,null,null,null,null,null,null,null,null,null,null,0,"",0,0,"",0,0,"",0,0,0,"","","07:27:39","2023-01-26","","",null,"2023-01-26",null,null,null,null,null,"","","",{"$f":"IF(#REF!>0,MAX(BH$8:BH38)+1,0)","v":{"$error":"#REF!"}},"2023-01-16",{"$f":"#REF!","v":{"$error":"#REF!"}},{"$f":"#REF!","v":{"$error":"#REF!"}},{"$f":"#REF!","v":{"$error":"#REF!"}},{"$f":"#REF!","v":{"$error":"#REF!"}},{"$f":"IF(#REF!=0,\"\",TEXT(#REF!,\"[h]:mm\")&\"～\"&TEXT(#REF!,\"[h]:mm\"))","v":{"$error":"#REF!"}},{"$f":"IF(#REF!=0,\"\",TEXT(#REF!,\"[h]:mm\")&\"～\"&TEXT(#REF!,\"[h]:mm\"))","v":{"$error":"#REF!"}},{"$error":"#REF!"},null,31,"","","","","","",""]
[null,null,"平日",{"$f":"D39","v":"2023-01-16"},44942,"②","44942②",null,null,null,null,"～",null,null,"～",null,0,0,"","",null,null,null,null,null,null,null,null,null,null,null,null,0,"",0,0,"",0,0,"",0,0,0,"","","07:27:39","2023-01-26","","",null,"2023-01-26",null,null,null,null,null,"","","",{"$f":"IF(#REF!>0,MAX(BH$8:BH39)+1,0)","v":{"$error":"#REF!"}},"2023-01-16",{"$f":"#REF!","v":{"$error":"#REF!"}},{"$f":"#REF!","v":{"$error":"#REF!"}},{"$f":"#REF!","v":{"$error":"#REF!"}},{"$f":"#REF!","v":{"$error":"#REF!"}},{"$f":"IF(#REF!=0,\"\",TEXT(#REF!,\"[h]:mm\")&\"～\"&TEXT(#REF!,\"[h]:mm\"))","v":{"$error":"#REF!"}},{"$f":"IF(#REF!=0,\"\",TEXT(#REF!,\"[h]:mm\")&\"～\"&TEXT(#REF!,\"[h]:mm\"))","v":{"$error":"#REF!"}},{"$error":"#REF!"},null,32,"","","","","","",""]
[null,null,{"$f":"IF(D41=\"\",\"\",IF(OR(WEEKDAY(E41)=1,WEEKDAY(E41)=7),\"週休日\",IF(COUNTIF($D$77:$D$105,D41)=1,\"休日\",\"平日\")))","v":"平日"},{"$f":"D39+1","v":"2023-01-17"},44943,"①","44943①",null,null,null,null,"～",null,null,"～",null,0,0,"","",null,null,null,null,null,null,null,null,null,null,null,null,0,{"$f":"IF(V41>=30,1,\"\")","v":""},0,0,{"$f":"IF(X41>=30,1,\"\")","v":""},0,0,{"$f":"IF(Z41>=30,1,\"\")","v":""},0,0,0,"","","07:27:39","2023-01-26","","",null,"2023-01-26",null,null,null,null,null,{"$f":"IF(K41=\"\",\"\",TEXT(K41,\"[h]:mm\")&\"～\"&TEXT(M41,\"[h]:mm\"))","v":""},{"$f":"IF(N41=\"\",\"\",TEXT(N41,\"[h]:mm\")&\"～\"&TEXT(P41,\"[h]:mm\"))","v":""},{"$f":"IF(BF41=\"\",IF(BE41=\"\",T41,TEXT(BE41&\"除く。 \"&T41,)),TEXT(BE41&\",\"&BF41&\"除く。 \"&T41,))","v":""},{"$f":"IF(#REF!>0,MAX(BH$8:BH40)+1,0)","v":{"$error":"#REF!"}},{"$f":"IF(D41=\"\",\"\",D41)","v":"2023-01-17"},{"$f":"#REF!","v":{"$error":"#REF!"}},{"$f":"#REF!","v":{"$error":"#REF!"}},{"$f":"#REF!","v":{"$error":"#REF!"}},{"$f":"#REF!","v":{"$error":"#REF!"}},{"$f":"IF(#REF!=0,\"\",TEXT(#REF!,\"[h]:mm\")&\"～\"&TEXT(#REF!,\"[h]:mm\"))","v":{"$error":"#REF!"}},{"$f":"IF(#REF!=0,\"\",TEXT(#REF!,\"[h]:mm\")&\"～\"&TEXT(#REF!,\"[h]:mm\"))","v":{"$error":"#REF!"}},{"$error":"#REF!"},null,33,{"$f":"IFERROR(VLOOKUP(BR41,$BH$9:$BQ$70,2,0),\"\")","v":""},"","","",{"$f":"IFERROR(VLOOKUP(BR41,$BH$9:$BQ$70,5,0),\"\")","v":""},{"$f":"IFERROR(VLOOKUP(BR41,$BH$9:$BQ$70,6,0),\"\")","v":""},{"$f":"IFERROR(VLOOKUP(BR41,$BH$9:$BQ$70,9,0),\"\")","v":""}]
[null,null,"平日",{"$f":"D41","v":"2023-01-17"},44943,"②","44943②",null,null,null,null,"～",null,null,"～",null,0,0,"","",null,null,null,null,null,null,null,null,null,null,null,null,0,"",0,0,"",0,0,"",0,0,0,"","","07:27:39","2023-01-26","","",null,"2023-01-26",null,null,null,null,null,"","","",{"$f":"IF(#REF!>0,MAX(BH$8:BH41)+1,0)","v":{"$error":"#REF!"}},"2023-01-17",{"$f":"#REF!","v":{"$error":"#REF!"}},{"$f":"#REF!","v":{"$error":"#REF!"}},{"$f":"#REF!","v":{"$error":"#REF!"}},{"$f":"#REF!","v":{"$error":"#REF!"}},{"$f":"IF(#REF!=0,\"\",TEXT(#REF!,\"[h]:mm\")&\"～\"&TEXT(#REF!,\"[h]:mm\"))","v":{"$error":"#REF!"}},{"$f":"IF(#REF!=0,\"\",TEXT(#REF!,\"[h]:mm\")&\"～\"&TEXT(#REF!,\"[h]:mm\"))","v":{"$error":"#REF!"}},{"$error":"#REF!"},null,34,"","","","","","",""]
[null,null,"平日",{"$f":"D41+1","v":"2023-01-18"},44944,"①","44944①",null,null,null,null,"～",null,null,"～",null,0,0,"","",null,null,null,null,null,null,null,null,null,null,null,null,0,"",0,0,"",0,0,"",0,0,0,"","","07:27:39","2023-01-26","","",null,"2023-01-26",null,null,null,null,null,"","","",{"$f":"IF(#REF!>0,MAX(BH$8:BH42)+1,0)","v":{"$error":"#REF!"}},"2023-01-18",{"$f":"#REF!","v":{"$error":"#REF!"}},{"$f":"#REF!","v":{"$error":"#REF!"}},{"$f":"#REF!","v":{"$error":"#REF!"}},{"$f":"#REF!","v":{"$error":"#REF!"}},{"$f":"IF(#REF!=0,\"\",TEXT(#REF!,\"[h]:mm\")&\"～\"&TEXT(#REF!,\"[h]:mm\"))","v":{"$error":"#REF!"}},{"$f":"IF(#REF!=0,\"\",TEXT(#REF!,\"[h]:mm\")&\"～\"&TEXT(#REF!,\"[h]:mm\"))","v":{"$error":"#REF!"}},{"$error":"#REF!"},null,35,"","","","","","",""]
[null,null,"平日",{"$f":"D43","v":"2023-01-18"},44944,"②","44944②",null,null,null,null,"～",null,null,"～",null,0,0,"","",null,null,null,null,null,null,null,null,null,null,null,null,0,"",0,0,"",0,0,"",0,0,0,"","","07:27:39","2023-01-26","","",null,"2023-01-26",null,null,null,null,null,"","","",{"$f":"IF(#REF!>0,MAX(BH$8:BH43)+1,0)","v":{"$error":"#REF!"}},"2023-01-18",{"$f":"#REF!","v":{"$error":"#REF!"}},{"$f":"#REF!","v":{"$error":"#REF!"}},{"$f":"#REF!","v":{"$error":"#REF!"}},{"$f":"#REF!","v":{"$error":"#REF!"}},{"$f":"IF(#REF!=0,\"\",TEXT(#REF!,\"[h]:mm\")&\"～\"&TEXT(#REF!,\"[h]:mm\"))","v":{"$error":"#REF!"}},{"$f":"IF(#REF!=0,\"\",TEXT(#REF!,\"[h]:mm\")&\"～\"&TEXT(#REF!,\"[h]:mm\"))","v":{"$error":"#REF!"}},{"$error":"#REF!"},null,36,"","","","","","",""]
[null,null,"平日",{"$f":"D43+1","v":"2023-01-19"},44945,"①","44945①",null,null,null,null,"～",null,null,"～",null,0,0,"","",null,null,null,null,null,null,null,null,null,null,null,null,0,"",0,0,"",0,0,"",0,0,0,"","","07:27:39","2023-01-26","","",null,"2023-01-26",null,null,null,null,null,"","","",{"$f":"IF(#REF!>0,MAX(BH$8:BH44)+1,0)","v":{"$error":"#REF!"}},"2023-01-19",{"$f":"#REF!","v":{"$error":"#REF!"}},{"$f":"#REF!","v":{"$error":"#REF!"}},{"$f":"#REF!","v":{"$error":"#REF!"}},{"$f":"#REF!","v":{"$error":"#REF!"}},{"$f":"IF(#REF!=0,\"\",TEXT(#REF!,\"[h]:mm\")&\"～\"&TEXT(#REF!,\"[h]:mm\"))","v":{"$error":"#REF!"}},{"$f":"IF(#REF!=0,\"\",TEXT(#REF!,\"[h]:mm\")&\"～\"&TEXT(#REF!,\"[h]:mm\"))","v":{"$error":"#REF!"}},{"$error":"#REF!"},null,37,"","","","","","",""]
[null,null,"平日",{"$f":"D45","v":"2023-01-19"},44945,"②","44945②",null,null,null,null,"～",null,null,"～",null,0,0,"","",null,null,null,null,null,null,null,null,null,null,null,null,0,"",0,0,"",0,0,"",0,0,0,"","","07:27:39","2023-01-26","","",null,"2023-01-26",null,null,null,null,null,"","","",{"$f":"IF(#REF!>0,MAX(BH$8:BH45)+1,0)","v":{"$error":"#REF!"}},"2023-01-19",{"$f":"#REF!","v":{"$error":"#REF!"}},{"$f":"#REF!","v":{"$error":"#REF!"}},{"$f":"#REF!","v":{"$error":"#REF!"}},{"$f":"#REF!","v":{"$error":"#REF!"}},{"$f":"IF(#REF!=0,\"\",TEXT(#REF!,\"[h]:mm\")&\"～\"&TEXT(#REF!,\"[h]:mm\"))","v":{"$error":"#REF!"}},{"$f":"IF(#REF!=0,\"\",TEXT(#REF!,\"[h]:mm\")&\"～\"&TEXT(#REF!,\"[h]:mm\"))","v":{"$error":"#REF!"}},{"$error":"#REF!"},null,38,"","","","","","",""]
[null,null,"平日",{"$f":"D45+1","v":"2023-01-20"},44946,"①","44946①",null,null,null,null,"～",null,null,"～",null,0,0,"","",null,null,null,null,null,null,null,null,null,null,null,null,0,"",0,0,"",0,0,"",0,0,0,"","","07:27:39","2023-01-26","","",null,"2023-01-26",null,null,null,null,null,"","","",{"$f":"IF(#REF!>0,MAX(BH$8:BH46)+1,0)","v":{"$error":"#REF!"}},"2023-01-20",{"$f":"#REF!","v":{"$error":"#REF!"}},{"$f":"#REF!","v":{"$error":"#REF!"}},{"$f":"#REF!","v":{"$error":"#REF!"}},{"$f":"#REF!","v":{"$error":"#REF!"}},{"$f":"IF(#REF!=0,\"\",TEXT(#REF!,\"[h]:mm\")&\"～\"&TEXT(#REF!,\"[h]:mm\"))","v":{"$error":"#REF!"}},{"$f":"IF(#REF!=0,\"\",TEXT(#REF!,\"[h]:mm\")&\"～\"&TEXT(#REF!,\"[h]:mm\"))","v":{"$error":"#REF!"}},{"$error":"#REF!"},null,39,"","","","","","",""]
[null,null,"平日",{"$f":"D47","v":"2023-01-20"},44946,"②","44946②",null,null,null,null,"～",null,null,"～",null,0,0,"","",null,null,null,null,null,null,null,null,null,null,null,null,0,"",0,0,"",0,0,"",0,0,0,"","","07:27:39","2023-01-26","","",null,"2023-01-26",null,null,null,null,null,"","","",{"$f":"IF(#REF!>0,MAX(BH$8:BH47)+1,0)","v":{"$error":"#REF!"}},"2023-01-20",{"$f":"#REF!","v":{"$error":"#REF!"}},{"$f":"#REF!","v":{"$error":"#REF!"}},{"$f":"#REF!","v":{"$error":"#REF!"}},{"$f":"#REF!","v":{"$error":"#REF!"}},{"$f":"IF(#REF!=0,\"\",TEXT(#REF!,\"[h]:mm\")&\"～\"&TEXT(#REF!,\"[h]:mm\"))","v":{"$error":"#REF!"}},{"$f":"IF(#REF!=0,\"\",TEXT(#REF!,\"[h]:mm\")&\"～\"&TEXT(#REF!,\"[h]:mm\"))","v":{"$error":"#REF!"}},{"$error":"#REF!"},null,40,"","","","","","",""]
[null,null,"週休日",{"$f":"D47+1","v":"2023-01-21"},44947,"①","44947①",null,null,null,null,"～",null,null,"～",null,0,0,"","",null,null,null,null,null,null,null,null,null,null,null,null,0,"",0,0,"",0,0,"",0,0,0,"","","07:27:39","2023-01-26","","",null,"2023-01-26",null,null,null,null,null,"","","",{"$f":"IF(#REF!>0,MAX(BH$8:BH48)+1,0)","v":{"$error":"#REF!"}},"2023-01-21",{"$f":"#REF!","v":{"$error":"#REF!"}},{"$f":"#REF!","v":{"$error":"#REF!"}},{"$f":"#REF!","v":{"$error":"#REF!"}},{"$f":"#REF!","v":{"$error":"#REF!"}},{"$f":"IF(#REF!=0,\"\",TEXT(#REF!,\"[h]:mm\")&\"～\"&TEXT(#REF!,\"[h]:mm\"))","v":{"$error":"#REF!"}},{"$f":"IF(#REF!=0,\"\",TEXT(#REF!,\"[h]:mm\")&\"～\"&TEXT(#REF!,\"[h]:mm\"))","v":{"$error":"#REF!"}},{"$error":"#REF!"},null,41,"","","","","","",""]
[null,null,"週休日",{"$f":"D49","v":"2023-01-21"},44947,"②","44947②",null,null,null,null,"～",null,null,"～",null,0,0,"","",null,null,null,null,null,null,null,null,null,null,null,null,0,"",0,0,"",0,0,"",0,0,0,"","","07:27:39","2023-01-26","","",null,"2023-01-26",null,null,null,null,null,"","","",{"$f":"IF(#REF!>0,MAX(BH$8:BH49)+1,0)","v":{"$error":"#REF!"}},"2023-01-21",{"$f":"#REF!","v":{"$error":"#REF!"}},{"$f":"#REF!","v":{"$error":"#REF!"}},{"$f":"#REF!","v":{"$error":"#REF!"}},{"$f":"#REF!","v":{"$error":"#REF!"}},{"$f":"IF(#REF!=0,\"\",TEXT(#REF!,\"[h]:mm\")&\"～\"&TEXT(#REF!,\"[h]:mm\"))","v":{"$error":"#REF!"}},{"$f":"IF(#REF!=0,\"\",TEXT(#REF!,\"[h]:mm\")&\"～\"&TEXT(#REF!,\"[h]:mm\"))","v":{"$error":"#REF!"}},{"$error":"#REF!"},null,42,"","",{"$f":"IFERROR(VLOOKUP(BR50,$BH$9:$BQ$70,3,0),\"\")","v":""},{"$f":"IFERROR(VLOOKUP(BR50,$BH$9:$BQ$70,4,0),\"\")","v":""},"","",""]
[null,null,"週休日",{"$f":"D49+1","v":"2023-01-22"},44948,"①","44948①",null,null,null,null,"～",null,null,"～",null,0,0,"","",null,null,null,null,null,null,null,null,null,null,null,null,0,"",0,0,"",0,0,"",0,0,0,"","","07:27:39","2023-01-26","","",null,"2023-01-26",null,null,null,null,null,"","","",{"$f":"IF(#REF!>0,MAX(BH$8:BH50)+1,0)","v":{"$error":"#REF!"}},"2023-01-22",{"$f":"#REF!","v":{"$error":"#REF!"}},{"$f":"#REF!","v":{"$error":"#REF!"}},{"$f":"#REF!","v":{"$error":"#REF!"}},{"$f":"#REF!","v":{"$error":"#REF!"}},{"$f":"IF(#REF!=0,\"\",TEXT(#REF!,\"[h]:mm\")&\"～\"&TEXT(#REF!,\"[h]:mm\"))","v":{"$error":"#REF!"}},{"$f":"IF(#REF!=0,\"\",TEXT(#REF!,\"[h]:mm\")&\"～\"&TEXT(#REF!,\"[h]:mm\"))","v":{"$error":"#REF!"}},{"$error":"#REF!"},null,43,"","","","","","",""]
[null,null,"週休日",{"$f":"D51","v":"2023-01-22"},44948,"②","44948②",null,null,null,null,"～",null,null,"～",null,0,0,"","",null,null,null,null,null,null,null,null,null,null,null,null,0,"",0,0,"",0,0,"",0,0,0,"","","07:27:39","2023-01-26","","",null,"2023-01-26",null,null,null,null,null,"","","",{"$f":"IF(#REF!>0,MAX(BH$8:BH51)+1,0)","v":{"$error":"#REF!"}},"2023-01-22",{"$f":"#REF!","v":{"$error":"#REF!"}},{"$f":"#REF!","v":{"$error":"#REF!"}},{"$f":"#REF!","v":{"$error":"#REF!"}},{"$f":"#REF!","v":{"$error":"#REF!"}},{"$f":"IF(#REF!=0,\"\",TEXT(#REF!,\"[h]:mm\")&\"～\"&TEXT(#REF!,\"[h]:mm\"))","v":{"$error":"#REF!"}},{"$f":"IF(#REF!=0,\"\",TEXT(#REF!,\"[h]:mm\")&\"～\"&TEXT(#REF!,\"[h]:mm\"))","v":{"$error":"#REF!"}},{"$error":"#REF!"},null,44,"","","","","","",""]
[null,null,"平日",{"$f":"D51+1","v":"2023-01-23"},44949,"①","44949①",null,null,null,null,"～",null,null,"～",null,0,0,"","",null,null,null,null,null,null,null,null,null,null,null,null,0,"",0,0,"",0,0,"",0,0,0,"","","07:27:39","2023-01-26","","",null,"2023-01-26",null,null,null,null,null,"","","",{"$f":"IF(#REF!>0,MAX(BH$8:BH52)+1,0)","v":{"$error":"#REF!"}},"2023-01-23",{"$f":"#REF!","v":{"$error":"#REF!"}},{"$f":"#REF!","v":{"$error":"#REF!"}},{"$f":"#REF!","v":{"$error":"#REF!"}},{"$f":"#REF!","v":{"$error":"#REF!"}},{"$f":"IF(#REF!=0,\"\",TEXT(#REF!,\"[h]:mm\")&\"～\"&TEXT(#REF!,\"[h]:mm\"))","v":{"$error":"#REF!"}},{"$f":"IF(#REF!=0,\"\",TEXT(#REF!,\"[h]:mm\")&\"～\"&TEXT(#REF!,\"[h]:mm\"))","v":{"$error":"#REF!"}},{"$error":"#REF!"},null,45,"","","","","","",""]
[null,null,"平日",{"$f":"D53","v":"2023-01-23"},44949,"②","44949②",null,null,null,null,"～",null,null,"～",null,0,0,"","",null,null,null,null,null,null,null,null,null,null,null,null,0,"",0,0,"",0,0,"",0,0,0,"","","07:27:40","2023-01-26","","",null,"2023-01-26",null,null,null,null,null,"","","",{"$f":"IF(#REF!>0,MAX(BH$8:BH53)+1,0)","v":{"$error":"#REF!"}},"2023-01-23",{"$f":"#REF!","v":{"$error":"#REF!"}},{"$f":"#REF!","v":{"$error":"#REF!"}},{"$f":"#REF!","v":{"$error":"#REF!"}},{"$f":"#REF!","v":{"$error":"#REF!"}},{"$f":"IF(#REF!=0,\"\",TEXT(#REF!,\"[h]:mm\")&\"～\"&TEXT(#REF!,\"[h]:mm\"))","v":{"$error":"#REF!"}},{"$f":"IF(#REF!=0,\"\",TEXT(#REF!,\"[h]:mm\")&\"～\"&TEXT(#REF!,\"[h]:mm\"))","v":{"$error":"#REF!"}},{"$error":"#REF!"},null,46,"","","","","","",""]
[null,null,"平日",{"$f":"D53+1","v":"2023-01-24"},44950,"①","44950①",null,null,null,null,"～",null,null,"～",null,0,0,"","",null,null,null,null,null,null,null,null,null,null,null,null,0,"",0,0,"",0,0,"",0,0,0,"","","07:27:40","2023-01-26","","",null,"2023-01-26",null,null,null,null,null,"","","",{"$f":"IF(#REF!>0,MAX(BH$8:BH54)+1,0)","v":{"$error":"#REF!"}},"2023-01-24",{"$f":"#REF!","v":{"$error":"#REF!"}},{"$f":"#REF!","v":{"$error":"#REF!"}},{"$f":"#REF!","v":{"$error":"#REF!"}},{"$f":"#REF!","v":{"$error":"#REF!"}},{"$f":"IF(#REF!=0,\"\",TEXT(#REF!,\"[h]:mm\")&\"～\"&TEXT(#REF!,\"[h]:mm\"))","v":{"$error":"#REF!"}},{"$f":"IF(#REF!=0,\"\",TEXT(#REF!,\"[h]:mm\")&\"～\"&TEXT(#REF!,\"[h]:mm\"))","v":{"$error":"#REF!"}},{"$error":"#REF!"},null,47,"","","","","","",""]
[null,null,"平日",{"$f":"D55","v":"2023-01-24"},44950,"②","44950②",null,null,null,null,"～",null,null,"～",null,0,0,"","",null,null,null,null,null,null,null,null,null,null,null,null,0,"",0,0,"",0,0,"",0,0,0,"","","07:27:40","2023-01-26","","",null,"2023-01-26",null,null,null,null,null,"","","",{"$f":"IF(#REF!>0,MAX(BH$8:BH55)+1,0)","v":{"$error":"#REF!"}},"2023-01-24",{"$f":"#REF!","v":{"$error":"#REF!"}},{"$f":"#REF!","v":{"$error":"#REF!"}},{"$f":"#REF!","v":{"$error":"#REF!"}},{"$f":"#REF!","v":{"$error":"#REF!"}},{"$f":"IF(#REF!=0,\"\",TEXT(#REF!,\"[h]:mm\")&\"～\"&TEXT(#REF!,\"[h]:mm\"))","v":{"$error":"#REF!"}},{"$f":"IF(#REF!=0,\"\",TEXT(#REF!,\"[h]:mm\")&\"～\"&TEXT(#REF!,\"[h]:mm\"))","v":{"$error":"#REF!"}},{"$error":"#REF!"},null,48,"","","","","","",""]
[null,null,"平日",{"$f":"D55+1","v":"2023-01-25"},44951,"①","44951①",null,null,null,null,"～",null,null,null,null,null,null,"","",null,null,null,null,null,null,null,null,null,null,null,null,0,"",0,0,"",0,0,"",0,0,0,"","","07:27:40","2023-01-26","","",null,"2023-01-26",null,null,null,null,null,"","","",{"$f":"IF(#REF!>0,MAX(BH$8:BH56)+1,0)","v":{"$error":"#REF!"}},"2023-01-25",{"$f":"#REF!","v":{"$error":"#REF!"}},{"$f":"#REF!","v":{"$error":"#REF!"}},{"$f":"#REF!","v":{"$error":"#REF!"}},{"$f":"#REF!","v":{"$error":"#REF!"}},{"$f":"IF(#REF!=0,\"\",TEXT(#REF!,\"[h]:mm\")&\"～\"&TEXT(#REF!,\"[h]:mm\"))","v":{"$error":"#REF!"}},{"$f":"IF(#REF!=0,\"\",TEXT(#REF!,\"[h]:mm\")&\"～\"&TEXT(#REF!,\"[h]:mm\"))","v":{"$error":"#REF!"}},{"$error":"#REF!"},null,49,"","","","","","",""]
[null,null,"平日",{"$f":"D57","v":"2023-01-25"},44951,"②","44951②",null,null,null,null,"～",null,null,"～",null,0,0,"","",null,null,null,null,null,null,null,null,null,null,null,null,0,"",0,0,"",0,0,"",0,0,0,"","","07:27:40","2023-01-26","","",null,"2023-01-26",null,null,null,null,null,"","","",{"$f":"IF(#REF!>0,MAX(BH$8:BH57)+1,0)","v":{"$error":"#REF!"}},"2023-01-25",{"$f":"#REF!","v":{"$error":"#REF!"}},{"$f":"#REF!","v":{"$error":"#REF!"}},{"$f":"#REF!","v":{"$error":"#REF!"}},{"$f":"#REF!","v":{"$error":"#REF!"}},{"$f":"IF(#REF!=0,\"\",TEXT(#REF!,\"[h]:mm\")&\"～\"&TEXT(#REF!,\"[h]:mm\"))","v":{"$error":"#REF!"}},{"$f":"IF(#REF!=0,\"\",TEXT(#REF!,\"[h]:mm\")&\"～\"&TEXT(#REF!,\"[h]:mm\"))","v":{"$error":"#REF!"}},{"$error":"#REF!"},null,50,"","","","","","",""]
[null,null,"平日",{"$f":"D57+1","v":"2023-01-26"},44952,"①","44952①",null,null,null,null,"～",null,null,"～",null,0,0,"","",null,null,null,null,null,null,null,null,null,null,null,null,0,"",0,0,"",0,0,"",0,0,0,"","","07:27:40","2023-01-26","","",null,"2023-01-26",null,null,null,null,null,"","","",{"$f":"IF(#REF!>0,MAX(BH$8:BH58)+1,0)","v":{"$error":"#REF!"}},"2023-01-26",{"$f":"#REF!","v":{"$error":"#REF!"}},{"$f":"#REF!","v":{"$error":"#REF!"}},{"$f":"#REF!","v":{"$error":"#REF!"}},{"$f":"#REF!","v":{"$error":"#REF!"}},{"$f":"IF(#REF!=0,\"\",TEXT(#REF!,\"[h]:mm\")&\"～\"&TEXT(#REF!,\"[h]:mm\"))","v":{"$error":"#REF!"}},{"$f":"IF(#REF!=0,\"\",TEXT(#REF!,\"[h]:mm\")&\"～\"&TEXT(#REF!,\"[h]:mm\"))","v":{"$error":"#REF!"}},{"$error":"#REF!"},null,51,"","","","","","",""]
[null,null,"平日",{"$f":"D59","v":"2023-01-26"},44952,"②","44952②",null,null,null,null,"～",null,null,"～",null,0,0,"","",null,null,null,null,null,null,null,null,null,null,null,null,0,"",0,0,"",0,0,"",0,0,0,"","","07:27:40","2023-01-26","","",null,"2023-01-26",null,null,null,null,null,"","","",{"$f":"IF(#REF!>0,MAX(BH$8:BH59)+1,0)","v":{"$error":"#REF!"}},"2023-01-26",{"$f":"#REF!","v":{"$error":"#REF!"}},{"$f":"#REF!","v":{"$error":"#REF!"}},{"$f":"#REF!","v":{"$error":"#REF!"}},{"$f":"#REF!","v":{"$error":"#REF!"}},{"$f":"IF(#REF!=0,\"\",TEXT(#REF!,\"[h]:mm\")&\"～\"&TEXT(#REF!,\"[h]:mm\"))","v":{"$error":"#REF!"}},{"$f":"IF(#REF!=0,\"\",TEXT(#REF!,\"[h]:mm\")&\"～\"&TEXT(#REF!,\"[h]:mm\"))","v":{"$error":"#REF!"}},{"$error":"#REF!"},null,52,"","","","","","",""]
[null,null,"平日",{"$f":"D59+1","v":"2023-01-27"},44953,"①","44953①",null,null,null,null,"～",null,null,"～",null,0,0,"","",null,null,null,null,null,null,null,null,null,null,null,null,0,"",0,0,"",0,0,"",0,0,0,"","","07:27:40","2023-01-26","","",null,"2023-01-26",null,null,null,null,null,"","","",{"$f":"IF(#REF!>0,MAX(BH$8:BH60)+1,0)","v":{"$error":"#REF!"}},"2023-01-27",{"$f":"#REF!","v":{"$error":"#REF!"}},{"$f":"#REF!","v":{"$error":"#REF!"}},{"$f":"#REF!","v":{"$error":"#REF!"}},{"$f":"#REF!","v":{"$error":"#REF!"}},{"$f":"IF(#REF!=0,\"\",TEXT(#REF!,\"[h]:mm\")&\"～\"&TEXT(#REF!,\"[h]:mm\"))","v":{"$error":"#REF!"}},{"$f":"IF(#REF!=0,\"\",TEXT(#REF!,\"[h]:mm\")&\"～\"&TEXT(#REF!,\"[h]:mm\"))","v":{"$error":"#REF!"}},{"$error":"#REF!"},null,53,"","","","","","",""]
[null,null,"平日",{"$f":"D61","v":"2023-01-27"},44953,"②","44953②",null,null,null,null,"～",null,null,"～",null,0,0,"","",null,null,null,null,null,null,null,null,null,null,null,null,0,"",0,0,"",0,0,"",0,0,0,"","","07:27:40","2023-01-26","","",null,"2023-01-26",null,null,null,null,null,"","","",{"$f":"IF(#REF!>0,MAX(BH$8:BH61)+1,0)","v":{"$error":"#REF!"}},"2023-01-27",{"$f":"#REF!","v":{"$error":"#REF!"}},{"$f":"#REF!","v":{"$error":"#REF!"}},{"$f":"#REF!","v":{"$error":"#REF!"}},{"$f":"#REF!","v":{"$error":"#REF!"}},{"$f":"IF(#REF!=0,\"\",TEXT(#REF!,\"[h]:mm\")&\"～\"&TEXT(#REF!,\"[h]:mm\"))","v":{"$error":"#REF!"}},{"$f":"IF(#REF!=0,\"\",TEXT(#REF!,\"[h]:mm\")&\"～\"&TEXT(#REF!,\"[h]:mm\"))","v":{"$error":"#REF!"}},{"$error":"#REF!"},null,54,"","","","","","",""]
[null,null,"週休日",{"$f":"D61+1","v":"2023-01-28"},44954,"①","44954①",null,null,null,null,"～",null,null,"～",null,0,0,"","",null,null,null,null,null,null,null,null,null,null,null,null,0,"",0,0,"",0,0,"",0,0,0,"","","07:27:40","2023-01-26","","",null,"2023-01-26",null,null,null,null,null,"","","",{"$f":"IF(#REF!>0,MAX(BH$8:BH62)+1,0)","v":{"$error":"#REF!"}},"2023-01-28",{"$f":"#REF!","v":{"$error":"#REF!"}},{"$f":"#REF!","v":{"$error":"#REF!"}},{"$f":"#REF!","v":{"$error":"#REF!"}},{"$f":"#REF!","v":{"$error":"#REF!"}},{"$f":"IF(#REF!=0,\"\",TEXT(#REF!,\"[h]:mm\")&\"～\"&TEXT(#REF!,\"[h]:mm\"))","v":{"$error":"#REF!"}},{"$f":"IF(#REF!=0,\"\",TEXT(#REF!,\"[h]:mm\")&\"～\"&TEXT(#REF!,\"[h]:mm\"))","v":{"$error":"#REF!"}},{"$error":"#REF!"},null,55,"","","","","","",""]
[null,null,"週休日",{"$f":"D63","v":"2023-01-28"},44954,"②","44954②",null,null,null,null,"～",null,null,"～",null,0,0,"","",null,null,null,null,null,null,null,null,null,null,null,null,0,"",0,0,"",0,0,"",0,0,0,"","","07:27:40","2023-01-26","","",null,"2023-01-26",null,null,null,null,null,"","","",{"$f":"IF(#REF!>0,MAX(BH$8:BH63)+1,0)","v":{"$error":"#REF!"}},"2023-01-28",{"$f":"#REF!","v":{"$error":"#REF!"}},{"$f":"#REF!","v":{"$error":"#REF!"}},{"$f":"#REF!","v":{"$error":"#REF!"}},{"$f":"#REF!","v":{"$error":"#REF!"}},{"$f":"IF(#REF!=0,\"\",TEXT(#REF!,\"[h]:mm\")&\"～\"&TEXT(#REF!,\"[h]:mm\"))","v":{"$error":"#REF!"}},{"$f":"IF(#REF!=0,\"\",TEXT(#REF!,\"[h]:mm\")&\"～\"&TEXT(#REF!,\"[h]:mm\"))","v":{"$error":"#REF!"}},{"$error":"#REF!"},null,56,"","","","","","",""]
[null,null,"週休日",{"$f":"D63+1","v":"2023-01-29"},44955,"①","44955①",null,null,null,null,"～",null,null,"～",null,0,0,"","",null,null,null,null,null,null,null,null,null,null,null,null,0,"",0,0,"",0,0,"",0,0,0,"","","07:27:40","2023-01-26","","",null,"2023-01-26",null,null,null,null,null,"","","",{"$f":"IF(#REF!>0,MAX(BH$8:BH64)+1,0)","v":{"$error":"#REF!"}},"2023-01-29",{"$f":"#REF!","v":{"$error":"#REF!"}},{"$f":"#REF!","v":{"$error":"#REF!"}},{"$f":"#REF!","v":{"$error":"#REF!"}},{"$f":"#REF!","v":{"$error":"#REF!"}},{"$f":"IF(#REF!=0,\"\",TEXT(#REF!,\"[h]:mm\")&\"～\"&TEXT(#REF!,\"[h]:mm\"))","v":{"$error":"#REF!"}},{"$f":"IF(#REF!=0,\"\",TEXT(#REF!,\"[h]:mm\")&\"～\"&TEXT(#REF!,\"[h]:mm\"))","v":{"$error":"#REF!"}},{"$error":"#REF!"},null,57,"","","","","","",""]
[null,null,"週休日",{"$f":"D65","v":"2023-01-29"},44955,"②","44955②",null,null,null,null,"～",null,null,"～",null,0,0,"","",null,null,null,null,null,null,null,null,null,null,null,null,0,"",0,0,"",0,0,"",0,0,0,"","","07:27:40","2023-01-26","","",null,"2023-01-26",null,null,null,null,null,"","","",{"$f":"IF(#REF!>0,MAX(BH$8:BH65)+1,0)","v":{"$error":"#REF!"}},"2023-01-29",{"$f":"#REF!","v":{"$error":"#REF!"}},{"$f":"#REF!","v":{"$error":"#REF!"}},{"$f":"#REF!","v":{"$error":"#REF!"}},{"$f":"#REF!","v":{"$error":"#REF!"}},{"$f":"IF(#REF!=0,\"\",TEXT(#REF!,\"[h]:mm\")&\"～\"&TEXT(#REF!,\"[h]:mm\"))","v":{"$error":"#REF!"}},{"$f":"IF(#REF!=0,\"\",TEXT(#REF!,\"[h]:mm\")&\"～\"&TEXT(#REF!,\"[h]:mm\"))","v":{"$error":"#REF!"}},{"$error":"#REF!"},null,58,"","","","","","",""]
[null,null,"平日",{"$f":"D65+1","v":"2023-01-30"},44956,"①","44956①",null,null,null,null,"～",null,null,"～",null,0,0,"","",null,null,null,null,null,null,null,null,null,null,null,null,0,"",0,0,"",0,0,"",0,0,0,"","","07:27:40","2023-01-26","","",null,"2023-01-26",null,null,null,null,null,"","","",{"$f":"IF(#REF!>0,MAX(BH$8:BH66)+1,0)","v":{"$error":"#REF!"}},"2023-01-30",{"$f":"#REF!","v":{"$error":"#REF!"}},{"$f":"#REF!","v":{"$error":"#REF!"}},{"$f":"#REF!","v":{"$error":"#REF!"}},{"$f":"#REF!","v":{"$error":"#REF!"}},{"$f":"IF(#REF!=0,\"\",TEXT(#REF!,\"[h]:mm\")&\"～\"&TEXT(#REF!,\"[h]:mm\"))","v":{"$error":"#REF!"}},{"$f":"IF(#REF!=0,\"\",TEXT(#REF!,\"[h]:mm\")&\"～\"&TEXT(#REF!,\"[h]:mm\"))","v":{"$error":"#REF!"}},{"$error":"#REF!"},null,59,"","","","","","",""]
[null,null,"平日",{"$f":"D67","v":"2023-01-30"},44956,"②","44956②",null,null,null,null,"～",null,null,"～",null,0,0,"","",null,null,null,null,null,null,null,null,null,null,null,null,0,"",0,0,"",0,0,"",0,0,0,"","","07:27:40","2023-01-26","","",null,"2023-01-26",null,null,null,null,null,"","","",{"$f":"IF(#REF!>0,MAX(BH$8:BH67)+1,0)","v":{"$error":"#REF!"}},"2023-01-30",{"$f":"#REF!","v":{"$error":"#REF!"}},{"$f":"#REF!","v":{"$error":"#REF!"}},{"$f":"#REF!","v":{"$error":"#REF!"}},{"$f":"#REF!","v":{"$error":"#REF!"}},{"$f":"IF(#REF!=0,\"\",TEXT(#REF!,\"[h]:mm\")&\"～\"&TEXT(#REF!,\"[h]:mm\"))","v":{"$error":"#REF!"}},{"$f":"IF(#REF!=0,\"\",TEXT(#REF!,\"[h]:mm\")&\"～\"&TEXT(#REF!,\"[h]:mm\"))","v":{"$error":"#REF!"}},{"$error":"#REF!"},null,60,"","","","","","",""]
[null,null,"平日","2023-01-31",{"$f":"D69","v":44957},"①",{"$f":"TEXT(D69&F69,)","v":"44957①"},null,null,null,null,"～",null,null,"～",null,{"$f":"I69-H69-R69","v":0},{"$f":"SUM(M69-K69,P69-N69)","v":0},"","",null,null,null,null,null,null,null,null,null,null,null,null,0,"",0,0,"",0,0,"",0,0,0,"","","07:27:40","2023-01-26","","",null,"2023-01-26",null,null,null,null,null,"","","",{"$f":"IF(#REF!>0,MAX(BH$8:BH68)+1,0)","v":{"$error":"#REF!"}},"2023-01-31",{"$f":"#REF!","v":{"$error":"#REF!"}},{"$f":"#REF!","v":{"$error":"#REF!"}},{"$f":"#REF!","v":{"$error":"#REF!"}},{"$f":"#REF!","v":{"$error":"#REF!"}},{"$f":"IF(#REF!=0,\"\",TEXT(#REF!,\"[h]:mm\")&\"～\"&TEXT(#REF!,\"[h]:mm\"))","v":{"$error":"#REF!"}},{"$f":"IF(#REF!=0,\"\",TEXT(#REF!,\"[h]:mm\")&\"～\"&TEXT(#REF!,\"[h]:mm\"))","v":{"$error":"#REF!"}},{"$f":"IF(BO69=\"\",IF(BN69=\"\",\"\",TEXT(BN69&\"除く。 \",)),TEXT(BN69&\",\"&BO69&\"除く。 \",))","v":{"$error":"#REF!"}},null,59,{"$f":"IFERROR(VLOOKUP(BR69,$BH$9:$BQ$70,2,0),\"\")","v":""},{"$f":"IF(BS69=\"\",\"\",TEXT(BS69,\"aaa\"))","v":""},{"$f":"IFERROR(VLOOKUP(BR69,$BH$9:$BQ$70,3,0),\"\")","v":""},{"$f":"IFERROR(VLOOKUP(BR69,$BH$9:$BQ$70,4,0),\"\")","v":""},{"$f":"IFERROR(VLOOKUP(BR69,$BH$9:$BQ$70,5,0),\"\")","v":""},{"$f":"IFERROR(VLOOKUP(BR69,$BH$9:$BQ$70,6,0),\"\")","v":""},{"$f":"IFERROR(VLOOKUP(BR69,$BH$9:$BQ$70,9,0),\"\")","v":""}]
[null,null,"平日","2023-01-31",44957,"②","44957②",null,null,null,null,"～",null,null,"～",null,{"$f":"I70-H70-R70","v":0},{"$f":"SUM(M70-K70,P70-N70)","v":0},"","",null,null,null,null,null,null,null,null,null,null,null,null,0,"",0,0,"",0,0,"",0,0,0,"","","15:11:50","2022-12-23",{"$f":"IF(H70=\"\",\"\",AU70)","v":""},"",null,null,null,null,null,null,null,"","","",{"$f":"IF(#REF!>0,MAX(BH$8:BH69)+1,0)","v":{"$error":"#REF!"}},"2023-01-31",{"$f":"#REF!","v":{"$error":"#REF!"}},{"$f":"#REF!","v":{"$error":"#REF!"}},{"$f":"#REF!","v":{"$error":"#REF!"}},{"$f":"#REF!","v":{"$error":"#REF!"}},{"$f":"IF(#REF!=0,\"\",TEXT(#REF!,\"[h]:mm\")&\"～\"&TEXT(#REF!,\"[h]:mm\"))","v":{"$error":"#REF!"}},{"$f":"IF(#REF!=0,\"\",TEXT(#REF!,\"[h]:mm\")&\"～\"&TEXT(#REF!,\"[h]:mm\"))","v":{"$error":"#REF!"}},{"$error":"#REF!"},null,60,"","","","","","",""]
[null,null,null,null,null,null,null,null,null,null,null,null,null,null,null,null,null,null,null,null,"実績時数計",null,null,null,null,null,{"$f":"SUM(AA9:AA70)","v":0},{"$f":"SUM(AB9:AB70)","v":0},{"$f":"SUM(AC9:AC70)","v":0},0,0,0,null,null,null,null,null,null,null,null,null,null,null,null,null,"07:22:55","2022-12-15",null,""]
[null,null,null,null,null,null,null,null,null,null,null,null,null,null,null,null,null,null,null,null,"管理職自筆記載",null,null,null,null,null,null,null,2,null,null,null,null,null,null,null,null,null,null,null,null,null,null,"←一致を確認し、26報告書の数字を署名者が自筆で転記してください。"]
[null,null,null,"命令簿、整理簿を作成し、決裁をしてください。実施時数を関係書類を確認し26報告書に転記してください。",null,null,null,null,null,null,null,null,null,null,null,null,null,null,null,null,null,null,null,null,null,null,25,100,125,135,150,160]
[null,null,null,null,null,null,null,null,null,null,null,null,null,null,null,null,null,null,null,null,null,null,null,"署名（職・氏名）",null,null,{"$f":"ROUND(AA71,0)","v":0},{"$f":"ROUND(AB71,0)","v":0},0,0,0,0]
[null,null,null,null,null,null,null,null,null,null,null,null,null,null,null,null,null,null,null,null,null,null,null,null,null,null,null,null,null,null,null,null,null,null,null,null,null,null,null,null,null,null,null,null,null,null,"PC使用者番号",null,{"$f":"IF(AA71=#REF!,\"\",\"不一致\")","v":{"$error":"#REF!"}},{"$f":"IF(AB71=AB72,\"\",\"不一致\")","v":""},{"$f":"IF(AC71=#REF!,\"\",\"不一致\")","v":{"$error":"#REF!"}},{"$f":"IF(AD71=AD73,\"\",\"不一致\")","v":"不一致"},{"$f":"IF(AE71=AE73,\"\",\"不一致\")","v":"不一致"},{"$f":"IF(AF71=AF73,\"\",\"不一致\")","v":"不一致"}]
[null,null,null,null,null,null,null,null,null,null,null,null,null,null,null,null,null,null,null,null,null,null,null,null,null,null,null,null,null,null,null,null,null,null,null,null,null,null,null,null,null,null,null,null,null,null,{"$f":"LoginName()","v":"401572"}]
[]
[]
[]
[]
[null,null,null,null,null,null,null,null,null,null,null,null,null,null,null,null,null,null,null,null,null,null,null,null,null,null,null,null,null,null,null,null,null,null,null,null,null,null,null,null,null,null,null,null,null,null,null,null,null,null,null,null,null,null,null,null,null,null,null,null,null,null,null,null,null,null,null,null,null,"大規模災害等"]
[null,null,null,null,null,null,null,null,null,null,null,null,null,null,null,null,null,null,null,null,null,null,null,null,null,null,null,null,null,null,null,null,null,null,null,null,null,null,null,null,null,null,null,null,null,null,null,null,null,null,"月累計",null,null,"年累計",null,"月45ｈ超","２月\n平均","３月\n平均",null,null,"４月\n平均","５月\n平均","６月\n平均","45h超月数","月累計",null,"年累計",null,"月45ｈ超","２月\n平均","３月\n平均","４月\n平均","５月\n平均","６月\n平均","45h超\n月数"]
[null,null,null,null,null,null,null,null,null,null,null,null,null,null,null,null,null,null,null,null,null,null,null,null,null,null,null,null,null,null,null,null,null,null,null,null,null,null,null,null,null,null,null,null,null,null,null,null,"通常",null,"特例","合計","通常","特例","合計",null,null,null,null,null,null,null,null,null,null,"(他業務込)",null,"(他業務込)"]
[null,null,null,null,null,null,null,null,null,null,null,null,null,null,null,null,null,null,null,null,null,null,null,null,null,null,null,null,null,null,null,null,null,null,null,null,null,null,null,null,null,null,null,null,null,null,null,null,{"$f":"SUM(#REF!)/60+SUM(#REF!)","v":{"$error":"#REF!"}},null,{"$f":"SUM(#REF!)/60+SUM(#REF!)","v":{"$error":"#REF!"}},{"$f":"SUM(AW84,AY84)","v":{"$error":"#REF!"}},{"$f":"AW84","v":{"$error":"#REF!"}},{"$f":"AY84","v":{"$error":"#REF!"}},{"$f":"SUM(BA84,BB84)","v":{"$error":"#REF!"}},{"$f":"IF(AZ84>45,\"○\",\"\")","v":{"$error":"#REF!"}},"-","-",null,null,"-","-","-",{"$f":"IF(BD84=\"\",0,1)","v":{"$error":"#REF!"}},{"$f":"SUM(#REF!)/60+SUM(#REF!)","v":{"$error":"#REF!"}},{"$f":"SUM(AZ84,BM84)","v":{"$error":"#REF!"}},{"$f":"BM84","v":{"$error":"#REF!"}},{"$f":"SUM(BC84,BO84)","v":{"$error":"#REF!"}},{"$f":"IF(BN84>45,\"○\",\"\")","v":{"$error":"#REF!"}},"-","-","-","-","-",{"$f":"IF(BQ84=\"\",0,1)","v":{"$error":"#REF!"}}]
[]
[]
[]
[]
[]
[]
[]
[]
[]
[]
[]
[]
[]
[]
[]
[]
[]
[null,null,null,null,null,null,null,null,null,null,null,null,null,null,null,null,null,null,null,null,null,null,null,null,null,null,null,null,null,null,null,null,null,null,null,null,null,null,null,null,null,null,null,null,null,null,null,null,null,null,null,null,null,null,null,null,"↓特例＋通常の合計時間数を直接入力",null,null,null,null,null,null,null,null,null,null,null,null,"↓大規模災害等緊急業務の時間数を直接入力"]
[null,null,null,null,null,null,null,null,null,null,null,null,null,null,null,null,null,null,null,null,null,null,null,null,null,null,null,null,null,null,null,null,null,null,null,null,null,null,null,null,null,null,null,null,null,null,null,null,null,null,null,null,null,null,null,null,"2020年",null,null,null,"2021年",null,null,null,null,null,null,null,null,"2020年",null,"2021年"]
[null,null,null,"➢前年度実績の引継ぎ方法",null,null,null,null,null,null,null,null,null,null,null,null,null,null,null,null,null,null,null,null,null,null,null,null,null,null,null,null,null,null,null,null,null,null,null,null,null,null,null,null,null,null,null,null,null,null,null,null,null,null,null,null,"11月","12月",null,null,"1月","2月","3月",null,null,null,null,null,null,"11月","12月","1月","2月","3月"]
[null,null,null,"前年度の管理簿の集計表シートから、自分の行をコピーし、下の800行に「値を選択して貼り付け」してください。",null,null,null,null,null,null,null,null,null,null,null,null,null,null,null,null,null,null,null,null,null,null,null,null,null,null,null,null,null,null,null,null,null,null,null,null,null,null,null,null,null,null,null,null,null,null,null,null,null,null,null,null,{"$f":"AB110","v":24},{"$f":"AE110","v":27.5},null,null,{"$f":"#REF!","v":{"$error":"#REF!"}},{"$f":"#REF!","v":{"$error":"#REF!"}},{"$f":"#REF!","v":{"$error":"#REF!"}},null,null,null,null,null,null,{"$f":"BV110","v":0},{"$f":"BX110","v":23.5},{"$f":"BZ110","v":0},{"$f":"CB110","v":0},{"$f":"CD110","v":0}]
[null,null,null,"※前年度、管理簿を使用していない場合は、前所属から時間数を聴取し、→のボタンを押し、直接入力してください。",null,null,null,null,null,null,null,null,null,null,null,null,null,null,null,null,null,null,null,null,null,null,null,null,null,null,null,null,null,null,null,null,null,null,null,null,null,null,null,null,null,null,null,null,null,null,null,null,null,null,null,null,null,null,null,null,null,null,null,null,null,null,null,null,null,{"$f":"BE105+BR105","v":24},{"$f":"BF105+BS105","v":51},{"$f":"BI105+BT105","v":{"$error":"#REF!"}},{"$f":"BJ105+BU105","v":{"$error":"#REF!"}},{"$f":"BK105+BV105","v":{"$error":"#REF!"}}]
[null,null,null,"　　（３行目の「職」「氏名」も直接入力してください。）"]
[null,null,"職","氏名","４月",null,null,"５月",null,null,"６月",null,null,"７月",null,null,"８月",null,null,"９月",null,null,"１０月",null,null,"１１月",null,null,"１２月",null,null,"１月"]
[null,null,null,null,"通常","特例","合計","通常","特例","合計","通常","特例","合計","通常","特例","合計","通常","特例","合計","通常","特例","合計","通常","特例","合計","通常","特例","合計","通常","特例","合計","通常"]
[null,"上田","主任","上田　愛子",0,0,0,22,0,22,12,0,12,0,0,0,0,0,0,"1900-01-14",0,14,14.5,0,14.5,24,0,24,27.5,0,27.5,25,null,null,null,null,null,null,null,null,0,null,null,null,null,198,162,null,522,null,0,29.5,28,27.875,27.1,25,null,54,null,null,54,14,36,0,12,"00:00:00","00:00:00",0,0,0,14,0,14.5,0,24,23.5,51,0,25,0,28,0,31,91.5,289.5,2,29.5,28,33.75,31.8,28.916666666666668]
[]
[null,null,"①　前年度の管理簿ファイルの集計表シートの自分の行全体をコピー\n②　このシートの800行を選択→　右クリック→　「貼り付けのオプション：」→\n　　　「値」を選択して貼り付け"]

{"sheet":"▲▲","index":3,"n_rows":119,"n_cols":117,"rows_kept":119,"cut":false,"hidden":true,"merged":[[7,59,7,66],[2,90,3,93],[6,69,7,69],[6,70,7,70],[6,71,7,71],[6,72,7,72],[6,73,7,73],[6,74,7,74],[70,3,70,4],[78,70,79,70],[78,58,79,58],[78,59,79,59],[78,60,79,60],[78,61,79,61],[78,63,78,64],[78,65,78,66],[78,68,79,68],[78,69,79,69],[75,49,75,51],[75,52,75,54],[78,10,78,19],[71,20,71,25],[73,45,73,47],[6,35,6,37],[2,10,2,12],[2,20,2,23],[78,73,79,73],[78,56,79,56],[78,57,79,57],[78,72,79,72],[5,26,5,31],[78,71,79,71],[6,38,6,40],[6,44,7,44],[5,43,7,43],[70,20,70,25],[6,55,6,57],[2,26,2,37],[5,7,5,25],[6,7,7,7],[6,8,7,8],[6,19,7,19],[7,13,7,15],[6,10,7,12],[6,16,7,16],[6,17,7,17],[6,22,6,23],[6,24,6,25],[6,18,7,18],[2,24,2,25],[6,9,7,9],[6,20,6,21],[6,32,6,34],[114,47,114,49],[114,51,115,51],[114,1,115,1],[114,2,115,2],[114,3,115,3],[114,4,114,6],[114,7,114,9],[114,10,114,12],[114,13,114,15],[114,16,114,18],[114,19,114,21],[114,22,114,24],[114,25,114,27],[114,28,114,30],[114,31,114,42],[114,56,115,56],[114,58,114,59],[114,60,114,61],[114,62,114,63],[114,55,115,55],[114,88,115,88],[114,89,115,89],[118,2,121,9],[114,66,114,67],[114,68,114,69],[114,70,114,71],[114,72,114,73],[114,74,114,75],[114,76,114,77],[114,78,114,79],[114,80,114,81],[114,82,114,83],[114,52,115,52],[114,53,115,53],[114,54,115,54],[114,44,114,46],[81,62,82,62],[114,84,115,84],[114,85,115,85],[114,86,115,86],[114,87,115,87],[114,64,114,65]]}
[null,null,null,"時間外勤務入力表（個表）",null,null,null,null,null,null,null,null,null,null,null,null,null,null,null,null,null,null,null,null,null,null,null,null,null,null,null,null,null,null,null,null,null,null,null,null,null,null,null,null,null,null,null,null,null,null,null,null,null,null,null,null,null,null,null,null,null,null,null,null,null,null,null,null,null,null,null,null,null,null,null,null,null,null,null,null,null,null,null,null,null,null,null,null,"【別記様式１（時間外勤務手当管理表）への貼り付け】",null,null,null,null,null,null,null,null,null,null,null,null,null,null,null,null,null,null,null,null,null,null,null,null,null,null,"17:06:50","2022-12-14"]
[]
[null,null,null,null,null,null,null,null,null,null,null,null,null,null,null,null,null,null,null,"職名",{"$f":"集計表!C7","v":"事務職員"},null,null,null,"氏名",null,{"$f":"集計表!D7","v":"▲▲　◆◆"},null,null,null,null,null,null,null,null,null,null,null,null,null,null,null,null,{"$f":"●●!AR3","v":"●●●立●●●学校"},null,null,null,null,null,null,null,null,null,null,null,null,null,null,null,null,null,null,null,null,"13:17:52","2022-12-21","2022-12-21",null,null,null,null,null,null,null,null,null,null,null,null,null,null,null,null,null,null,null,null,null,"日付",null,"命令時間"]
[null,null,"職",null,null,null,null,null,null,null,null,null,null,null,null,null,null,null,null,null,null,null,null,null,null,null,null,null,null,null,null,null,null,null,null,null,null,null,null,null,null,null,null,null,null,null,null,null,null,null,null,null,null,null,null,null,null,null,null,null,"13:25:29","2022-12-21",null,null,"13:17:50","13:17:52","2022-12-21"]
[null,null,null,{"$f":"●●!D5","v":44927},null,null,null,null,null,null,null,null,null,null,null,null,null,null,null,null,null,null,null,null,null,null,null,null,null,null,null,null,null,null,null,null,null,null,null,null,null,null,null,null,null,null,null,null,null,null,null,null,null,null,null,null,null,null,null,null,null,null,null,null,null,null,null,null,null,null,null,null,null,null,null,null,null,null,null,null,null,null,null,null,null,null,null,null,null,null,"自","至","時間数"]
[null,null,null,null,null,null,null,"命　　　　　　　令",null,null,null,null,null,null,null,null,null,null,null,null,null,null,null,null,null,null,"実績(時間外勤務手当時数)",null,null,null,null,null,null,null,null,null,null,null,null,null,null,null,null,"対応事項","参考",null,null,null,null,null,null,null,null,null,null,null,null,null,null,null,null,null,null,null,null,null,null,null,null,null,null,null,null,null,null,null,null,null,"13:34:58","2022-12-21"]
[null,null,null,null,null,null,null,"開始\n時間","終了\n時間","勤務の内容","除く時間\n（休憩等）",null,null,null,null,null,"実働\n時間","除く\n時間",null,"摘要","通常\n業務",null,"特例\n業務",null,"大規模\n災害等",null,25,100,125,135,150,160,"通常",null,null,"特例",null,null,"大規模",null,null,null,null,null,"入力日","07:15:53","2022-12-19",null,null,null,null,null,null,null,null,"数式列",null,null,null,null,null,null,null,null,null,null,null,null,null,"記載例\nH23.4.1","（曜日）","記載例\n18:00","記載例\n21:00","時間","分"]
[null,null,"作業",null,null,null,"作業",null,null,null,null,null,null,"２回目",null,null,null,null,null,null,"時間","分","時間","分","時間","分",100,100,100,100,100,100,"時","分","計","時","分","計","時","分","計","総計","実績計",null,null,"07:15:53","2022-12-19",null,null,null,null,null,null,null,null,null,null,null,null,"数式列",null,null,null,null,null,null,null,null,null,null,null,null,null,null,null,"（除く時間）"]
[null,null,{"$f":"IF(D9=\"\",\"\",IF(OR(WEEKDAY(E9)=1,WEEKDAY(E9)=7),\"週休日\",IF(COUNTIF($D$84:$D$112,D9)=1,\"休日\",\"平日\")))","v":"週休日"},{"$f":"●●!$D$9","v":"2023-01-01"},{"$f":"D9","v":44927},"①",{"$f":"TEXT(D9&F9,)","v":"44927①"},null,null,null,null,"～",null,null,"～",null,{"$f":"I9-H9-R9","v":0},{"$f":"SUM(M9-K9,P9-N9)","v":0},{"$f":"IFERROR(DATEDIF(D9,T9,\"ｄ\"),\"\")","v":""},{"$f":"IF(I9=\"\",\"\",\"命令簿を印刷し、決裁してください\")","v":""},null,null,null,null,null,null,null,null,null,null,null,null,{"$f":"U9","v":0},{"$f":"IF(V9>=30,1,\"\")","v":""},{"$f":"SUM(AG9:AH9)","v":0},{"$f":"W9","v":0},{"$f":"IF(X9>=30,1,\"\")","v":""},{"$f":"SUM(AJ9:AK9)","v":0},{"$f":"Y9","v":0},{"$f":"IF(Z9>=30,1,\"\")","v":""},{"$f":"SUM(AM9:AN9)","v":0},{"$f":"SUM(AO9,AL9,AI9)","v":0},{"$f":"SUM(AA9:AF9)","v":0},{"$f":"IF(H9=\"\",\"\",\"客観的計測記録を活用した照合を行い、命令簿の実績確認の決裁をしてください。\")","v":""},{"$f":"AW9","v":""},"08:06:47","2023-01-26",{"$f":"IF(H9=\"\",\"\",AU9)","v":""},{"$f":"IF(H9=\"\",\"\",AV9)","v":""},null,"2023-01-26",null,null,null,null,{"$f":"IF(K9=\"\",\"\",TEXT(K9,\"[h]:mm\")&\"～\"&TEXT(M9,\"[h]:mm\"))","v":""},{"$f":"IF(N9=\"\",\"\",TEXT(N9,\"[h]:mm\")&\"～\"&TEXT(P9,\"[h]:mm\"))","v":""},{"$f":"IF(BE9=\"\",IF(BD9=\"\",T9,TEXT(BD9&\"除く。 \"&T9,)),TEXT(BD9&\",\"&BE9&\"除く。 \"&T9,))","v":""},{"$f":"IF(#REF!>0,MAX(BG$8:BG8)+1,0)","v":{"$error":"#REF!"}},{"$f":"IF(D9=\"\",\"\",D9)","v":"2023-01-01"},{"$f":"#REF!","v":{"$error":"#REF!"}},{"$f":"#REF!","v":{"$error":"#REF!"}},{"$f":"#REF!","v":{"$error":"#REF!"}},{"$f":"#REF!","v":{"$error":"#REF!"}},{"$f":"IF(#REF!=0,\"\",TEXT(#REF!,\"[h]:mm\")&\"～\"&TEXT(#REF!,\"[h]:mm\"))","v":{"$error":"#REF!"}},{"$f":"IF(#REF!=0,\"\",TEXT(#REF!,\"[h]:mm\")&\"～\"&TEXT(#REF!,\"[h]:mm\"))","v":{"$error":"#REF!"}},{"$f":"IF(BN9=\"\",IF(BM9=\"\",\"\",TEXT(BM9&\"除く。 \",)),TEXT(BM9&\",\"&BN9&\"除く。 \",))","v":{"$error":"#REF!"}},null,1,{"$f":"IFERROR(VLOOKUP(BQ9,$BG$9:$BP$70,2,0),\"\")","v":""},{"$f":"IF(BR9=\"\",\"\",TEXT(BR9,\"aaa\"))","v":""},{"$f":"IFERROR(VLOOKUP(BQ9,$BG$9:$BP$70,3,0),\"\")","v":""},{"$f":"IFERROR(VLOOKUP(BQ9,$BG$9:$BP$70,4,0),\"\")","v":""},{"$f":"IFERROR(VLOOKUP(BQ9,$BG$9:$BP$70,5,0),\"\")","v":""},{"$f":"IFERROR(VLOOKUP(BQ9,$BG$9:$BP$70,6,0),\"\")","v":""},{"$f":"IFERROR(VLOOKUP(BQ9,$BG$9:$BP$70,9,0),\"\")","v":""}]
[null,null,"週休日",{"$f":"D9","v":"2023-01-01"},{"$f":"D10","v":44927},"②",{"$f":"TEXT(D10&F10,)","v":"44927②"},null,null,null,null,"～",null,null,"～",null,{"$f":"I10-H10-R10","v":0},{"$f":"SUM(M10-K10,P10-N10)","v":0},{"$f":"IFERROR(DATEDIF(D10,T10,\"ｄ\"),\"\")","v":""},{"$f":"IF(I10=\"\",\"\",\"命令簿を印刷し、決裁してください\")","v":""},null,null,null,null,null,null,null,null,null,null,null,null,{"$f":"U10","v":0},"",{"$f":"SUM(AG10:AH10)","v":0},{"$f":"W10","v":0},"",{"$f":"SUM(AJ10:AK10)","v":0},{"$f":"Y10","v":0},"",{"$f":"SUM(AM10:AN10)","v":0},{"$f":"SUM(AO10,AL10,AI10)","v":0},{"$f":"SUM(AA10:AF10)","v":0},{"$f":"IF(H10=\"\",\"\",\"客観的計測記録を活用した照合を行い、命令簿の実績確認の決裁をしてください。\")","v":""},{"$f":"AW10","v":""},"15:12:21","2022-12-23","","",null,null,null,null,null,null,"","","",{"$f":"IF(#REF!>0,MAX(BG$8:BG9)+1,0)","v":{"$error":"#REF!"}},"2023-01-01",{"$f":"#REF!","v":{"$error":"#REF!"}},{"$f":"#REF!","v":{"$error":"#REF!"}},{"$f":"#REF!","v":{"$error":"#REF!"}},{"$f":"#REF!","v":{"$error":"#REF!"}},{"$f":"IF(#REF!=0,\"\",TEXT(#REF!,\"[h]:mm\")&\"～\"&TEXT(#REF!,\"[h]:mm\"))","v":{"$error":"#REF!"}},{"$f":"IF(#REF!=0,\"\",TEXT(#REF!,\"[h]:mm\")&\"～\"&TEXT(#REF!,\"[h]:mm\"))","v":{"$error":"#REF!"}},{"$f":"IF(BN10=\"\",IF(BM10=\"\",\"\",TEXT(BM10&\"除く。 \",)),TEXT(BM10&\",\"&BN10&\"除く。 \",))","v":{"$error":"#REF!"}},null,2,"",{"$f":"IF(BR10=\"\",\"\",TEXT(BR10,\"aaa\"))","v":""},"","","","",""]
[null,null,"平日",{"$f":"D9+1","v":"2023-01-02"},{"$f":"D11","v":44928},"①",{"$f":"TEXT(D11&F11,)","v":"44928①"},null,null,null,null,"～",null,null,"～",null,0,0,"","",null,null,null,null,null,null,null,null,null,null,null,null,0,"",0,0,"",0,0,"",0,0,0,"","","07:28:34","2023-01-26","","",null,"2023-01-26",null,null,null,null,"","","",{"$f":"IF(#REF!>0,MAX(BG$8:BG10)+1,0)","v":{"$error":"#REF!"}},"2023-01-02",{"$f":"#REF!","v":{"$error":"#REF!"}},{"$f":"#REF!","v":{"$error":"#REF!"}},{"$f":"#REF!","v":{"$error":"#REF!"}},{"$f":"#REF!","v":{"$error":"#REF!"}},{"$f":"IF(#REF!=0,\"\",TEXT(#REF!,\"[h]:mm\")&\"～\"&TEXT(#REF!,\"[h]:mm\"))","v":{"$error":"#REF!"}},{"$f":"IF(#REF!=0,\"\",TEXT(#REF!,\"[h]:mm\")&\"～\"&TEXT(#REF!,\"[h]:mm\"))","v":{"$error":"#REF!"}},{"$error":"#REF!"},null,3,"","","","","","",""]
[null,null,"平日",{"$f":"D11","v":"2023-01-02"},44928,"②",{"$f":"TEXT(D12&F12,)","v":"44928②"},null,null,null,null,"～",null,null,"～",null,0,0,"","",null,null,null,null,null,null,null,null,null,null,null,null,0,"",0,0,"",0,0,"",0,0,0,"","","07:28:34","2023-01-26","","",null,"2023-01-26",null,null,null,null,"","","",{"$f":"IF(#REF!>0,MAX(BG$8:BG11)+1,0)","v":{"$error":"#REF!"}},"2023-01-02",{"$f":"#REF!","v":{"$error":"#REF!"}},{"$f":"#REF!","v":{"$error":"#REF!"}},{"$f":"#REF!","v":{"$error":"#REF!"}},{"$f":"#REF!","v":{"$error":"#REF!"}},{"$f":"IF(#REF!=0,\"\",TEXT(#REF!,\"[h]:mm\")&\"～\"&TEXT(#REF!,\"[h]:mm\"))","v":{"$error":"#REF!"}},{"$f":"IF(#REF!=0,\"\",TEXT(#REF!,\"[h]:mm\")&\"～\"&TEXT(#REF!,\"[h]:mm\"))","v":{"$error":"#REF!"}},{"$error":"#REF!"},null,4,"","","","","","",""]
[null,null,"平日",{"$f":"D11+1","v":"2023-01-03"},44929,"①",{"$f":"TEXT(D13&F13,)","v":"44929①"},null,null,null,null,"～",null,null,"～",null,0,0,"","",null,null,null,null,null,null,null,null,null,null,null,null,0,"",0,0,"",0,0,"",0,0,0,"","","07:28:34","2023-01-26","","",null,"2023-01-26",null,null,null,null,"","","",{"$f":"IF(#REF!>0,MAX(BG$8:BG12)+1,0)","v":{"$error":"#REF!"}},"2023-01-03",{"$f":"#REF!","v":{"$error":"#REF!"}},{"$f":"#REF!","v":{"$error":"#REF!"}},{"$f":"#REF!","v":{"$error":"#REF!"}},{"$f":"#REF!","v":{"$error":"#REF!"}},{"$f":"IF(#REF!=0,\"\",TEXT(#REF!,\"[h]:mm\")&\"～\"&TEXT(#REF!,\"[h]:mm\"))","v":{"$error":"#REF!"}},{"$f":"IF(#REF!=0,\"\",TEXT(#REF!,\"[h]:mm\")&\"～\"&TEXT(#REF!,\"[h]:mm\"))","v":{"$error":"#REF!"}},{"$error":"#REF!"},null,5,"","","","","","",""]
[null,null,"平日",{"$f":"D13","v":"2023-01-03"},44929,"②","44929②",null,null,null,null,"～",null,null,"～",null,0,0,"","",null,null,null,null,null,null,null,null,null,null,null,null,0,"",0,0,"",0,0,"",0,0,0,"","","07:28:34","2023-01-26","","",null,"2023-01-26",null,null,null,null,"","","",{"$f":"IF(#REF!>0,MAX(BG$8:BG13)+1,0)","v":{"$error":"#REF!"}},"2023-01-03",{"$f":"#REF!","v":{"$error":"#REF!"}},{"$f":"#REF!","v":{"$error":"#REF!"}},{"$f":"#REF!","v":{"$error":"#REF!"}},{"$f":"#REF!","v":{"$error":"#REF!"}},{"$f":"IF(#REF!=0,\"\",TEXT(#REF!,\"[h]:mm\")&\"～\"&TEXT(#REF!,\"[h]:mm\"))","v":{"$error":"#REF!"}},{"$f":"IF(#REF!=0,\"\",TEXT(#REF!,\"[h]:mm\")&\"～\"&TEXT(#REF!,\"[h]:mm\"))","v":{"$error":"#REF!"}},{"$error":"#REF!"},null,6,"","","","","","",""]
[null,null,"平日",{"$f":"D13+1","v":"2023-01-04"},44930,"①","44930①",null,null,null,null,"～",null,null,"～",null,0,0,null,"",null,null,null,null,null,null,null,null,null,null,null,null,0,"",0,0,"",0,0,"",0,0,0,"","","07:28:34","2023-01-26","","",null,"2023-01-26",null,null,null,null,"","","",{"$f":"IF(#REF!>0,MAX(BG$8:BG14)+1,0)","v":{"$error":"#REF!"}},"2023-01-04",{"$f":"#REF!","v":{"$error":"#REF!"}},{"$f":"#REF!","v":{"$error":"#REF!"}},{"$f":"#REF!","v":{"$error":"#REF!"}},{"$f":"#REF!","v":{"$error":"#REF!"}},{"$f":"IF(#REF!=0,\"\",TEXT(#REF!,\"[h]:mm\")&\"～\"&TEXT(#REF!,\"[h]:mm\"))","v":{"$error":"#REF!"}},{"$f":"IF(#REF!=0,\"\",TEXT(#REF!,\"[h]:mm\")&\"～\"&TEXT(#REF!,\"[h]:mm\"))","v":{"$error":"#REF!"}},{"$error":"#REF!"},null,7,"","","","","","",""]
[null,null,"平日",{"$f":"D15","v":"2023-01-04"},44930,"②","44930②",null,null,null,null,"～",null,null,"～",null,0,0,"","",null,null,null,null,null,null,null,null,null,null,null,null,0,"",0,0,"",0,0,"",0,0,0,"","","07:28:35","2023-01-26","","",null,"2023-01-26",null,null,null,null,"","","",{"$f":"IF(#REF!>0,MAX(BG$8:BG15)+1,0)","v":{"$error":"#REF!"}},"2023-01-04",{"$f":"#REF!","v":{"$error":"#REF!"}},{"$f":"#REF!","v":{"$error":"#REF!"}},{"$f":"#REF!","v":{"$error":"#REF!"}},{"$f":"#REF!","v":{"$error":"#REF!"}},{"$f":"IF(#REF!=0,\"\",TEXT(#REF!,\"[h]:mm\")&\"～\"&TEXT(#REF!,\"[h]:mm\"))","v":{"$error":"#REF!"}},{"$f":"IF(#REF!=0,\"\",TEXT(#REF!,\"[h]:mm\")&\"～\"&TEXT(#REF!,\"[h]:mm\"))","v":{"$error":"#REF!"}},{"$error":"#REF!"},null,8,"","","","","","",""]
[null,null,"平日",{"$f":"D15+1","v":"2023-01-05"},44931,"①","44931①",null,null,null,null,"～",null,null,null,null,null,null,null,"",null,null,null,null,null,null,null,null,null,null,null,null,0,"",0,0,"",0,0,"",0,0,0,"","","07:28:35","2023-01-26",{"$f":"IF(H17=\"\",\"\",AU17)","v":""},{"$f":"IF(H17=\"\",\"\",AV17)","v":""},null,"2023-01-26",null,null,null,null,"","","",{"$f":"IF(#REF!>0,MAX(BG$8:BG16)+1,0)","v":{"$error":"#REF!"}},"2023-01-05",0.62163194444444447,44916,{"$f":"#REF!","v":{"$error":"#REF!"}},{"$f":"#REF!","v":{"$error":"#REF!"}},{"$f":"IF(#REF!=0,\"\",TEXT(#REF!,\"[h]:mm\")&\"～\"&TEXT(#REF!,\"[h]:mm\"))","v":{"$error":"#REF!"}},{"$f":"IF(#REF!=0,\"\",TEXT(#REF!,\"[h]:mm\")&\"～\"&TEXT(#REF!,\"[h]:mm\"))","v":{"$error":"#REF!"}},{"$error":"#REF!"},null,9,"","","","","","",""]
[null,null,"平日",{"$f":"D17","v":"2023-01-05"},44931,"②","44931②",null,null,null,null,"～",null,null,"～",null,0,0,null,"",null,null,null,null,null,null,null,null,null,null,null,null,0,"",0,0,"",0,0,"",0,0,0,"","","07:28:35","2023-01-26","","",null,"2023-01-26",null,null,null,null,"","","",{"$f":"IF(#REF!>0,MAX(BG$8:BG17)+1,0)","v":{"$error":"#REF!"}},"2023-01-05",{"$f":"#REF!","v":{"$error":"#REF!"}},{"$f":"#REF!","v":{"$error":"#REF!"}},{"$f":"#REF!","v":{"$error":"#REF!"}},{"$f":"#REF!","v":{"$error":"#REF!"}},{"$f":"IF(#REF!=0,\"\",TEXT(#REF!,\"[h]:mm\")&\"～\"&TEXT(#REF!,\"[h]:mm\"))","v":{"$error":"#REF!"}},{"$f":"IF(#REF!=0,\"\",TEXT(#REF!,\"[h]:mm\")&\"～\"&TEXT(#REF!,\"[h]:mm\"))","v":{"$error":"#REF!"}},{"$error":"#REF!"},null,10,"","","","","","",""]
[null,null,"平日",{"$f":"D17+1","v":"2023-01-06"},44932,"①","44932①",null,null,null,null,"～",null,null,"～",null,0,0,null,"",null,null,null,null,null,null,null,null,null,null,null,null,0,"",0,0,"",0,0,"",0,0,0,"","","07:28:35","2023-01-26","","",null,"2023-01-26",null,null,null,null,"","","",{"$f":"IF(#REF!>0,MAX(BG$8:BG18)+1,0)","v":{"$error":"#REF!"}},"2023-01-06",{"$f":"#REF!","v":{"$error":"#REF!"}},{"$f":"#REF!","v":{"$error":"#REF!"}},{"$f":"#REF!","v":{"$error":"#REF!"}},{"$f":"#REF!","v":{"$error":"#REF!"}},{"$f":"IF(#REF!=0,\"\",TEXT(#REF!,\"[h]:mm\")&\"～\"&TEXT(#REF!,\"[h]:mm\"))","v":{"$error":"#REF!"}},{"$f":"IF(#REF!=0,\"\",TEXT(#REF!,\"[h]:mm\")&\"～\"&TEXT(#REF!,\"[h]:mm\"))","v":{"$error":"#REF!"}},{"$error":"#REF!"},null,11,"","","","","","",""]
[null,null,"平日",{"$f":"D19","v":"2023-01-06"},44932,"②","44932②",null,null,null,null,"～",null,null,"～",null,0,0,"","",null,null,null,null,null,null,null,null,null,null,null,null,0,"",0,0,"",0,0,"",0,0,0,"","","07:28:35","2023-01-26","","",null,"2023-01-26",null,null,null,null,"","","",{"$f":"IF(#REF!>0,MAX(BG$8:BG19)+1,0)","v":{"$error":"#REF!"}},"2023-01-06",{"$f":"#REF!","v":{"$error":"#REF!"}},{"$f":"#REF!","v":{"$error":"#REF!"}},{"$f":"#REF!","v":{"$error":"#REF!"}},{"$f":"#REF!","v":{"$error":"#REF!"}},{"$f":"IF(#REF!=0,\"\",TEXT(#REF!,\"[h]:mm\")&\"～\"&TEXT(#REF!,\"[h]:mm\"))","v":{"$error":"#REF!"}},{"$f":"IF(#REF!=0,\"\",TEXT(#REF!,\"[h]:mm\")&\"～\"&TEXT(#REF!,\"[h]:mm\"))","v":{"$error":"#REF!"}},{"$error":"#REF!"},null,12,"","","","","","",""]
[null,null,"週休日",{"$f":"D19+1","v":"2023-01-07"},44933,"①","44933①",null,null,null,null,"～",null,null,"～",null,0,0,"","",null,null,null,null,null,null,null,null,null,null,null,null,0,"",0,0,"",0,0,"",0,0,0,"","","07:28:35","2023-01-26","","",null,"2023-01-26",null,null,null,null,"","","",{"$f":"IF(#REF!>0,MAX(BG$8:BG20)+1,0)","v":{"$error":"#REF!"}},"2023-01-07",{"$f":"#REF!","v":{"$error":"#REF!"}},{"$f":"#REF!","v":{"$error":"#REF!"}},{"$f":"#REF!","v":{"$error":"#REF!"}},{"$f":"#REF!","v":{"$error":"#REF!"}},{"$f":"IF(#REF!=0,\"\",TEXT(#REF!,\"[h]:mm\")&\"～\"&TEXT(#REF!,\"[h]:mm\"))","v":{"$error":"#REF!"}},{"$f":"IF(#REF!=0,\"\",TEXT(#REF!,\"[h]:mm\")&\"～\"&TEXT(#REF!,\"[h]:mm\"))","v":{"$error":"#REF!"}},{"$error":"#REF!"},null,13,"","","","","","",""]
[null,null,"週休日",{"$f":"D21","v":"2023-01-07"},44933,"②","44933②",null,null,null,null,"～",null,null,"～",null,0,0,"","",null,null,null,null,null,null,null,null,null,null,null,null,0,"",0,0,"",0,0,"",0,0,0,"","","07:28:35","2023-01-26","","",null,"2023-01-26",null,null,null,null,"","","",{"$f":"IF(#REF!>0,MAX(BG$8:BG21)+1,0)","v":{"$error":"#REF!"}},"2023-01-07",{"$f":"#REF!","v":{"$error":"#REF!"}},{"$f":"#REF!","v":{"$error":"#REF!"}},{"$f":"#REF!","v":{"$error":"#REF!"}},{"$f":"#REF!","v":{"$error":"#REF!"}},{"$f":"IF(#REF!=0,\"\",TEXT(#REF!,\"[h]:mm\")&\"～\"&TEXT(#REF!,\"[h]:mm\"))","v":{"$error":"#REF!"}},{"$f":"IF(#REF!=0,\"\",TEXT(#REF!,\"[h]:mm\")&\"～\"&TEXT(#REF!,\"[h]:mm\"))","v":{"$error":"#REF!"}},{"$error":"#REF!"},null,14,"","","","","","",""]
[null,null,"週休日",{"$f":"D21+1","v":"2023-01-08"},44934,"①","44934①",null,null,null,null,"～",null,null,"～",null,0,0,"","",null,null,null,null,null,null,null,null,null,null,null,null,0,"",0,0,"",0,0,"",0,0,0,"","","07:28:36","2023-01-26","","",null,"2023-01-26",null,null,null,null,"","","",{"$f":"IF(#REF!>0,MAX(BG$8:BG22)+1,0)","v":{"$error":"#REF!"}},"2023-01-08",{"$f":"#REF!","v":{"$error":"#REF!"}},{"$f":"#REF!","v":{"$error":"#REF!"}},{"$f":"#REF!","v":{"$error":"#REF!"}},{"$f":"#REF!","v":{"$error":"#REF!"}},{"$f":"IF(#REF!=0,\"\",TEXT(#REF!,\"[h]:mm\")&\"～\"&TEXT(#REF!,\"[h]:mm\"))","v":{"$error":"#REF!"}},{"$f":"IF(#REF!=0,\"\",TEXT(#REF!,\"[h]:mm\")&\"～\"&TEXT(#REF!,\"[h]:mm\"))","v":{"$error":"#REF!"}},{"$error":"#REF!"},null,15,"","","","","","",""]
[null,null,"週休日",{"$f":"D23","v":"2023-01-08"},44934,"②","44934②",null,null,null,null,"～",null,null,"～",null,0,0,"","",null,null,null,null,null,null,null,null,null,null,null,null,0,"",0,0,"",0,0,"",0,0,0,"","","07:28:36","2023-01-26","","",null,"2023-01-26",null,null,null,null,"","","",{"$f":"IF(#REF!>0,MAX(BG$8:BG23)+1,0)","v":{"$error":"#REF!"}},"2023-01-08",{"$f":"#REF!","v":{"$error":"#REF!"}},{"$f":"#REF!","v":{"$error":"#REF!"}},{"$f":"#REF!","v":{"$error":"#REF!"}},{"$f":"#REF!","v":{"$error":"#REF!"}},{"$f":"IF(#REF!=0,\"\",TEXT(#REF!,\"[h]:mm\")&\"～\"&TEXT(#REF!,\"[h]:mm\"))","v":{"$error":"#REF!"}},{"$f":"IF(#REF!=0,\"\",TEXT(#REF!,\"[h]:mm\")&\"～\"&TEXT(#REF!,\"[h]:mm\"))","v":{"$error":"#REF!"}},{"$error":"#REF!"},null,16,"","","","","","",""]
[null,null,"平日",{"$f":"D23+1","v":"2023-01-09"},44935,"①","44935①",null,null,null,null,"～",null,null,"～",null,0,0,"","",null,null,null,null,null,null,null,null,null,null,null,null,0,"",0,0,"",0,0,"",0,0,0,"","","07:28:36","2023-01-26","","",null,"2023-01-26",null,null,null,null,"","","",{"$f":"IF(#REF!>0,MAX(BG$8:BG24)+1,0)","v":{"$error":"#REF!"}},"2023-01-09",{"$f":"#REF!","v":{"$error":"#REF!"}},{"$f":"#REF!","v":{"$error":"#REF!"}},{"$f":"#REF!","v":{"$error":"#REF!"}},{"$f":"#REF!","v":{"$error":"#REF!"}},{"$f":"IF(#REF!=0,\"\",TEXT(#REF!,\"[h]:mm\")&\"～\"&TEXT(#REF!,\"[h]:mm\"))","v":{"$error":"#REF!"}},{"$f":"IF(#REF!=0,\"\",TEXT(#REF!,\"[h]:mm\")&\"～\"&TEXT(#REF!,\"[h]:mm\"))","v":{"$error":"#REF!"}},{"$error":"#REF!"},null,17,"","","","","","",""]
[null,null,"平日",{"$f":"D25","v":"2023-01-09"},44935,"②","44935②",null,null,null,null,"～",null,null,"～",null,0,0,"","",null,null,null,null,null,null,null,null,null,null,null,null,0,"",0,0,"",0,0,"",0,0,0,"","","07:28:36","2023-01-26","","",null,"2023-01-26",null,null,null,null,"","","",{"$f":"IF(#REF!>0,MAX(BG$8:BG25)+1,0)","v":{"$error":"#REF!"}},"2023-01-09",{"$f":"#REF!","v":{"$error":"#REF!"}},{"$f":"#REF!","v":{"$error":"#REF!"}},{"$f":"#REF!","v":{"$error":"#REF!"}},{"$f":"#REF!","v":{"$error":"#REF!"}},{"$f":"IF(#REF!=0,\"\",TEXT(#REF!,\"[h]:mm\")&\"～\"&TEXT(#REF!,\"[h]:mm\"))","v":{"$error":"#REF!"}},{"$f":"IF(#REF!=0,\"\",TEXT(#REF!,\"[h]:mm\")&\"～\"&TEXT(#REF!,\"[h]:mm\"))","v":{"$error":"#REF!"}},{"$error":"#REF!"},null,18,"","","","","","",""]
[null,null,"平日",{"$f":"D25+1","v":"2023-01-10"},44936,"①","44936①",null,null,null,null,"～",null,null,"～",null,0,0,"","",null,null,null,null,null,null,null,null,null,null,null,null,0,"",0,0,"",0,0,"",0,0,0,"","","07:28:36","2023-01-26","","",null,"2023-01-26",null,null,null,null,"","","",{"$f":"IF(#REF!>0,MAX(BG$8:BG26)+1,0)","v":{"$error":"#REF!"}},"2023-01-10",{"$f":"#REF!","v":{"$error":"#REF!"}},{"$f":"#REF!","v":{"$error":"#REF!"}},{"$f":"#REF!","v":{"$error":"#REF!"}},{"$f":"#REF!","v":{"$error":"#REF!"}},{"$f":"IF(#REF!=0,\"\",TEXT(#REF!,\"[h]:mm\")&\"～\"&TEXT(#REF!,\"[h]:mm\"))","v":{"$error":"#REF!"}},{"$f":"IF(#REF!=0,\"\",TEXT(#REF!,\"[h]:mm\")&\"～\"&TEXT(#REF!,\"[h]:mm\"))","v":{"$error":"#REF!"}},{"$error":"#REF!"},null,19,"","","","","","",""]
[null,null,"平日",{"$f":"D27","v":"2023-01-10"},44936,"②","44936②",null,null,null,null,"～",null,null,"～",null,0,0,"","",null,null,null,null,null,null,null,null,null,null,null,null,0,"",0,0,"",0,0,"",0,0,0,"","","07:28:36","2023-01-26","","",null,"2023-01-26",null,null,null,null,"","","",{"$f":"IF(#REF!>0,MAX(BG$8:BG27)+1,0)","v":{"$error":"#REF!"}},"2023-01-10",{"$f":"#REF!","v":{"$error":"#REF!"}},{"$f":"#REF!","v":{"$error":"#REF!"}},{"$f":"#REF!","v":{"$error":"#REF!"}},{"$f":"#REF!","v":{"$error":"#REF!"}},{"$f":"IF(#REF!=0,\"\",TEXT(#REF!,\"[h]:mm\")&\"～\"&TEXT(#REF!,\"[h]:mm\"))","v":{"$error":"#REF!"}},{"$f":"IF(#REF!=0,\"\",TEXT(#REF!,\"[h]:mm\")&\"～\"&TEXT(#REF!,\"[h]:mm\"))","v":{"$error":"#REF!"}},{"$error":"#REF!"},null,20,"","","","","","",""]
[null,null,"平日",{"$f":"D27+1","v":"2023-01-11"},44937,"①","44937①",null,null,null,null,"～",null,null,"～",null,0,0,"","",null,null,null,null,null,null,null,null,null,null,null,null,0,"",0,0,"",0,0,"",0,0,0,"","","07:28:36","2023-01-26","","",null,"2023-01-26",null,null,null,null,"","","",{"$f":"IF(#REF!>0,MAX(BG$8:BG28)+1,0)","v":{"$error":"#REF!"}},"2023-01-11",{"$f":"#REF!","v":{"$error":"#REF!"}},{"$f":"#REF!","v":{"$error":"#REF!"}},{"$f":"#REF!","v":{"$error":"#REF!"}},{"$f":"#REF!","v":{"$error":"#REF!"}},{"$f":"IF(#REF!=0,\"\",TEXT(#REF!,\"[h]:mm\")&\"～\"&TEXT(#REF!,\"[h]:mm\"))","v":{"$error":"#REF!"}},{"$f":"IF(#REF!=0,\"\",TEXT(#REF!,\"[h]:mm\")&\"～\"&TEXT(#REF!,\"[h]:mm\"))","v":{"$error":"#REF!"}},{"$error":"#REF!"},null,21,"","","","","","",""]
[null,null,"平日",{"$f":"D29","v":"2023-01-11"},44937,"②","44937②",null,null,null,null,"～",null,null,"～",null,0,0,"","",null,null,null,null,null,null,null,null,null,null,null,null,0,"",0,0,"",0,0,"",0,0,0,"","","07:28:36","2023-01-26","","",null,"2023-01-26",null,null,null,null,"","","",{"$f":"IF(#REF!>0,MAX(BG$8:BG29)+1,0)","v":{"$error":"#REF!"}},"2023-01-11",{"$f":"#REF!","v":{"$error":"#REF!"}},{"$f":"#REF!","v":{"$error":"#REF!"}},{"$f":"#REF!","v":{"$error":"#REF!"}},{"$f":"#REF!","v":{"$error":"#REF!"}},{"$f":"IF(#REF!=0,\"\",TEXT(#REF!,\"[h]:mm\")&\"～\"&TEXT(#REF!,\"[h]:mm\"))","v":{"$error":"#REF!"}},{"$f":"IF(#REF!=0,\"\",TEXT(#REF!,\"[h]:mm\")&\"～\"&TEXT(#REF!,\"[h]:mm\"))","v":{"$error":"#REF!"}},{"$error":"#REF!"},null,22,"","","","","","",""]
[null,null,"平日",{"$f":"D29+1","v":"2023-01-12"},44938,"①","44938①",null,null,null,null,"～",null,null,"～",null,0,0,"","",null,null,null,null,null,null,null,null,null,null,null,null,0,"",0,0,"",0,0,"",0,0,0,"","","07:28:36","2023-01-26","","",null,"2023-01-26",null,null,null,null,"","","",{"$f":"IF(#REF!>0,MAX(BG$8:BG30)+1,0)","v":{"$error":"#REF!"}},"2023-01-12",{"$f":"#REF!","v":{"$error":"#REF!"}},{"$f":"#REF!","v":{"$error":"#REF!"}},{"$f":"#REF!","v":{"$error":"#REF!"}},{"$f":"#REF!","v":{"$error":"#REF!"}},{"$f":"IF(#REF!=0,\"\",TEXT(#REF!,\"[h]:mm\")&\"～\"&TEXT(#REF!,\"[h]:mm\"))","v":{"$error":"#REF!"}},{"$f":"IF(#REF!=0,\"\",TEXT(#REF!,\"[h]:mm\")&\"～\"&TEXT(#REF!,\"[h]:mm\"))","v":{"$error":"#REF!"}},{"$error":"#REF!"},null,23,"","","","","","",""]
[null,null,"平日",{"$f":"D31","v":"2023-01-12"},44938,"②","44938②",null,null,null,null,"～",null,null,"～",null,0,0,"","",null,null,null,null,null,null,null,null,null,null,null,null,0,"",0,0,"",0,0,"",0,0,0,"","","07:28:36","2023-01-26","","",null,"2023-01-26",null,null,null,null,"","","",{"$f":"IF(#REF!>0,MAX(BG$8:BG31)+1,0)","v":{"$error":"#REF!"}},"2023-01-12",{"$f":"#REF!","v":{"$error":"#REF!"}},{"$f":"#REF!","v":{"$error":"#REF!"}},{"$f":"#REF!","v":{"$error":"#REF!"}},{"$f":"#REF!","v":{"$error":"#REF!"}},{"$f":"IF(#REF!=0,\"\",TEXT(#REF!,\"[h]:mm\")&\"～\"&TEXT(#REF!,\"[h]:mm\"))","v":{"$error":"#REF!"}},{"$f":"IF(#REF!=0,\"\",TEXT(#REF!,\"[h]:mm\")&\"～\"&TEXT(#REF!,\"[h]:mm\"))","v":{"$error":"#REF!"}},{"$error":"#REF!"},null,24,"","","","","","",""]
[null,null,"平日",{"$f":"D31+1","v":"2023-01-13"},44939,"①","44939①",null,null,null,null,"～",null,null,"～",null,0,0,"","",null,null,null,null,null,null,null,null,null,null,null,null,0,"",0,0,"",0,0,"",0,0,0,"","","07:28:36","2023-01-26","","",null,"2023-01-26",null,null,null,null,"","","",{"$f":"IF(#REF!>0,MAX(BG$8:BG32)+1,0)","v":{"$error":"#REF!"}},"2023-01-13",{"$f":"#REF!","v":{"$error":"#REF!"}},{"$f":"#REF!","v":{"$error":"#REF!"}},{"$f":"#REF!","v":{"$error":"#REF!"}},{"$f":"#REF!","v":{"$error":"#REF!"}},{"$f":"IF(#REF!=0,\"\",TEXT(#REF!,\"[h]:mm\")&\"～\"&TEXT(#REF!,\"[h]:mm\"))","v":{"$error":"#REF!"}},{"$f":"IF(#REF!=0,\"\",TEXT(#REF!,\"[h]:mm\")&\"～\"&TEXT(#REF!,\"[h]:mm\"))","v":{"$error":"#REF!"}},{"$error":"#REF!"},null,25,"","","","","","",""]
[null,null,"平日",{"$f":"D33","v":"2023-01-13"},44939,"②","44939②",null,null,null,null,"～",null,null,"～",null,0,0,"","",null,null,null,null,null,null,null,null,null,null,null,null,0,"",0,0,"",0,0,"",0,0,0,"","","07:28:36","2023-01-26","","",null,"2023-01-26",null,null,null,null,"","","",{"$f":"IF(#REF!>0,MAX(BG$8:BG33)+1,0)","v":{"$error":"#REF!"}},"2023-01-13",{"$f":"#REF!","v":{"$error":"#REF!"}},{"$f":"#REF!","v":{"$error":"#REF!"}},{"$f":"#REF!","v":{"$error":"#REF!"}},{"$f":"#REF!","v":{"$error":"#REF!"}},{"$f":"IF(#REF!=0,\"\",TEXT(#REF!,\"[h]:mm\")&\"～\"&TEXT(#REF!,\"[h]:mm\"))","v":{"$error":"#REF!"}},{"$f":"IF(#REF!=0,\"\",TEXT(#REF!,\"[h]:mm\")&\"～\"&TEXT(#REF!,\"[h]:mm\"))","v":{"$error":"#REF!"}},{"$error":"#REF!"},null,26,"","","","","","",""]
[null,null,"週休日",{"$f":"D33+1","v":"2023-01-14"},44940,"①","44940①",null,null,null,null,"～",null,null,"～",null,0,0,"","",null,null,null,null,null,null,null,null,null,null,null,null,0,"",0,0,"",0,0,"",0,0,0,"","","07:28:36","2023-01-26","","",null,"2023-01-26",null,null,null,null,"","","",{"$f":"IF(#REF!>0,MAX(BG$8:BG34)+1,0)","v":{"$error":"#REF!"}},"2023-01-14",{"$f":"#REF!","v":{"$error":"#REF!"}},{"$f":"#REF!","v":{"$error":"#REF!"}},{"$f":"#REF!","v":{"$error":"#REF!"}},{"$f":"#REF!","v":{"$error":"#REF!"}},{"$f":"IF(#REF!=0,\"\",TEXT(#REF!,\"[h]:mm\")&\"～\"&TEXT(#REF!,\"[h]:mm\"))","v":{"$error":"#REF!"}},{"$f":"IF(#REF!=0,\"\",TEXT(#REF!,\"[h]:mm\")&\"～\"&TEXT(#REF!,\"[h]:mm\"))","v":{"$error":"#REF!"}},{"$error":"#REF!"},null,27,"","","","","","",""]
[null,null,"週休日",{"$f":"D35","v":"2023-01-14"},44940,"②","44940②",null,null,null,null,"～",null,null,"～",null,0,0,"","",null,null,null,null,null,null,null,null,null,null,null,null,0,"",0,0,"",0,0,"",0,0,0,"","","07:28:36","2023-01-26","","",null,"2023-01-26",null,null,null,null,"","","",{"$f":"IF(#REF!>0,MAX(BG$8:BG35)+1,0)","v":{"$error":"#REF!"}},"2023-01-14",{"$f":"#REF!","v":{"$error":"#REF!"}},{"$f":"#REF!","v":{"$error":"#REF!"}},{"$f":"#REF!","v":{"$error":"#REF!"}},{"$f":"#REF!","v":{"$error":"#REF!"}},{"$f":"IF(#REF!=0,\"\",TEXT(#REF!,\"[h]:mm\")&\"～\"&TEXT(#REF!,\"[h]:mm\"))","v":{"$error":"#REF!"}},{"$f":"IF(#REF!=0,\"\",TEXT(#REF!,\"[h]:mm\")&\"～\"&TEXT(#REF!,\"[h]:mm\"))","v":{"$error":"#REF!"}},{"$error":"#REF!"},null,28,"","","","","","",""]
[null,null,"週休日",{"$f":"D35+1","v":"2023-01-15"},44941,"①","44941①",null,null,null,null,"～",null,null,"～",null,0,0,"","",null,null,null,null,null,null,null,null,null,null,null,null,0,"",0,0,"",0,0,"",0,0,0,"","","07:28:36","2023-01-26","","",null,"2023-01-26",null,null,null,null,"","","",{"$f":"IF(#REF!>0,MAX(BG$8:BG36)+1,0)","v":{"$error":"#REF!"}},"2023-01-15",{"$f":"#REF!","v":{"$error":"#REF!"}},{"$f":"#REF!","v":{"$error":"#REF!"}},{"$f":"#REF!","v":{"$error":"#REF!"}},{"$f":"#REF!","v":{"$error":"#REF!"}},{"$f":"IF(#REF!=0,\"\",TEXT(#REF!,\"[h]:mm\")&\"～\"&TEXT(#REF!,\"[h]:mm\"))","v":{"$error":"#REF!"}},{"$f":"IF(#REF!=0,\"\",TEXT(#REF!,\"[h]:mm\")&\"～\"&TEXT(#REF!,\"[h]:mm\"))","v":{"$error":"#REF!"}},{"$error":"#REF!"},null,29,"","","","","","",""]
[null,null,"週休日",{"$f":"D37","v":"2023-01-15"},44941,"②","44941②",null,null,null,null,"～",null,null,"～",null,0,0,"","",null,null,null,null,null,null,null,null,null,null,null,null,0,"",0,0,"",0,0,"",0,0,0,"","","07:28:37","2023-01-26","","",null,"2023-01-26",null,null,null,null,"","","",{"$f":"IF(#REF!>0,MAX(BG$8:BG37)+1,0)","v":{"$error":"#REF!"}},"2023-01-15",{"$f":"#REF!","v":{"$error":"#REF!"}},{"$f":"#REF!","v":{"$error":"#REF!"}},{"$f":"#REF!","v":{"$error":"#REF!"}},{"$f":"#REF!","v":{"$error":"#REF!"}},{"$f":"IF(#REF!=0,\"\",TEXT(#REF!,\"[h]:mm\")&\"～\"&TEXT(#REF!,\"[h]:mm\"))","v":{"$error":"#REF!"}},{"$f":"IF(#REF!=0,\"\",TEXT(#REF!,\"[h]:mm\")&\"～\"&TEXT(#REF!,\"[h]:mm\"))","v":{"$error":"#REF!"}},{"$error":"#REF!"},null,30,"","","","","","",""]
[null,null,"平日",{"$f":"D37+1","v":"2023-01-16"},44942,"①","44942①",null,null,null,null,"～",null,null,"～",null,0,0,"","",null,null,null,null,null,null,null,null,null,null,null,null,0,"",0,0,"",0,0,"",0,0,0,"","","07:28:37","2023-01-26","","",null,"2023-01-26",null,null,null,null,"","","",{"$f":"IF(#REF!>0,MAX(BG$8:BG38)+1,0)","v":{"$error":"#REF!"}},"2023-01-16",{"$f":"#REF!","v":{"$error":"#REF!"}},{"$f":"#REF!","v":{"$error":"#REF!"}},{"$f":"#REF!","v":{"$error":"#REF!"}},{"$f":"#REF!","v":{"$error":"#REF!"}},{"$f":"IF(#REF!=0,\"\",TEXT(#REF!,\"[h]:mm\")&\"～\"&TEXT(#REF!,\"[h]:mm\"))","v":{"$error":"#REF!"}},{"$f":"IF(#REF!=0,\"\",TEXT(#REF!,\"[h]:mm\")&\"～\"&TEXT(#REF!,\"[h]:mm\"))","v":{"$error":"#REF!"}},{"$error":"#REF!"},null,31,"","","","","","",""]
[null,null,"平日",{"$f":"D39","v":"2023-01-16"},44942,"②","44942②",null,null,null,null,"～",null,null,"～",null,0,0,"","",null,null,null,null,null,null,null,null,null,null,null,null,0,"",0,0,"",0,0,"",0,0,0,"","","07:28:37","2023-01-26","","",null,"2023-01-26",null,null,null,null,"","","",{"$f":"IF(#REF!>0,MAX(BG$8:BG39)+1,0)","v":{"$error":"#REF!"}},"2023-01-16",{"$f":"#REF!","v":{"$error":"#REF!"}},{"$f":"#REF!","v":{"$error":"#REF!"}},{"$f":"#REF!","v":{"$error":"#REF!"}},{"$f":"#REF!","v":{"$error":"#REF!"}},{"$f":"IF(#REF!=0,\"\",TEXT(#REF!,\"[h]:mm\")&\"～\"&TEXT(#REF!,\"[h]:mm\"))","v":{"$error":"#REF!"}},{"$f":"IF(#REF!=0,\"\",TEXT(#REF!,\"[h]:mm\")&\"～\"&TEXT(#REF!,\"[h]:mm\"))","v":{"$error":"#REF!"}},{"$error":"#REF!"},null,32,"",{"$f":"IF(BR40=\"\",\"\",TEXT(BR40,\"aaa\"))","v":""},"","","","",""]
[null,null,{"$f":"IF(D41=\"\",\"\",IF(OR(WEEKDAY(E41)=1,WEEKDAY(E41)=7),\"週休日\",IF(COUNTIF($D$84:$D$112,D41)=1,\"休日\",\"平日\")))","v":"平日"},{"$f":"D39+1","v":"2023-01-17"},44943,"①","44943①",null,null,null,null,"～",null,null,"～",null,0,0,"","",null,null,null,null,null,null,null,null,null,null,null,null,0,"",0,0,"",0,0,"",0,0,0,"","","07:28:37","2023-01-26",{"$f":"IF(H41=\"\",\"\",AU41)","v":""},{"$f":"IF(H41=\"\",\"\",AV41)","v":""},null,"2023-01-26",null,null,null,null,{"$f":"IF(K41=\"\",\"\",TEXT(K41,\"[h]:mm\")&\"～\"&TEXT(M41,\"[h]:mm\"))","v":""},{"$f":"IF(N41=\"\",\"\",TEXT(N41,\"[h]:mm\")&\"～\"&TEXT(P41,\"[h]:mm\"))","v":""},{"$f":"IF(BE41=\"\",IF(BD41=\"\",T41,TEXT(BD41&\"除く。 \"&T41,)),TEXT(BD41&\",\"&BE41&\"除く。 \"&T41,))","v":""},{"$f":"IF(#REF!>0,MAX(BG$8:BG40)+1,0)","v":{"$error":"#REF!"}},{"$f":"IF(D41=\"\",\"\",D41)","v":"2023-01-17"},{"$f":"#REF!","v":{"$error":"#REF!"}},{"$f":"#REF!","v":{"$error":"#REF!"}},{"$f":"#REF!","v":{"$error":"#REF!"}},{"$f":"#REF!","v":{"$error":"#REF!"}},{"$f":"IF(#REF!=0,\"\",TEXT(#REF!,\"[h]:mm\")&\"～\"&TEXT(#REF!,\"[h]:mm\"))","v":{"$error":"#REF!"}},{"$f":"IF(#REF!=0,\"\",TEXT(#REF!,\"[h]:mm\")&\"～\"&TEXT(#REF!,\"[h]:mm\"))","v":{"$error":"#REF!"}},{"$error":"#REF!"},null,33,{"$f":"IFERROR(VLOOKUP(BQ41,$BG$9:$BP$70,2,0),\"\")","v":""},"",{"$f":"IFERROR(VLOOKUP(BQ41,$BG$9:$BP$70,3,0),\"\")","v":""},{"$f":"IFERROR(VLOOKUP(BQ41,$BG$9:$BP$70,4,0),\"\")","v":""},{"$f":"IFERROR(VLOOKUP(BQ41,$BG$9:$BP$70,5,0),\"\")","v":""},{"$f":"IFERROR(VLOOKUP(BQ41,$BG$9:$BP$70,6,0),\"\")","v":""},{"$f":"IFERROR(VLOOKUP(BQ41,$BG$9:$BP$70,9,0),\"\")","v":""}]
[null,null,"平日",{"$f":"D41","v":"2023-01-17"},44943,"②","44943②",null,null,null,null,"～",null,null,"～",null,0,0,"","",null,null,null,null,null,null,null,null,null,null,null,null,0,"",0,0,"",0,0,"",0,0,0,"","","07:28:37","2023-01-26","","",null,"2023-01-26",null,null,null,null,"","","",{"$f":"IF(#REF!>0,MAX(BG$8:BG41)+1,0)","v":{"$error":"#REF!"}},"2023-01-17",{"$f":"#REF!","v":{"$error":"#REF!"}},{"$f":"#REF!","v":{"$error":"#REF!"}},{"$f":"#REF!","v":{"$error":"#REF!"}},{"$f":"#REF!","v":{"$error":"#REF!"}},{"$f":"IF(#REF!=0,\"\",TEXT(#REF!,\"[h]:mm\")&\"～\"&TEXT(#REF!,\"[h]:mm\"))","v":{"$error":"#REF!"}},{"$f":"IF(#REF!=0,\"\",TEXT(#REF!,\"[h]:mm\")&\"～\"&TEXT(#REF!,\"[h]:mm\"))","v":{"$error":"#REF!"}},{"$error":"#REF!"},null,34,"","","","","","",""]
[null,null,"平日",{"$f":"D41+1","v":"2023-01-18"},44944,"①","44944①",null,null,null,null,"～",null,null,"～",null,0,0,"","",null,null,null,null,null,null,null,null,null,null,null,null,0,"",0,0,"",0,0,"",0,0,0,"","","07:28:37","2023-01-26","","",null,"2023-01-26",null,null,null,null,"","","",{"$f":"IF(#REF!>0,MAX(BG$8:BG42)+1,0)","v":{"$error":"#REF!"}},"2023-01-18",{"$f":"#REF!","v":{"$error":"#REF!"}},{"$f":"#REF!","v":{"$error":"#REF!"}},{"$f":"#REF!","v":{"$error":"#REF!"}},{"$f":"#REF!","v":{"$error":"#REF!"}},{"$f":"IF(#REF!=0,\"\",TEXT(#REF!,\"[h]:mm\")&\"～\"&TEXT(#REF!,\"[h]:mm\"))","v":{"$error":"#REF!"}},{"$f":"IF(#REF!=0,\"\",TEXT(#REF!,\"[h]:mm\")&\"～\"&TEXT(#REF!,\"[h]:mm\"))","v":{"$error":"#REF!"}},{"$error":"#REF!"},null,35,"","","","","","",""]
[null,null,"平日",{"$f":"D43","v":"2023-01-18"},44944,"②","44944②",null,null,null,null,"～",null,null,"～",null,0,0,"","",null,null,null,null,null,null,null,null,null,null,null,null,0,"",0,0,"",0,0,"",0,0,0,"","","07:28:37","2023-01-26","","",null,"2023-01-26",null,null,null,null,"","","",{"$f":"IF(#REF!>0,MAX(BG$8:BG43)+1,0)","v":{"$error":"#REF!"}},"2023-01-18",{"$f":"#REF!","v":{"$error":"#REF!"}},{"$f":"#REF!","v":{"$error":"#REF!"}},{"$f":"#REF!","v":{"$error":"#REF!"}},{"$f":"#REF!","v":{"$error":"#REF!"}},{"$f":"IF(#REF!=0,\"\",TEXT(#REF!,\"[h]:mm\")&\"～\"&TEXT(#REF!,\"[h]:mm\"))","v":{"$error":"#REF!"}},{"$f":"IF(#REF!=0,\"\",TEXT(#REF!,\"[h]:mm\")&\"～\"&TEXT(#REF!,\"[h]:mm\"))","v":{"$error":"#REF!"}},{"$error":"#REF!"},null,36,"","","","","","",""]
[null,null,"平日",{"$f":"D43+1","v":"2023-01-19"},44945,"①","44945①",null,null,null,null,"～",null,null,"～",null,0,0,"","",null,null,null,null,null,null,null,null,null,null,null,null,0,"",0,0,"",0,0,"",0,0,0,"","","07:28:37","2023-01-26","","",null,"2023-01-26",null,null,null,null,"","","",{"$f":"IF(#REF!>0,MAX(BG$8:BG44)+1,0)","v":{"$error":"#REF!"}},"2023-01-19",{"$f":"#REF!","v":{"$error":"#REF!"}},{"$f":"#REF!","v":{"$error":"#REF!"}},{"$f":"#REF!","v":{"$error":"#REF!"}},{"$f":"#REF!","v":{"$error":"#REF!"}},{"$f":"IF(#REF!=0,\"\",TEXT(#REF!,\"[h]:mm\")&\"～\"&TEXT(#REF!,\"[h]:mm\"))","v":{"$error":"#REF!"}},{"$f":"IF(#REF!=0,\"\",TEXT(#REF!,\"[h]:mm\")&\"～\"&TEXT(#REF!,\"[h]:mm\"))","v":{"$error":"#REF!"}},{"$error":"#REF!"},null,37,"","","","","","",""]
[null,null,"平日",{"$f":"D45","v":"2023-01-19"},44945,"②","44945②",null,null,null,null,"～",null,null,"～",null,0,0,"","",null,null,null,null,null,null,null,null,null,null,null,null,0,"",0,0,"",0,0,"",0,0,0,"","","07:28:37","2023-01-26","","",null,"2023-01-26",null,null,null,null,"","","",{"$f":"IF(#REF!>0,MAX(BG$8:BG45)+1,0)","v":{"$error":"#REF!"}},"2023-01-19",{"$f":"#REF!","v":{"$error":"#REF!"}},{"$f":"#REF!","v":{"$error":"#REF!"}},{"$f":"#REF!","v":{"$error":"#REF!"}},{"$f":"#REF!","v":{"$error":"#REF!"}},{"$f":"IF(#REF!=0,\"\",TEXT(#REF!,\"[h]:mm\")&\"～\"&TEXT(#REF!,\"[h]:mm\"))","v":{"$error":"#REF!"}},{"$f":"IF(#REF!=0,\"\",TEXT(#REF!,\"[h]:mm\")&\"～\"&TEXT(#REF!,\"[h]:mm\"))","v":{"$error":"#REF!"}},{"$error":"#REF!"},null,38,"","","","","","",""]
[null,null,"平日",{"$f":"D45+1","v":"2023-01-20"},44946,"①","44946①",null,null,null,null,"～",null,null,"～",null,0,0,"","",null,null,null,null,null,null,null,null,null,null,null,null,0,"",0,0,"",0,0,"",0,0,0,"","","07:28:37","2023-01-26","","",null,"2023-01-26",null,null,null,null,"","","",{"$f":"IF(#REF!>0,MAX(BG$8:BG46)+1,0)","v":{"$error":"#REF!"}},"2023-01-20",{"$f":"#REF!","v":{"$error":"#REF!"}},{"$f":"#REF!","v":{"$error":"#REF!"}},{"$f":"#REF!","v":{"$error":"#REF!"}},{"$f":"#REF!","v":{"$error":"#REF!"}},{"$f":"IF(#REF!=0,\"\",TEXT(#REF!,\"[h]:mm\")&\"～\"&TEXT(#REF!,\"[h]:mm\"))","v":{"$error":"#REF!"}},{"$f":"IF(#REF!=0,\"\",TEXT(#REF!,\"[h]:mm\")&\"～\"&TEXT(#REF!,\"[h]:mm\"))","v":{"$error":"#REF!"}},{"$error":"#REF!"},null,39,"","","","","","",""]
[null,null,"平日",{"$f":"D47","v":"2023-01-20"},44946,"②","44946②",null,null,null,null,"～",null,null,"～",null,0,0,"","",null,null,null,null,null,null,null,null,null,null,null,null,0,"",0,0,"",0,0,"",0,0,0,"","","07:28:37","2023-01-26","","",null,"2023-01-26",null,null,null,null,"","","",{"$f":"IF(#REF!>0,MAX(BG$8:BG47)+1,0)","v":{"$error":"#REF!"}},"2023-01-20",{"$f":"#REF!","v":{"$error":"#REF!"}},{"$f":"#REF!","v":{"$error":"#REF!"}},{"$f":"#REF!","v":{"$error":"#REF!"}},{"$f":"#REF!","v":{"$error":"#REF!"}},{"$f":"IF(#REF!=0,\"\",TEXT(#REF!,\"[h]:mm\")&\"～\"&TEXT(#REF!,\"[h]:mm\"))","v":{"$error":"#REF!"}},{"$f":"IF(#REF!=0,\"\",TEXT(#REF!,\"[h]:mm\")&\"～\"&TEXT(#REF!,\"[h]:mm\"))","v":{"$error":"#REF!"}},{"$error":"#REF!"},null,40,"","","","","","",""]
[null,null,"週休日",{"$f":"D47+1","v":"2023-01-21"},44947,"①","44947①",null,null,null,null,"～",null,null,"～",null,0,0,"","",null,null,null,null,null,null,null,null,null,null,null,null,0,"",0,0,"",0,0,"",0,0,0,"","","07:28:37","2023-01-26","","",null,"2023-01-26",null,null,null,null,"","","",{"$f":"IF(#REF!>0,MAX(BG$8:BG48)+1,0)","v":{"$error":"#REF!"}},"2023-01-21",{"$f":"#REF!","v":{"$error":"#REF!"}},{"$f":"#REF!","v":{"$error":"#REF!"}},{"$f":"#REF!","v":{"$error":"#REF!"}},{"$f":"#REF!","v":{"$error":"#REF!"}},{"$f":"IF(#REF!=0,\"\",TEXT(#REF!,\"[h]:mm\")&\"～\"&TEXT(#REF!,\"[h]:mm\"))","v":{"$error":"#REF!"}},{"$f":"IF(#REF!=0,\"\",TEXT(#REF!,\"[h]:mm\")&\"～\"&TEXT(#REF!,\"[h]:mm\"))","v":{"$error":"#REF!"}},{"$error":"#REF!"},null,41,"","","","","","",""]
[null,null,"週休日",{"$f":"D49","v":"2023-01-21"},44947,"②","44947②",null,null,null,null,"～",null,null,"～",null,0,0,"","",null,null,null,null,null,null,null,null,null,null,null,null,0,"",0,0,"",0,0,"",0,0,0,"","","07:28:37","2023-01-26","","",null,"2023-01-26",null,null,null,null,"","","",{"$f":"IF(#REF!>0,MAX(BG$8:BG49)+1,0)","v":{"$error":"#REF!"}},"2023-01-21",{"$f":"#REF!","v":{"$error":"#REF!"}},{"$f":"#REF!","v":{"$error":"#REF!"}},{"$f":"#REF!","v":{"$error":"#REF!"}},{"$f":"#REF!","v":{"$error":"#REF!"}},{"$f":"IF(#REF!=0,\"\",TEXT(#REF!,\"[h]:mm\")&\"～\"&TEXT(#REF!,\"[h]:mm\"))","v":{"$error":"#REF!"}},{"$f":"IF(#REF!=0,\"\",TEXT(#REF!,\"[h]:mm\")&\"～\"&TEXT(#REF!,\"[h]:mm\"))","v":{"$error":"#REF!"}},{"$error":"#REF!"},null,42,"","","","","","",""]
[null,null,"週休日",{"$f":"D49+1","v":"2023-01-22"},44948,"①","44948①",null,null,null,null,"～",null,null,"～",null,0,0,"","",null,null,null,null,null,null,null,null,null,null,null,null,0,"",0,0,"",0,0,"",0,0,0,"","","07:28:37","2023-01-26","","",null,"2023-01-26",null,null,null,null,"","","",{"$f":"IF(#REF!>0,MAX(BG$8:BG50)+1,0)","v":{"$error":"#REF!"}},"2023-01-22",{"$f":"#REF!","v":{"$error":"#REF!"}},{"$f":"#REF!","v":{"$error":"#REF!"}},{"$f":"#REF!","v":{"$error":"#REF!"}},{"$f":"#REF!","v":{"$error":"#REF!"}},{"$f":"IF(#REF!=0,\"\",TEXT(#REF!,\"[h]:mm\")&\"～\"&TEXT(#REF!,\"[h]:mm\"))","v":{"$error":"#REF!"}},{"$f":"IF(#REF!=0,\"\",TEXT(#REF!,\"[h]:mm\")&\"～\"&TEXT(#REF!,\"[h]:mm\"))","v":{"$error":"#REF!"}},{"$error":"#REF!"},null,43,"","","","","","",""]
[null,null,"週休日",{"$f":"D51","v":"2023-01-22"},44948,"②","44948②",null,null,null,null,"～",null,null,"～",null,0,0,"","",null,null,null,null,null,null,null,null,null,null,null,null,0,"",0,0,"",0,0,"",0,0,0,"","","07:28:37","2023-01-26","","",null,"2023-01-26",null,null,null,null,"","","",{"$f":"IF(#REF!>0,MAX(BG$8:BG51)+1,0)","v":{"$error":"#REF!"}},"2023-01-22",{"$f":"#REF!","v":{"$error":"#REF!"}},{"$f":"#REF!","v":{"$error":"#REF!"}},{"$f":"#REF!","v":{"$error":"#REF!"}},{"$f":"#REF!","v":{"$error":"#REF!"}},{"$f":"IF(#REF!=0,\"\",TEXT(#REF!,\"[h]:mm\")&\"～\"&TEXT(#REF!,\"[h]:mm\"))","v":{"$error":"#REF!"}},{"$f":"IF(#REF!=0,\"\",TEXT(#REF!,\"[h]:mm\")&\"～\"&TEXT(#REF!,\"[h]:mm\"))","v":{"$error":"#REF!"}},{"$error":"#REF!"},null,44,"","","","","","",""]
[null,null,"平日",{"$f":"D51+1","v":"2023-01-23"},44949,"①","44949①",null,null,null,null,"～",null,null,"～",null,0,0,"","",null,null,null,null,null,null,null,null,null,null,null,null,0,"",0,0,"",0,0,"",0,0,0,"","","07:28:37","2023-01-26","","",null,"2023-01-26",null,null,null,null,"","","",{"$f":"IF(#REF!>0,MAX(BG$8:BG52)+1,0)","v":{"$error":"#REF!"}},"2023-01-23",{"$f":"#REF!","v":{"$error":"#REF!"}},{"$f":"#REF!","v":{"$error":"#REF!"}},{"$f":"#REF!","v":{"$error":"#REF!"}},{"$f":"#REF!","v":{"$error":"#REF!"}},{"$f":"IF(#REF!=0,\"\",TEXT(#REF!,\"[h]:mm\")&\"～\"&TEXT(#REF!,\"[h]:mm\"))","v":{"$error":"#REF!"}},{"$f":"IF(#REF!=0,\"\",TEXT(#REF!,\"[h]:mm\")&\"～\"&TEXT(#REF!,\"[h]:mm\"))","v":{"$error":"#REF!"}},{"$error":"#REF!"},null,45,"","","","","","",""]
[null,null,"平日",{"$f":"D53","v":"2023-01-23"},44949,"②","44949②",null,null,null,null,"～",null,null,"～",null,0,0,"","",null,null,null,null,null,null,null,null,null,null,null,null,0,"",0,0,"",0,0,"",0,0,0,"","","07:28:37","2023-01-26","","",null,"2023-01-26",null,null,null,null,"","","",{"$f":"IF(#REF!>0,MAX(BG$8:BG53)+1,0)","v":{"$error":"#REF!"}},"2023-01-23",{"$f":"#REF!","v":{"$error":"#REF!"}},{"$f":"#REF!","v":{"$error":"#REF!"}},{"$f":"#REF!","v":{"$error":"#REF!"}},{"$f":"#REF!","v":{"$error":"#REF!"}},{"$f":"IF(#REF!=0,\"\",TEXT(#REF!,\"[h]:mm\")&\"～\"&TEXT(#REF!,\"[h]:mm\"))","v":{"$error":"#REF!"}},{"$f":"IF(#REF!=0,\"\",TEXT(#REF!,\"[h]:mm\")&\"～\"&TEXT(#REF!,\"[h]:mm\"))","v":{"$error":"#REF!"}},{"$error":"#REF!"},null,46,"","","","","","",""]
[null,null,"平日",{"$f":"D53+1","v":"2023-01-24"},44950,"①","44950①",null,null,null,null,"～",null,null,"～",null,0,0,"","",null,null,null,null,null,null,null,null,null,null,null,null,0,"",0,0,"",0,0,"",0,0,0,"","","07:28:37","2023-01-26","","",null,"2023-01-26",null,null,null,null,"","","",{"$f":"IF(#REF!>0,MAX(BG$8:BG54)+1,0)","v":{"$error":"#REF!"}},"2023-01-24",{"$f":"#REF!","v":{"$error":"#REF!"}},{"$f":"#REF!","v":{"$error":"#REF!"}},{"$f":"#REF!","v":{"$error":"#REF!"}},{"$f":"#REF!","v":{"$error":"#REF!"}},{"$f":"IF(#REF!=0,\"\",TEXT(#REF!,\"[h]:mm\")&\"～\"&TEXT(#REF!,\"[h]:mm\"))","v":{"$error":"#REF!"}},{"$f":"IF(#REF!=0,\"\",TEXT(#REF!,\"[h]:mm\")&\"～\"&TEXT(#REF!,\"[h]:mm\"))","v":{"$error":"#REF!"}},{"$error":"#REF!"},null,47,"","","","","","",""]
[null,null,"平日",{"$f":"D55","v":"2023-01-24"},44950,"②","44950②",null,null,null,null,"～",null,null,"～",null,0,0,"","",null,null,null,null,null,null,null,null,null,null,null,null,0,"",0,0,"",0,0,"",0,0,0,"","","07:28:37","2023-01-26","","",null,"2023-01-26",null,null,null,null,"","","",{"$f":"IF(#REF!>0,MAX(BG$8:BG55)+1,0)","v":{"$error":"#REF!"}},"2023-01-24",{"$f":"#REF!","v":{"$error":"#REF!"}},{"$f":"#REF!","v":{"$error":"#REF!"}},{"$f":"#REF!","v":{"$error":"#REF!"}},{"$f":"#REF!","v":{"$error":"#REF!"}},{"$f":"IF(#REF!=0,\"\",TEXT(#REF!,\"[h]:mm\")&\"～\"&TEXT(#REF!,\"[h]:mm\"))","v":{"$error":"#REF!"}},{"$f":"IF(#REF!=0,\"\",TEXT(#REF!,\"[h]:mm\")&\"～\"&TEXT(#REF!,\"[h]:mm\"))","v":{"$error":"#REF!"}},{"$error":"#REF!"},null,48,"","","","","","",""]
[null,null,"平日",{"$f":"D55+1","v":"2023-01-25"},44951,"①","44951①",null,null,null,null,"～",null,null,null,null,null,null,"","",null,null,null,null,null,null,null,null,null,null,null,null,0,"",0,0,"",0,0,"",0,0,0,"","","07:28:37","2023-01-26","","",null,"2023-01-26",null,null,null,null,"","","",{"$f":"IF(#REF!>0,MAX(BG$8:BG56)+1,0)","v":{"$error":"#REF!"}},"2023-01-25",{"$f":"#REF!","v":{"$error":"#REF!"}},{"$f":"#REF!","v":{"$error":"#REF!"}},{"$f":"#REF!","v":{"$error":"#REF!"}},{"$f":"#REF!","v":{"$error":"#REF!"}},{"$f":"IF(#REF!=0,\"\",TEXT(#REF!,\"[h]:mm\")&\"～\"&TEXT(#REF!,\"[h]:mm\"))","v":{"$error":"#REF!"}},{"$f":"IF(#REF!=0,\"\",TEXT(#REF!,\"[h]:mm\")&\"～\"&TEXT(#REF!,\"[h]:mm\"))","v":{"$error":"#REF!"}},{"$error":"#REF!"},null,49,"","","","","","",""]
[null,null,"平日",{"$f":"D57","v":"2023-01-25"},44951,"②","44951②",null,null,null,null,"～",null,null,"～",null,0,0,"","",null,null,null,null,null,null,null,null,null,null,null,null,0,"",0,0,"",0,0,"",0,0,0,"","","07:28:37","2023-01-26","","",null,"2023-01-26",null,null,null,null,"","","",{"$f":"IF(#REF!>0,MAX(BG$8:BG57)+1,0)","v":{"$error":"#REF!"}},"2023-01-25",{"$f":"#REF!","v":{"$error":"#REF!"}},{"$f":"#REF!","v":{"$error":"#REF!"}},{"$f":"#REF!","v":{"$error":"#REF!"}},{"$f":"#REF!","v":{"$error":"#REF!"}},{"$f":"IF(#REF!=0,\"\",TEXT(#REF!,\"[h]:mm\")&\"～\"&TEXT(#REF!,\"[h]:mm\"))","v":{"$error":"#REF!"}},{"$f":"IF(#REF!=0,\"\",TEXT(#REF!,\"[h]:mm\")&\"～\"&TEXT(#REF!,\"[h]:mm\"))","v":{"$error":"#REF!"}},{"$error":"#REF!"},null,50,"","","","","","",""]
[null,null,"平日",{"$f":"D57+1","v":"2023-01-26"},44952,"①","44952①",null,null,null,null,"～",null,null,"～",null,0,0,"","",null,null,null,null,null,null,null,null,null,null,null,null,0,"",0,0,"",0,0,"",0,0,0,"","","07:28:38","2023-01-26","","",null,"2023-01-26",null,null,null,null,"","","",{"$f":"IF(#REF!>0,MAX(BG$8:BG58)+1,0)","v":{"$error":"#REF!"}},"2023-01-26",{"$f":"#REF!","v":{"$error":"#REF!"}},{"$f":"#REF!","v":{"$error":"#REF!"}},{"$f":"#REF!","v":{"$error":"#REF!"}},{"$f":"#REF!","v":{"$error":"#REF!"}},{"$f":"IF(#REF!=0,\"\",TEXT(#REF!,\"[h]:mm\")&\"～\"&TEXT(#REF!,\"[h]:mm\"))","v":{"$error":"#REF!"}},{"$f":"IF(#REF!=0,\"\",TEXT(#REF!,\"[h]:mm\")&\"～\"&TEXT(#REF!,\"[h]:mm\"))","v":{"$error":"#REF!"}},{"$error":"#REF!"},null,51,"","","","","","",""]
[null,null,"平日",{"$f":"D59","v":"2023-01-26"},44952,"②","44952②",null,null,null,null,"～",null,null,"～",null,0,0,"","",null,null,null,null,null,null,null,null,null,null,null,null,0,"",0,0,"",0,0,"",0,0,0,"","","07:28:38","2023-01-26","","",null,"2023-01-26",null,null,null,null,"","","",{"$f":"IF(#REF!>0,MAX(BG$8:BG59)+1,0)","v":{"$error":"#REF!"}},"2023-01-26",{"$f":"#REF!","v":{"$error":"#REF!"}},{"$f":"#REF!","v":{"$error":"#REF!"}},{"$f":"#REF!","v":{"$error":"#REF!"}},{"$f":"#REF!","v":{"$error":"#REF!"}},{"$f":"IF(#REF!=0,\"\",TEXT(#REF!,\"[h]:mm\")&\"～\"&TEXT(#REF!,\"[h]:mm\"))","v":{"$error":"#REF!"}},{"$f":"IF(#REF!=0,\"\",TEXT(#REF!,\"[h]:mm\")&\"～\"&TEXT(#REF!,\"[h]:mm\"))","v":{"$error":"#REF!"}},{"$error":"#REF!"},null,52,"","","","","","",""]
[null,null,"平日",{"$f":"D59+1","v":"2023-01-27"},44953,"①","44953①",null,null,null,null,"～",null,null,"～",null,0,0,"","",null,null,null,null,null,null,null,null,null,null,null,null,0,"",0,0,"",0,0,"",0,0,0,"","","07:28:38","2023-01-26","","",null,"2023-01-26",null,null,null,null,"","","",{"$f":"IF(#REF!>0,MAX(BG$8:BG60)+1,0)","v":{"$error":"#REF!"}},"2023-01-27",{"$f":"#REF!","v":{"$error":"#REF!"}},{"$f":"#REF!","v":{"$error":"#REF!"}},{"$f":"#REF!","v":{"$error":"#REF!"}},{"$f":"#REF!","v":{"$error":"#REF!"}},{"$f":"IF(#REF!=0,\"\",TEXT(#REF!,\"[h]:mm\")&\"～\"&TEXT(#REF!,\"[h]:mm\"))","v":{"$error":"#REF!"}},{"$f":"IF(#REF!=0,\"\",TEXT(#REF!,\"[h]:mm\")&\"～\"&TEXT(#REF!,\"[h]:mm\"))","v":{"$error":"#REF!"}},{"$error":"#REF!"},null,53,"","","","","","",""]
[null,null,"平日",{"$f":"D61","v":"2023-01-27"},44953,"②","44953②",null,null,null,null,"～",null,null,"～",null,0,0,"","",null,null,null,null,null,null,null,null,null,null,null,null,0,"",0,0,"",0,0,"",0,0,0,"","","07:28:38","2023-01-26","","",null,"2023-01-26",null,null,null,null,"","","",{"$f":"IF(#REF!>0,MAX(BG$8:BG61)+1,0)","v":{"$error":"#REF!"}},"2023-01-27",{"$f":"#REF!","v":{"$error":"#REF!"}},{"$f":"#REF!","v":{"$error":"#REF!"}},{"$f":"#REF!","v":{"$error":"#REF!"}},{"$f":"#REF!","v":{"$error":"#REF!"}},{"$f":"IF(#REF!=0,\"\",TEXT(#REF!,\"[h]:mm\")&\"～\"&TEXT(#REF!,\"[h]:mm\"))","v":{"$error":"#REF!"}},{"$f":"IF(#REF!=0,\"\",TEXT(#REF!,\"[h]:mm\")&\"～\"&TEXT(#REF!,\"[h]:mm\"))","v":{"$error":"#REF!"}},{"$error":"#REF!"},null,54,"","","","","","",""]
[null,null,"週休日",{"$f":"D61+1","v":"2023-01-28"},44954,"①","44954①",null,null,null,null,"～",null,null,"～",null,0,0,"","",null,null,null,null,null,null,null,null,null,null,null,null,0,"",0,0,"",0,0,"",0,0,0,"","","07:28:38","2023-01-26","","",null,"2023-01-26",null,null,null,null,"","","",{"$f":"IF(#REF!>0,MAX(BG$8:BG62)+1,0)","v":{"$error":"#REF!"}},"2023-01-28",{"$f":"#REF!","v":{"$error":"#REF!"}},{"$f":"#REF!","v":{"$error":"#REF!"}},{"$f":"#REF!","v":{"$error":"#REF!"}},{"$f":"#REF!","v":{"$error":"#REF!"}},{"$f":"IF(#REF!=0,\"\",TEXT(#REF!,\"[h]:mm\")&\"～\"&TEXT(#REF!,\"[h]:mm\"))","v":{"$error":"#REF!"}},{"$f":"IF(#REF!=0,\"\",TEXT(#REF!,\"[h]:mm\")&\"～\"&TEXT(#REF!,\"[h]:mm\"))","v":{"$error":"#REF!"}},{"$error":"#REF!"},null,55,"","","","","","",""]
[null,null,"週休日",{"$f":"D63","v":"2023-01-28"},44954,"②","44954②",null,null,null,null,"～",null,null,"～",null,0,0,"","",null,null,null,null,null,null,null,null,null,null,null,null,0,"",0,0,"",0,0,"",0,0,0,"","","07:28:38","2023-01-26","","",null,"2023-01-26",null,null,null,null,"","","",{"$f":"IF(#REF!>0,MAX(BG$8:BG63)+1,0)","v":{"$error":"#REF!"}},"2023-01-28",{"$f":"#REF!","v":{"$error":"#REF!"}},{"$f":"#REF!","v":{"$error":"#REF!"}},{"$f":"#REF!","v":{"$error":"#REF!"}},{"$f":"#REF!","v":{"$error":"#REF!"}},{"$f":"IF(#REF!=0,\"\",TEXT(#REF!,\"[h]:mm\")&\"～\"&TEXT(#REF!,\"[h]:mm\"))","v":{"$error":"#REF!"}},{"$f":"IF(#REF!=0,\"\",TEXT(#REF!,\"[h]:mm\")&\"～\"&TEXT(#REF!,\"[h]:mm\"))","v":{"$error":"#REF!"}},{"$error":"#REF!"},null,56,"","","","","","",""]
[null,null,"週休日",{"$f":"D63+1","v":"2023-01-29"},44955,"①","44955①",null,null,null,null,"～",null,null,"～",null,0,0,"","",null,null,null,null,null,null,null,null,null,null,null,null,0,"",0,0,"",0,0,"",0,0,0,"","","07:28:38","2023-01-26","","",null,"2023-01-26",null,null,null,null,"","","",{"$f":"IF(#REF!>0,MAX(BG$8:BG64)+1,0)","v":{"$error":"#REF!"}},"2023-01-29",{"$f":"#REF!","v":{"$error":"#REF!"}},{"$f":"#REF!","v":{"$error":"#REF!"}},{"$f":"#REF!","v":{"$error":"#REF!"}},{"$f":"#REF!","v":{"$error":"#REF!"}},{"$f":"IF(#REF!=0,\"\",TEXT(#REF!,\"[h]:mm\")&\"～\"&TEXT(#REF!,\"[h]:mm\"))","v":{"$error":"#REF!"}},{"$f":"IF(#REF!=0,\"\",TEXT(#REF!,\"[h]:mm\")&\"～\"&TEXT(#REF!,\"[h]:mm\"))","v":{"$error":"#REF!"}},{"$error":"#REF!"},null,57,"","","","","","",""]
[null,null,"週休日",{"$f":"D65","v":"2023-01-29"},44955,"②","44955②",null,null,null,null,"～",null,null,"～",null,0,0,"","",null,null,null,null,null,null,null,null,null,null,null,null,0,"",0,0,"",0,0,"",0,0,0,"","","07:28:38","2023-01-26","","",null,"2023-01-26",null,null,null,null,"","","",{"$f":"IF(#REF!>0,MAX(BG$8:BG65)+1,0)","v":{"$error":"#REF!"}},"2023-01-29",{"$f":"#REF!","v":{"$error":"#REF!"}},{"$f":"#REF!","v":{"$error":"#REF!"}},{"$f":"#REF!","v":{"$error":"#REF!"}},{"$f":"#REF!","v":{"$error":"#REF!"}},{"$f":"IF(#REF!=0,\"\",TEXT(#REF!,\"[h]:mm\")&\"～\"&TEXT(#REF!,\"[h]:mm\"))","v":{"$error":"#REF!"}},{"$f":"IF(#REF!=0,\"\",TEXT(#REF!,\"[h]:mm\")&\"～\"&TEXT(#REF!,\"[h]:mm\"))","v":{"$error":"#REF!"}},{"$error":"#REF!"},null,58,"","","","","","",""]
[null,null,"平日",{"$f":"D65+1","v":"2023-01-30"},44956,"①","44956①",null,null,null,null,"～",null,null,"～",null,0,0,"","",null,null,null,null,null,null,null,null,null,null,null,null,0,"",0,0,"",0,0,"",0,0,0,"","","07:28:38","2023-01-26","","",null,"2023-01-26",null,null,null,null,"","","",{"$f":"IF(#REF!>0,MAX(BG$8:BG66)+1,0)","v":{"$error":"#REF!"}},"2023-01-30",{"$f":"#REF!","v":{"$error":"#REF!"}},{"$f":"#REF!","v":{"$error":"#REF!"}},{"$f":"#REF!","v":{"$error":"#REF!"}},{"$f":"#REF!","v":{"$error":"#REF!"}},{"$f":"IF(#REF!=0,\"\",TEXT(#REF!,\"[h]:mm\")&\"～\"&TEXT(#REF!,\"[h]:mm\"))","v":{"$error":"#REF!"}},{"$f":"IF(#REF!=0,\"\",TEXT(#REF!,\"[h]:mm\")&\"～\"&TEXT(#REF!,\"[h]:mm\"))","v":{"$error":"#REF!"}},{"$error":"#REF!"},null,59,"","","","","","",""]
[null,null,"平日",{"$f":"D67","v":"2023-01-30"},44956,"②","44956②",null,null,null,null,"～",null,null,"～",null,0,0,"","",null,null,null,null,null,null,null,null,null,null,null,null,0,"",0,0,"",0,0,"",0,0,0,"","","07:28:38","2023-01-26","","",null,"2023-01-26",null,null,null,null,"","","",{"$f":"IF(#REF!>0,MAX(BG$8:BG67)+1,0)","v":{"$error":"#REF!"}},"2023-01-30",{"$f":"#REF!","v":{"$error":"#REF!"}},{"$f":"#REF!","v":{"$error":"#REF!"}},{"$f":"#REF!","v":{"$error":"#REF!"}},{"$f":"#REF!","v":{"$error":"#REF!"}},{"$f":"IF(#REF!=0,\"\",TEXT(#REF!,\"[h]:mm\")&\"～\"&TEXT(#REF!,\"[h]:mm\"))","v":{"$error":"#REF!"}},{"$f":"IF(#REF!=0,\"\",TEXT(#REF!,\"[h]:mm\")&\"～\"&TEXT(#REF!,\"[h]:mm\"))","v":{"$error":"#REF!"}},{"$f":"IF(BN68=\"\",IF(BM68=\"\",\"\",TEXT(BM68&\"除く。 \",)),TEXT(BM68&\",\"&BN68&\"除く。 \",))","v":{"$error":"#REF!"}},null,60,"","","","","","",""]
[null,null,"平日","2023-01-31",{"$f":"D69","v":44957},"①",{"$f":"TEXT(D69&F69,)","v":"44957①"},null,null,null,null,"～",null,null,"～",null,0,0,"","",null,null,null,null,null,null,null,null,null,null,null,null,0,"",0,0,"",0,0,"",0,0,0,"","","07:28:38","2023-01-26","","",null,"2023-01-26",null,null,null,null,"","","",{"$f":"IF(#REF!>0,MAX(BG$8:BG68)+1,0)","v":{"$error":"#REF!"}},"2023-01-31",{"$f":"#REF!","v":{"$error":"#REF!"}},{"$f":"#REF!","v":{"$error":"#REF!"}},{"$f":"#REF!","v":{"$error":"#REF!"}},{"$f":"#REF!","v":{"$error":"#REF!"}},{"$f":"IF(#REF!=0,\"\",TEXT(#REF!,\"[h]:mm\")&\"～\"&TEXT(#REF!,\"[h]:mm\"))","v":{"$error":"#REF!"}},{"$f":"IF(#REF!=0,\"\",TEXT(#REF!,\"[h]:mm\")&\"～\"&TEXT(#REF!,\"[h]:mm\"))","v":{"$error":"#REF!"}},{"$error":"#REF!"},null,59,{"$f":"IFERROR(VLOOKUP(BQ69,$BG$9:$BP$70,2,0),\"\")","v":""},{"$f":"IF(BR69=\"\",\"\",TEXT(BR69,\"aaa\"))","v":""},{"$f":"IFERROR(VLOOKUP(BQ69,$BG$9:$BP$70,3,0),\"\")","v":""},{"$f":"IFERROR(VLOOKUP(BQ69,$BG$9:$BP$70,4,0),\"\")","v":""},{"$f":"IFERROR(VLOOKUP(BQ69,$BG$9:$BP$70,5,0),\"\")","v":""},{"$f":"IFERROR(VLOOKUP(BQ69,$BG$9:$BP$70,6,0),\"\")","v":""},{"$f":"IFERROR(VLOOKUP(BQ69,$BG$9:$BP$70,9,0),\"\")","v":""}]
[null,null,"平日","2023-01-31",44957,"②","44957②",null,null,null,null,"～",null,null,"～",null,0,0,"","",null,null,null,null,null,null,null,null,null,null,null,null,{"$f":"U70","v":0},{"$f":"IF(V70>=30,1,\"\")","v":""},{"$f":"SUM(AG70:AH70)","v":0},{"$f":"W70","v":0},{"$f":"IF(X70>=30,1,\"\")","v":""},{"$f":"SUM(AJ70:AK70)","v":0},{"$f":"Y70","v":0},{"$f":"IF(Z70>=30,1,\"\")","v":""},{"$f":"SUM(AM70:AN70)","v":0},{"$f":"SUM(AO70,AL70,AI70)","v":0},{"$f":"SUM(AA70:AF70)","v":0},"","","15:12:23","2022-12-23","","",null,null,null,null,null,null,"","","",{"$f":"IF(#REF!>0,MAX(BG$8:BG69)+1,0)","v":{"$error":"#REF!"}},"2023-01-31",{"$f":"#REF!","v":{"$error":"#REF!"}},{"$f":"#REF!","v":{"$error":"#REF!"}},{"$f":"#REF!","v":{"$error":"#REF!"}},{"$f":"#REF!","v":{"$error":"#REF!"}},{"$f":"IF(#REF!=0,\"\",TEXT(#REF!,\"[h]:mm\")&\"～\"&TEXT(#REF!,\"[h]:mm\"))","v":{"$error":"#REF!"}},{"$f":"IF(#REF!=0,\"\",TEXT(#REF!,\"[h]:mm\")&\"～\"&TEXT(#REF!,\"[h]:mm\"))","v":{"$error":"#REF!"}},{"$f":"IF(BN70=\"\",IF(BM70=\"\",\"\",TEXT(BM70&\"除く。 \",)),TEXT(BM70&\",\"&BN70&\"除く。 \",))","v":{"$error":"#REF!"}},null,60,"","","","","","",""]
[null,null,null,null,null,null,null,null,null,null,null,null,null,null,null,null,null,null,null,null,"実績時数計",null,null,null,null,null,{"$f":"SUM(AA9:AA70)","v":0},0,{"$f":"SUM(AC9:AC70)","v":0},0,0,0]
[null,null,null,null,null,null,null,null,null,null,null,null,null,null,null,null,null,null,null,null,null,null,null,null,null,null,25,100,125,135,150,160]
[null,null,null,"命令簿、整理簿を作成し、決裁をしてください。実施時数を関係書類を確認し26報告書に転記してください。",null,null,null,null,null,null,null,null,null,null,null,null,null,null,null,null,null,null,null,null,null,null,null,null,null,null,null,null,null,null,null,null,null,null,null,null,null,null,null,null,null,0.57900462962962962]
[null,null,null,null,null,null,null,null,null,null,null,null,null,null,null,null,null,null,null,null,null,null,null,null,null,null,{"$f":"ROUND(AA71,0)","v":0},{"$f":"ROUND(AB71,0)","v":0},0,0,0,0,null,null,null,null,null,null,null,null,null,null,null,null,null,0.57901620370370377]
[null,null,null,null,null,null,null,null,null,null,null,null,null,null,null,null,null,null,null,null,null,null,null,null,null,null,null,null,null,null,null,null,null,null,null,null,null,null,null,null,null,null,null,null,null,null,null,null,null,{"$f":"IF(AA71=#REF!,\"\",\"不一致\")","v":{"$error":"#REF!"}},{"$f":"IF(AB71=#REF!,\"\",\"不一致\")","v":{"$error":"#REF!"}},{"$f":"IF(AC71=AR72,\"\",\"不一致\")","v":""},{"$f":"IF(AD71=#REF!,\"\",\"不一致\")","v":{"$error":"#REF!"}},{"$f":"IF(AE71=#REF!,\"\",\"不一致\")","v":{"$error":"#REF!"}},{"$f":"IF(AF71=#REF!,\"\",\"不一致\")","v":{"$error":"#REF!"}}]
[]
[]
[null,null,null,null,null,null,null,null,null,null,null,null,null,null,null,null,null,null,null,null,null,null,null,null,null,null,null,null,null,null,null,null,null,null,null,null,null,null,null,null,null,null,null,null,null,null,"PC使用者番号"]
[null,null,null,null,null,null,null,null,null,null,{"$f":"時間外命令簿!L5","v":0},null,null,null,null,null,null,null,null,null,null,null,null,null,null,null,null,null,null,null,null,null,null,null,null,null,null,null,null,null,null,null,null,null,null,null,{"$f":"LoginName()","v":"401572"},null,null,null,null,"月累計",null,null,"年累計"]
[null,null,null,null,null,null,null,null,null,null,null,null,null,null,null,null,null,null,null,null,null,null,null,null,null,null,null,null,null,null,null,null,null,null,null,null,null,null,null,null,null,null,null,null,null,null,null,null,null,"通常",null,"特例","合計","通常","特例","合計"]
[null,null,null,null,null,null,null,null,null,null,null,null,null,null,null,null,null,null,null,null,null,null,null,null,null,null,null,null,null,null,null,null,null,null,null,null,null,null,null,null,null,null,null,null,null,null,null,null,null,{"$f":"SUM(#REF!)/60+SUM(#REF!)","v":{"$error":"#REF!"}},null,{"$f":"SUM(#REF!)/60+SUM(#REF!)","v":{"$error":"#REF!"}},{"$f":"SUM(AX81,AZ81)","v":{"$error":"#REF!"}},{"$f":"AX81","v":{"$error":"#REF!"}},{"$f":"AZ81","v":{"$error":"#REF!"}},{"$f":"SUM(BB81,BC81)","v":{"$error":"#REF!"}}]
[null,null,null,null,null,null,null,null,null,null,null,null,null,null,null,null,null,null,null,null,null,null,null,null,null,null,null,null,null,null,null,null,null,null,null,null,null,null,null,null,null,null,null,null,null,null,null,null,null,null,null,null,null,null,null,null,null,null,null,null,null,null,"５月\n平均"]
[]
[null,null,null,null,null,null,null,null,null,null,null,null,null,null,null,null,null,null,null,null,null,null,null,null,null,null,null,null,null,null,null,null,null,null,null,null,null,null,null,null,null,null,null,null,null,null,null,null,null,null,null,null,null,null,null,null,null,null,null,null,null,null,"-",null,null,null,null,{"$f":"BN84","v":"00:00:00"}]
[]
[]
[]
[]
[]
[]
[]
[]
[]
[]
[]
[]
[]
[]
[]
[]
[]
[]
[]
[null,null,null,null,null,null,null,null,null,null,null,null,null,null,null,null,null,null,null,null,null,null,null,null,null,null,null,null,null,null,null,null,null,null,null,null,null,null,null,null,null,null,null,null,null,null,null,null,null,null,null,null,null,null,null,null,null,null,null,null,null,null,"2月"]
[null,null,null,null,null,null,null,null,null,null,null,null,null,null,null,null,null,null,null,null,null,null,null,null,null,null,null,null,null,null,null,null,null,null,null,null,null,null,null,null,null,null,null,null,null,null,null,null,null,null,null,null,null,null,null,null,null,null,null,null,null,null,{"$f":"#REF!","v":{"$error":"#REF!"}}]
[]
[]
[]
[null,null,null,null,null,null,null,null,null,null,null,null,null,null,null,null,null,null,null,null,null,null,null,null,null,null,null,null,null,null,null,null,null,null,null,null,null,null,null,null,null,null,null,null,null,null,null,null,null,null,null,null,null,null,null,null,null,"↓特例＋通常の合計時間数を直接入力",null,null,null,null,null,null,null,null,null,null,"↓大規模災害等緊急業務の時間数を直接入力"]
[null,null,null,null,null,null,null,null,null,null,null,null,null,null,null,null,null,null,null,null,null,null,null,null,null,null,null,null,null,null,null,null,null,null,null,null,null,null,null,null,0,null,null,null,null,null,null,null,null,null,null,null,null,null,null,null,null,"2020年",null,"2021年",null,null,14,null,null,null,null,"00:00:00","2020年",null,"2021年"]
[null,null,null,"➢前年度実績の引継ぎ方法",null,null,null,null,null,null,null,null,null,null,null,null,null,null,null,null,null,null,null,null,null,null,null,null,null,null,null,null,null,null,null,null,null,null,null,null,null,null,null,null,null,null,null,null,null,null,null,null,null,null,null,null,null,"11月","12月","1月","2月","3月",null,null,null,null,null,null,"11月","12月","1月","2月","3月"]
[null,null,null,"前年度の管理簿の集計表シートから、自分の行をコピーし、下の800行に「値を選択して貼り付け」してください。",null,null,null,null,null,null,null,null,null,null,null,null,null,null,null,null,null,null,null,null,null,null,null,null,null,null,null,null,null,null,null,null,null,null,null,null,null,null,null,null,null,null,null,null,null,null,null,null,null,null,null,null,null,{"$f":"AB117","v":0},{"$f":"AE117","v":0},{"$f":"AQ117","v":0},{"$f":"#REF!","v":{"$error":"#REF!"}},{"$f":"#REF!","v":{"$error":"#REF!"}},null,null,null,null,null,null,{"$f":"BU117","v":0},{"$f":"BW117","v":0},{"$f":"BY117","v":0},{"$f":"CA117","v":0},{"$f":"CC117","v":0}]
[null,null,null,"※前年度、管理簿を使用していない場合は、前所属から時間数を聴取し、→のボタンを押し、直接入力してください。",null,null,null,null,null,null,null,null,null,null,null,null,null,null,null,null,null,null,null,null,null,null,null,null,null,null,null,null,null,null,null,null,null,null,null,null,null,null,null,null,null,null,null,null,null,null,null,null,null,null,null,null,null,null,null,null,null,null,null,null,null,null,null,null,{"$f":"BF112+BQ112","v":0},{"$f":"BG112+BR112","v":0},{"$f":"BH112+BS112","v":0},{"$f":"BI112+BT112","v":{"$error":"#REF!"}},{"$f":"BJ112+BU112","v":{"$error":"#REF!"}}]
[null,null,null,"　　（３行目の「職」「氏名」も直接入力してください。）"]
[null,null,"職","氏名","４月",null,null,"５月",null,null,"６月",null,null,"７月",null,null,"８月",null,null,"９月",null,null,"１０月",null,null,"１１月",null,null,"１２月",null,null,"１月",null,null,null,null,null,null,null,null,null,null,null,"２月"]
[null,null,null,null,"通常","特例","合計","通常","特例","合計","通常","特例","合計","通常","特例","合計","通常","特例","合計","通常","特例","合計","通常","特例","合計","通常","特例","合計","通常","特例","合計","通常"]
[null,"今村","係長","今村正臣",12,0,12,0,0,0,0,0,0,0,0,0,0,0,0,0,0,0,0,0,0,0,0,0,0,0,0,0,null,null,null,null,null,null,null,null,null,null,null,null,38.5,3.5,42,321.5,null,678,null,0,13.25,10,7.5,6,5,null,0,12,0,0,null,0,0,"00:00:00",0,null,0,0,0,0,0,0,0,0,0,3.5,0,0,0,26.5,0,42,0,13.25,10,7.5,6,5]
[]
[null,null,"①　前年度の管理簿ファイルの集計表シートの自分の行全体をコピー\n②　このシートの800行を選択→　右クリック→　「貼り付けのオプション：」→\n　　　「値」を選択して貼り付け"]

{"sheet":"集計表","index":4,"n_rows":40,"n_cols":84,"rows_kept":40,"cut":false,"hidden":true,"merged":[[3,70,3,71],[3,47,4,47],[3,48,4,48],[3,49,4,49],[3,50,4,50],[3,46,4,46],[25,2,25,3],[3,64,3,65],[3,66,3,67],[3,68,3,69],[3,22,3,24],[3,25,3,27],[3,3,4,3],[3,16,3,18],[3,19,3,21],[1,34,1,36],[3,28,3,30],[3,31,3,33],[3,34,3,36],[3,37,3,39],[1,28,1,30],[1,37,1,45],[3,45,4,45],[3,40,3,42],[3,43,3,44],[3,1,4,1],[3,4,3,6],[3,7,3,9],[3,10,3,12],[3,13,3,15],[3,2,4,2],[3,82,4,82],[3,83,4,83],[2,52,2,83],[3,78,4,78],[3,79,4,79],[3,80,4,80],[3,81,4,81],[3,52,3,53],[3,54,3,55],[3,56,3,57],[3,58,3,59],[3,60,3,61],[3,72,3,73],[3,74,3,75],[3,76,3,77],[3,62,3,63]]}
[]
[null,null,"時間外勤務等入力表"]
[null,"学校名","●●●立●●●学校",null,null,null,null,null,null,null,null,null,null,null,null,null,null,null,null,null,null,null,null,null,null,null,null,null,null,null,null,null,null,null,null,null,null,null,null,null,null,null,null,null,null,null,null,null,null,null,null,null,"大規模災害"]
[null,"作業列","職","氏名","４月",null,null,"５月",null,null,"６月",null,null,"７月",null,null,"８月",null,null,"９月",null,null,"１０月",null,null,"１１月",null,null,"１２月",null,null,"１月",null,null,"２月",null,null,"３月",null,null,"年累計",null,null,"年残時間",null,"月45ｈ\n超回数","２月\n平均","３月\n平均","４月\n平均","５月\n平均","６月\n平均",null,"４月",null,"５月",null,"６月",null,"７月",null,"８月",null,"９月",null,"１０月",null,"１１月",null,"１２月",null,"１月",null,"２月",null,"３月",null,"年累計",null,"月45ｈ\n超回数","２月\n平均","３月\n平均","４月\n平均","５月\n平均","６月\n平均"]
[null,null,null,null,"通常","特例","合計","通常","特例","合計","通常","特例","合計","通常","特例","合計","通常","特例","合計","通常","特例","合計","通常","特例","合計","通常","特例","合計","通常","特例","合計","通常","特例","合計","通常","特例","合計","通常","特例","合計","通常","特例","合計","360h","720h",null,null,null,null,null,null,null,"災害","合計","災害","合計","災害","合計","災害","合計","災害","合計","災害","合計","災害","合計","災害","合計","災害","合計","災害","合計","災害","合計","災害","合計","災害","合計"]
[null,"●●","事務職員","●●　■■",{"$f":"IF($B6=\"\",\"\",VLOOKUP(E$4,INDIRECT($B6&\"!D9:BP764\"),42,FALSE))","v":{"$error":"#N/A"}},{"$f":"IF($B6=\"\",\"\",VLOOKUP(E$4,INDIRECT($B6&\"!D9:BP764\"),43,FALSE))","v":{"$error":"#N/A"}},{"$f":"SUM(E6:F6)","v":{"$error":"#N/A"}},{"$f":"IF($B6=\"\",\"\",VLOOKUP(H$4,INDIRECT($B6&\"!D9:BP764\"),42,FALSE))","v":{"$error":"#N/A"}},{"$f":"IF($B6=\"\",\"\",VLOOKUP(H$4,INDIRECT($B6&\"!D9:BP764\"),43,FALSE))","v":{"$error":"#N/A"}},{"$f":"SUM(H6:I6)","v":{"$error":"#N/A"}},{"$f":"IF($B6=\"\",\"\",VLOOKUP(K$4,INDIRECT($B6&\"!D9:BP764\"),42,FALSE))","v":{"$error":"#N/A"}},{"$f":"IF($B6=\"\",\"\",VLOOKUP(K$4,INDIRECT($B6&\"!D9:BP764\"),43,FALSE))","v":{"$error":"#N/A"}},{"$f":"SUM(K6:L6)","v":{"$error":"#N/A"}},{"$f":"IF($B6=\"\",\"\",VLOOKUP(N$4,INDIRECT($B6&\"!D9:BP764\"),42,FALSE))","v":{"$error":"#N/A"}},{"$f":"IF($B6=\"\",\"\",VLOOKUP(N$4,INDIRECT($B6&\"!D9:BP764\"),43,FALSE))","v":{"$error":"#N/A"}},{"$f":"SUM(N6:O6)","v":{"$error":"#N/A"}},{"$f":"IF($B6=\"\",\"\",VLOOKUP(Q$4,INDIRECT($B6&\"!D9:BP764\"),42,FALSE))","v":{"$error":"#N/A"}},{"$f":"IF($B6=\"\",\"\",VLOOKUP(Q$4,INDIRECT($B6&\"!D9:BP764\"),43,FALSE))","v":{"$error":"#N/A"}},{"$f":"SUM(Q6:R6)","v":{"$error":"#N/A"}},{"$f":"IF($B6=\"\",\"\",VLOOKUP(T$4,INDIRECT($B6&\"!D9:BP764\"),42,FALSE))","v":{"$error":"#N/A"}},{"$f":"IF($B6=\"\",\"\",VLOOKUP(T$4,INDIRECT($B6&\"!D9:BP764\"),43,FALSE))","v":{"$error":"#N/A"}},{"$f":"SUM(T6:U6)","v":{"$error":"#N/A"}},{"$f":"IF($B6=\"\",\"\",VLOOKUP(W$4,INDIRECT($B6&\"!D9:BP764\"),42,FALSE))","v":{"$error":"#N/A"}},{"$f":"IF($B6=\"\",\"\",VLOOKUP(W$4,INDIRECT($B6&\"!D9:BP764\"),43,FALSE))","v":{"$error":"#N/A"}},{"$f":"SUM(W6:X6)","v":{"$error":"#N/A"}},{"$f":"IF($B6=\"\",\"\",VLOOKUP(Z$4,INDIRECT($B6&\"!D9:BP764\"),42,FALSE))","v":{"$error":"#N/A"}},{"$f":"IF($B6=\"\",\"\",VLOOKUP(Z$4,INDIRECT($B6&\"!D9:BP764\"),43,FALSE))","v":{"$error":"#N/A"}},{"$f":"SUM(Z6:AA6)","v":{"$error":"#N/A"}},{"$f":"IF($B6=\"\",\"\",VLOOKUP(AC$4,INDIRECT($B6&\"!D9:BP764\"),42,FALSE))","v":{"$error":"#N/A"}},{"$f":"IF($B6=\"\",\"\",VLOOKUP(AC$4,INDIRECT($B6&\"!D9:BP764\"),43,FALSE))","v":{"$error":"#N/A"}},{"$f":"SUM(AC6:AD6)","v":{"$error":"#N/A"}},{"$f":"IF($B6=\"\",\"\",VLOOKUP(AF$4,INDIRECT($B6&\"!D9:BP764\"),42,FALSE))","v":{"$error":"#N/A"}},{"$f":"IF($B6=\"\",\"\",VLOOKUP(AF$4,INDIRECT($B6&\"!D9:BP764\"),43,FALSE))","v":{"$error":"#N/A"}},{"$f":"SUM(AF6:AG6)","v":{"$error":"#N/A"}},{"$f":"IF($B6=\"\",\"\",VLOOKUP(AI$4,INDIRECT($B6&\"!D9:BP764\"),42,FALSE))","v":{"$error":"#N/A"}},{"$f":"IF($B6=\"\",\"\",VLOOKUP(AI$4,INDIRECT($B6&\"!D9:BP764\"),43,FALSE))","v":{"$error":"#N/A"}},{"$f":"SUM(AI6:AJ6)","v":{"$error":"#N/A"}},{"$f":"IF($B6=\"\",\"\",VLOOKUP(AL$4,INDIRECT($B6&\"!D9:BP764\"),42,FALSE))","v":{"$error":"#N/A"}},{"$f":"IF($B6=\"\",\"\",VLOOKUP(AL$4,INDIRECT($B6&\"!D9:BP764\"),43,FALSE))","v":{"$error":"#N/A"}},{"$f":"SUM(AL6:AM6)","v":{"$error":"#N/A"}},{"$f":"IF($B6=\"\",\"\",VLOOKUP($AC$2,INDIRECT($B6&\"!D9:BP764\"),45,FALSE))","v":{"$error":"#N/A"}},{"$f":"IF($B6=\"\",\"\",VLOOKUP($AC$2,INDIRECT($B6&\"!D9:BP764\"),46,FALSE))","v":{"$error":"#N/A"}},{"$f":"SUM(AO6:AP6)","v":{"$error":"#N/A"}},{"$f":"IF($B6=\"\",\"\",360-AO6)","v":{"$error":"#N/A"}},{"$f":"IF($B6=\"\",\"\",720-AQ6)","v":{"$error":"#N/A"}},{"$f":"IF($B6=\"\",\"\",VLOOKUP($AC$2,INDIRECT($B6&\"!D9:BP764\"),54,FALSE))","v":{"$error":"#N/A"}},{"$f":"IF($B6=\"\",\"\",VLOOKUP($AC$2,INDIRECT($B6&\"!D9:BP764\"),49,FALSE))","v":{"$error":"#N/A"}},{"$f":"IF($B6=\"\",\"\",VLOOKUP($AC$2,INDIRECT($B6&\"!D9:BP764\"),50,FALSE))","v":{"$error":"#N/A"}},{"$f":"IF($B6=\"\",\"\",VLOOKUP($AC$2,INDIRECT($B6&\"!D9:BP764\"),51,FALSE))","v":{"$error":"#N/A"}},{"$f":"IF($B6=\"\",\"\",VLOOKUP($AC$2,INDIRECT($B6&\"!D9:BP764\"),52,FALSE))","v":{"$error":"#N/A"}},{"$f":"IF($B6=\"\",\"\",VLOOKUP($AC$2,INDIRECT($B6&\"!D9:BP764\"),53,FALSE))","v":{"$error":"#N/A"}},null,{"$f":"IF($B6=\"\",\"\",VLOOKUP(BA$4,INDIRECT($B6&\"!D9:BP764\"),55,FALSE))","v":{"$error":"#N/A"}},{"$f":"IF($B6=\"\",\"\",VLOOKUP(BA$4,INDIRECT($B6&\"!D9:BP764\"),56,FALSE))","v":{"$error":"#N/A"}},{"$f":"IF($B6=\"\",\"\",VLOOKUP(BC$4,INDIRECT($B6&\"!D9:BP764\"),55,FALSE))","v":{"$error":"#N/A"}},{"$f":"IF($B6=\"\",\"\",VLOOKUP(BC$4,INDIRECT($B6&\"!D9:BP764\"),56,FALSE))","v":{"$error":"#N/A"}},{"$f":"IF($B6=\"\",\"\",VLOOKUP(BE$4,INDIRECT($B6&\"!D9:BP764\"),55,FALSE))","v":{"$error":"#N/A"}},{"$f":"IF($B6=\"\",\"\",VLOOKUP(BE$4,INDIRECT($B6&\"!D9:BP764\"),56,FALSE))","v":{"$error":"#N/A"}},{"$f":"IF($B6=\"\",\"\",VLOOKUP(BG$4,INDIRECT($B6&\"!D9:BP764\"),55,FALSE))","v":{"$error":"#N/A"}},{"$f":"IF($B6=\"\",\"\",VLOOKUP(BG$4,INDIRECT($B6&\"!D9:BP764\"),56,FALSE))","v":{"$error":"#N/A"}},{"$f":"IF($B6=\"\",\"\",VLOOKUP(BI$4,INDIRECT($B6&\"!D9:BP764\"),55,FALSE))","v":{"$error":"#N/A"}},{"$f":"IF($B6=\"\",\"\",VLOOKUP(BI$4,INDIRECT($B6&\"!D9:BP764\"),56,FALSE))","v":{"$error":"#N/A"}},{"$f":"IF($B6=\"\",\"\",VLOOKUP(BK$4,INDIRECT($B6&\"!D9:BP764\"),55,FALSE))","v":{"$error":"#N/A"}},{"$f":"IF($B6=\"\",\"\",VLOOKUP(BK$4,INDIRECT($B6&\"!D9:BP764\"),56,FALSE))","v":{"$error":"#N/A"}},{"$f":"IF($B6=\"\",\"\",VLOOKUP(BM$4,INDIRECT($B6&\"!D9:BP764\"),55,FALSE))","v":{"$error":"#N/A"}},{"$f":"IF($B6=\"\",\"\",VLOOKUP(BM$4,INDIRECT($B6&\"!D9:BP764\"),56,FALSE))","v":{"$error":"#N/A"}},{"$f":"IF($B6=\"\",\"\",VLOOKUP(BO$4,INDIRECT($B6&\"!D9:BP764\"),55,FALSE))","v":{"$error":"#N/A"}},{"$f":"IF($B6=\"\",\"\",VLOOKUP(BO$4,INDIRECT($B6&\"!D9:BP764\"),56,FALSE))","v":{"$error":"#N/A"}},{"$f":"IF($B6=\"\",\"\",VLOOKUP(BQ$4,INDIRECT($B6&\"!D9:BP764\"),55,FALSE))","v":{"$error":"#N/A"}},{"$f":"IF($B6=\"\",\"\",VLOOKUP(BQ$4,INDIRECT($B6&\"!D9:BP764\"),56,FALSE))","v":{"$error":"#N/A"}},{"$f":"IF($B6=\"\",\"\",VLOOKUP(BS$4,INDIRECT($B6&\"!D9:BP764\"),55,FALSE))","v":{"$error":"#N/A"}},{"$f":"IF($B6=\"\",\"\",VLOOKUP(BS$4,INDIRECT($B6&\"!D9:BP764\"),56,FALSE))","v":{"$error":"#N/A"}},{"$f":"IF($B6=\"\",\"\",VLOOKUP(BU$4,INDIRECT($B6&\"!D9:BP764\"),55,FALSE))","v":{"$error":"#N/A"}},{"$f":"IF($B6=\"\",\"\",VLOOKUP(BU$4,INDIRECT($B6&\"!D9:BP764\"),56,FALSE))","v":{"$error":"#N/A"}},{"$f":"IF($B6=\"\",\"\",VLOOKUP(BW$4,INDIRECT($B6&\"!D9:BP764\"),55,FALSE))","v":{"$error":"#N/A"}},{"$f":"IF($B6=\"\",\"\",VLOOKUP(BW$4,INDIRECT($B6&\"!D9:BP764\"),56,FALSE))","v":{"$error":"#N/A"}},{"$f":"IF($B6=\"\",\"\",VLOOKUP($AC$2,INDIRECT($B6&\"!D9:BP764\"),57,FALSE))","v":{"$error":"#N/A"}},{"$f":"IF($B6=\"\",\"\",VLOOKUP($AC$2,INDIRECT($B6&\"!D9:BP764\"),58,FALSE))","v":{"$error":"#N/A"}},{"$f":"IF($B6=\"\",\"\",VLOOKUP($AC$2,INDIRECT($B6&\"!D9:BP764\"),65,FALSE))","v":{"$error":"#N/A"}},{"$f":"IF($B6=\"\",\"\",VLOOKUP($AC$2,INDIRECT($B6&\"!D9:BP764\"),60,FALSE))","v":{"$error":"#N/A"}},{"$f":"IF($B6=\"\",\"\",VLOOKUP($AC$2,INDIRECT($B6&\"!D9:BP764\"),61,FALSE))","v":{"$error":"#N/A"}},{"$f":"IF($B6=\"\",\"\",VLOOKUP($AC$2,INDIRECT($B6&\"!D9:BP764\"),62,FALSE))","v":{"$error":"#N/A"}},{"$f":"IF($B6=\"\",\"\",VLOOKUP($AC$2,INDIRECT($B6&\"!D9:BP764\"),63,FALSE))","v":{"$error":"#N/A"}},{"$f":"IF($B6=\"\",\"\",VLOOKUP($AC$2,INDIRECT($B6&\"!D9:BP764\"),64,FALSE))","v":{"$error":"#N/A"}}]
[null,"▲▲","事務職員","▲▲　◆◆",{"$f":"IF($B7=\"\",\"\",VLOOKUP(E$4,INDIRECT($B7&\"!D9:BP764\"),42,FALSE))","v":{"$error":"#N/A"}},{"$f":"IF($B7=\"\",\"\",VLOOKUP(E$4,INDIRECT($B7&\"!D9:BP764\"),43,FALSE))","v":{"$error":"#N/A"}},{"$f":"SUM(E7:F7)","v":{"$error":"#N/A"}},{"$error":"#N/A"},{"$f":"IF($B7=\"\",\"\",VLOOKUP(H$4,INDIRECT($B7&\"!D9:BP764\"),43,FALSE))","v":{"$error":"#N/A"}},{"$f":"SUM(H7:I7)","v":{"$error":"#N/A"}},{"$f":"IF($B7=\"\",\"\",VLOOKUP(K$4,INDIRECT($B7&\"!D9:BP764\"),42,FALSE))","v":{"$error":"#N/A"}},{"$f":"IF($B7=\"\",\"\",VLOOKUP(K$4,INDIRECT($B7&\"!D9:BP764\"),43,FALSE))","v":{"$error":"#N/A"}},{"$f":"SUM(K7:L7)","v":{"$error":"#N/A"}},{"$error":"#N/A"},{"$f":"IF($B7=\"\",\"\",VLOOKUP(N$4,INDIRECT($B7&\"!D9:BP764\"),43,FALSE))","v":{"$error":"#N/A"}},{"$f":"SUM(N7:O7)","v":{"$error":"#N/A"}},{"$error":"#N/A"},{"$f":"IF($B7=\"\",\"\",VLOOKUP(Q$4,INDIRECT($B7&\"!D9:BP764\"),43,FALSE))","v":{"$error":"#N/A"}},{"$f":"SUM(Q7:R7)","v":{"$error":"#N/A"}},{"$error":"#N/A"},{"$f":"IF($B7=\"\",\"\",VLOOKUP(T$4,INDIRECT($B7&\"!D9:BP764\"),43,FALSE))","v":{"$error":"#N/A"}},{"$f":"SUM(T7:U7)","v":{"$error":"#N/A"}},{"$error":"#N/A"},{"$f":"IF($B7=\"\",\"\",VLOOKUP(W$4,INDIRECT($B7&\"!D9:BP764\"),43,FALSE))","v":{"$error":"#N/A"}},{"$f":"SUM(W7:X7)","v":{"$error":"#N/A"}},{"$error":"#N/A"},{"$f":"IF($B7=\"\",\"\",VLOOKUP(Z$4,INDIRECT($B7&\"!D9:BP764\"),43,FALSE))","v":{"$error":"#N/A"}},{"$f":"SUM(Z7:AA7)","v":{"$error":"#N/A"}},{"$error":"#N/A"},{"$f":"IF($B7=\"\",\"\",VLOOKUP(AC$4,INDIRECT($B7&\"!D9:BP764\"),43,FALSE))","v":{"$error":"#N/A"}},{"$f":"SUM(AC7:AD7)","v":{"$error":"#N/A"}},{"$error":"#N/A"},{"$f":"IF($B7=\"\",\"\",VLOOKUP(AF$4,INDIRECT($B7&\"!D9:BP764\"),43,FALSE))","v":{"$error":"#N/A"}},{"$f":"SUM(AF7:AG7)","v":{"$error":"#N/A"}},{"$error":"#N/A"},{"$f":"IF($B7=\"\",\"\",VLOOKUP(AI$4,INDIRECT($B7&\"!D9:BP764\"),43,FALSE))","v":{"$error":"#N/A"}},{"$f":"SUM(AI7:AJ7)","v":{"$error":"#N/A"}},{"$f":"IF($B7=\"\",\"\",VLOOKUP(AL$4,INDIRECT($B7&\"!D9:BP764\"),42,FALSE))","v":{"$error":"#N/A"}},{"$f":"IF($B7=\"\",\"\",VLOOKUP(AL$4,INDIRECT($B7&\"!D9:BP764\"),43,FALSE))","v":{"$error":"#N/A"}},{"$f":"SUM(AL7:AM7)","v":{"$error":"#N/A"}},{"$f":"IF($B7=\"\",\"\",VLOOKUP($AC$2,INDIRECT($B7&\"!D9:BP764\"),45,FALSE))","v":{"$error":"#N/A"}},{"$f":"IF($B7=\"\",\"\",VLOOKUP($AC$2,INDIRECT($B7&\"!D9:BP764\"),46,FALSE))","v":{"$error":"#N/A"}},{"$f":"SUM(AO7:AP7)","v":{"$error":"#N/A"}},{"$f":"IF($B7=\"\",\"\",360-AO7)","v":{"$error":"#N/A"}},{"$f":"IF($B7=\"\",\"\",720-AQ7)","v":{"$error":"#N/A"}},{"$f":"IF($B7=\"\",\"\",VLOOKUP($AC$2,INDIRECT($B7&\"!D9:BP764\"),54,FALSE))","v":{"$error":"#N/A"}},{"$f":"IF($B7=\"\",\"\",VLOOKUP($AC$2,INDIRECT($B7&\"!D9:BP764\"),49,FALSE))","v":{"$error":"#N/A"}},{"$f":"IF($B7=\"\",\"\",VLOOKUP($AC$2,INDIRECT($B7&\"!D9:BP764\"),50,FALSE))","v":{"$error":"#N/A"}},{"$f":"IF($B7=\"\",\"\",VLOOKUP($AC$2,INDIRECT($B7&\"!D9:BP764\"),51,FALSE))","v":{"$error":"#N/A"}},{"$f":"IF($B7=\"\",\"\",VLOOKUP($AC$2,INDIRECT($B7&\"!D9:BP764\"),52,FALSE))","v":{"$error":"#N/A"}},{"$f":"IF($B7=\"\",\"\",VLOOKUP($AC$2,INDIRECT($B7&\"!D9:BP764\"),53,FALSE))","v":{"$error":"#N/A"}},null,{"$f":"IF($B7=\"\",\"\",VLOOKUP(BA$4,INDIRECT($B7&\"!D9:BP764\"),55,FALSE))","v":{"$error":"#N/A"}},{"$f":"IF($B7=\"\",\"\",VLOOKUP(BA$4,INDIRECT($B7&\"!D9:BP764\"),56,FALSE))","v":{"$error":"#N/A"}},{"$error":"#N/A"},{"$f":"IF($B7=\"\",\"\",VLOOKUP(BC$4,INDIRECT($B7&\"!D9:BP764\"),56,FALSE))","v":{"$error":"#N/A"}},{"$error":"#N/A"},{"$f":"IF($B7=\"\",\"\",VLOOKUP(BE$4,INDIRECT($B7&\"!D9:BP764\"),56,FALSE))","v":{"$error":"#N/A"}},{"$error":"#N/A"},{"$f":"IF($B7=\"\",\"\",VLOOKUP(BG$4,INDIRECT($B7&\"!D9:BP764\"),56,FALSE))","v":{"$error":"#N/A"}},{"$error":"#N/A"},{"$f":"IF($B7=\"\",\"\",VLOOKUP(BI$4,INDIRECT($B7&\"!D9:BP764\"),56,FALSE))","v":{"$error":"#N/A"}},{"$error":"#N/A"},{"$f":"IF($B7=\"\",\"\",VLOOKUP(BK$4,INDIRECT($B7&\"!D9:BP764\"),56,FALSE))","v":{"$error":"#N/A"}},{"$error":"#N/A"},{"$f":"IF($B7=\"\",\"\",VLOOKUP(BM$4,INDIRECT($B7&\"!D9:BP764\"),56,FALSE))","v":{"$error":"#N/A"}},{"$error":"#N/A"},{"$f":"IF($B7=\"\",\"\",VLOOKUP(BO$4,INDIRECT($B7&\"!D9:BP764\"),56,FALSE))","v":{"$error":"#N/A"}},{"$error":"#N/A"},{"$f":"IF($B7=\"\",\"\",VLOOKUP(BQ$4,INDIRECT($B7&\"!D9:BP764\"),56,FALSE))","v":{"$error":"#N/A"}},{"$error":"#N/A"},{"$f":"IF($B7=\"\",\"\",VLOOKUP(BS$4,INDIRECT($B7&\"!D9:BP764\"),56,FALSE))","v":{"$error":"#N/A"}},{"$error":"#N/A"},{"$f":"IF($B7=\"\",\"\",VLOOKUP(BU$4,INDIRECT($B7&\"!D9:BP764\"),56,FALSE))","v":{"$error":"#N/A"}},{"$error":"#N/A"},{"$f":"IF($B7=\"\",\"\",VLOOKUP(BW$4,INDIRECT($B7&\"!D9:BP764\"),56,FALSE))","v":{"$error":"#N/A"}},{"$f":"IF($B7=\"\",\"\",VLOOKUP($AC$2,INDIRECT($B7&\"!D9:BP764\"),57,FALSE))","v":{"$error":"#N/A"}},{"$f":"IF($B7=\"\",\"\",VLOOKUP($AC$2,INDIRECT($B7&\"!D9:BP764\"),58,FALSE))","v":{"$error":"#N/A"}},{"$f":"IF($B7=\"\",\"\",VLOOKUP($AC$2,INDIRECT($B7&\"!D9:BP764\"),65,FALSE))","v":{"$error":"#N/A"}},{"$f":"IF($B7=\"\",\"\",VLOOKUP($AC$2,INDIRECT($B7&\"!D9:BP764\"),60,FALSE))","v":{"$error":"#N/A"}},{"$f":"IF($B7=\"\",\"\",VLOOKUP($AC$2,INDIRECT($B7&\"!D9:BP764\"),61,FALSE))","v":{"$error":"#N/A"}},{"$f":"IF($B7=\"\",\"\",VLOOKUP($AC$2,INDIRECT($B7&\"!D9:BP764\"),62,FALSE))","v":{"$error":"#N/A"}},{"$f":"IF($B7=\"\",\"\",VLOOKUP($AC$2,INDIRECT($B7&\"!D9:BP764\"),63,FALSE))","v":{"$error":"#N/A"}},{"$f":"IF($B7=\"\",\"\",VLOOKUP($AC$2,INDIRECT($B7&\"!D9:BP764\"),64,FALSE))","v":{"$error":"#N/A"}}]
[null,null,{"$f":"IF($B8=\"\",\"\",INDIRECT($B8&\"!U3\"))","v":""},{"$f":"IF($B8=\"\",\"\",INDIRECT($B8&\"!AC3\"))","v":""},"","",0,"",{"$f":"IF($B8=\"\",\"\",VLOOKUP(H$4,INDIRECT($B8&\"!D9:BP764\"),43,FALSE))","v":""},0,"",{"$f":"IF($B8=\"\",\"\",VLOOKUP(K$4,INDIRECT($B8&\"!D9:BP764\"),43,FALSE))","v":""},0,"",{"$f":"IF($B8=\"\",\"\",VLOOKUP(N$4,INDIRECT($B8&\"!D9:BP764\"),43,FALSE))","v":""},0,"",{"$f":"IF($B8=\"\",\"\",VLOOKUP(Q$4,INDIRECT($B8&\"!D9:BP764\"),43,FALSE))","v":""},0,"",{"$f":"IF($B8=\"\",\"\",VLOOKUP(T$4,INDIRECT($B8&\"!D9:BP764\"),43,FALSE))","v":""},0,"",{"$f":"IF($B8=\"\",\"\",VLOOKUP(W$4,INDIRECT($B8&\"!D9:BP764\"),43,FALSE))","v":""},0,"",{"$f":"IF($B8=\"\",\"\",VLOOKUP(Z$4,INDIRECT($B8&\"!D9:BP764\"),43,FALSE))","v":""},0,"",{"$f":"IF($B8=\"\",\"\",VLOOKUP(AC$4,INDIRECT($B8&\"!D9:BP764\"),43,FALSE))","v":""},0,"",{"$f":"IF($B8=\"\",\"\",VLOOKUP(AF$4,INDIRECT($B8&\"!D9:BP764\"),43,FALSE))","v":""},0,"",{"$f":"IF($B8=\"\",\"\",VLOOKUP(AI$4,INDIRECT($B8&\"!D9:BP764\"),43,FALSE))","v":""},0,"",{"$f":"IF($B8=\"\",\"\",VLOOKUP(AL$4,INDIRECT($B8&\"!D9:BP764\"),43,FALSE))","v":""},0,"","",0,"","","","","","","","",null,"","","",{"$f":"IF($B8=\"\",\"\",VLOOKUP(BC$4,INDIRECT($B8&\"!D9:BP764\"),56,FALSE))","v":""},"",{"$f":"IF($B8=\"\",\"\",VLOOKUP(BE$4,INDIRECT($B8&\"!D9:BP764\"),56,FALSE))","v":""},"",{"$f":"IF($B8=\"\",\"\",VLOOKUP(BG$4,INDIRECT($B8&\"!D9:BP764\"),56,FALSE))","v":""},"",{"$f":"IF($B8=\"\",\"\",VLOOKUP(BI$4,INDIRECT($B8&\"!D9:BP764\"),56,FALSE))","v":""},"",{"$f":"IF($B8=\"\",\"\",VLOOKUP(BK$4,INDIRECT($B8&\"!D9:BP764\"),56,FALSE))","v":""},"",{"$f":"IF($B8=\"\",\"\",VLOOKUP(BM$4,INDIRECT($B8&\"!D9:BP764\"),56,FALSE))","v":""},"",{"$f":"IF($B8=\"\",\"\",VLOOKUP(BO$4,INDIRECT($B8&\"!D9:BP764\"),56,FALSE))","v":""},"",{"$f":"IF($B8=\"\",\"\",VLOOKUP(BQ$4,INDIRECT($B8&\"!D9:BP764\"),56,FALSE))","v":""},"",{"$f":"IF($B8=\"\",\"\",VLOOKUP(BS$4,INDIRECT($B8&\"!D9:BP764\"),56,FALSE))","v":""},"",{"$f":"IF($B8=\"\",\"\",VLOOKUP(BU$4,INDIRECT($B8&\"!D9:BP764\"),56,FALSE))","v":""},"","","","","","","","","",""]
[null,null,"","","","",0,"",{"$f":"IF($B9=\"\",\"\",VLOOKUP(H$4,INDIRECT($B9&\"!D9:BP764\"),43,FALSE))","v":""},0,"",{"$f":"IF($B9=\"\",\"\",VLOOKUP(K$4,INDIRECT($B9&\"!D9:BP764\"),43,FALSE))","v":""},0,"",{"$f":"IF($B9=\"\",\"\",VLOOKUP(N$4,INDIRECT($B9&\"!D9:BP764\"),43,FALSE))","v":""},0,"",{"$f":"IF($B9=\"\",\"\",VLOOKUP(Q$4,INDIRECT($B9&\"!D9:BP764\"),43,FALSE))","v":""},0,"",{"$f":"IF($B9=\"\",\"\",VLOOKUP(T$4,INDIRECT($B9&\"!D9:BP764\"),43,FALSE))","v":""},0,"",{"$f":"IF($B9=\"\",\"\",VLOOKUP(W$4,INDIRECT($B9&\"!D9:BP764\"),43,FALSE))","v":""},0,"",{"$f":"IF($B9=\"\",\"\",VLOOKUP(Z$4,INDIRECT($B9&\"!D9:BP764\"),43,FALSE))","v":""},0,"",{"$f":"IF($B9=\"\",\"\",VLOOKUP(AC$4,INDIRECT($B9&\"!D9:BP764\"),43,FALSE))","v":""},0,"",{"$f":"IF($B9=\"\",\"\",VLOOKUP(AF$4,INDIRECT($B9&\"!D9:BP764\"),43,FALSE))","v":""},0,"",{"$f":"IF($B9=\"\",\"\",VLOOKUP(AI$4,INDIRECT($B9&\"!D9:BP764\"),43,FALSE))","v":""},0,"",{"$f":"IF($B9=\"\",\"\",VLOOKUP(AL$4,INDIRECT($B9&\"!D9:BP764\"),43,FALSE))","v":""},0,"","",0,"","","","","","","","",null,"","","",{"$f":"IF($B9=\"\",\"\",VLOOKUP(BC$4,INDIRECT($B9&\"!D9:BP764\"),56,FALSE))","v":""},"",{"$f":"IF($B9=\"\",\"\",VLOOKUP(BE$4,INDIRECT($B9&\"!D9:BP764\"),56,FALSE))","v":""},"",{"$f":"IF($B9=\"\",\"\",VLOOKUP(BG$4,INDIRECT($B9&\"!D9:BP764\"),56,FALSE))","v":""},"",{"$f":"IF($B9=\"\",\"\",VLOOKUP(BI$4,INDIRECT($B9&\"!D9:BP764\"),56,FALSE))","v":""},"",{"$f":"IF($B9=\"\",\"\",VLOOKUP(BK$4,INDIRECT($B9&\"!D9:BP764\"),56,FALSE))","v":""},"",{"$f":"IF($B9=\"\",\"\",VLOOKUP(BM$4,INDIRECT($B9&\"!D9:BP764\"),56,FALSE))","v":""},"",{"$f":"IF($B9=\"\",\"\",VLOOKUP(BO$4,INDIRECT($B9&\"!D9:BP764\"),56,FALSE))","v":""},"",{"$f":"IF($B9=\"\",\"\",VLOOKUP(BQ$4,INDIRECT($B9&\"!D9:BP764\"),56,FALSE))","v":""},"",{"$f":"IF($B9=\"\",\"\",VLOOKUP(BS$4,INDIRECT($B9&\"!D9:BP764\"),56,FALSE))","v":""},"",{"$f":"IF($B9=\"\",\"\",VLOOKUP(BU$4,INDIRECT($B9&\"!D9:BP764\"),56,FALSE))","v":""},"","","","","","","","","",""]
[null,null,{"$f":"IF($B10=\"\",\"\",INDIRECT($B10&\"!U3\"))","v":""},"","","",0,"",{"$f":"IF($B10=\"\",\"\",VLOOKUP(H$4,INDIRECT($B10&\"!D9:BP764\"),43,FALSE))","v":""},0,"",{"$f":"IF($B10=\"\",\"\",VLOOKUP(K$4,INDIRECT($B10&\"!D9:BP764\"),43,FALSE))","v":""},0,"",{"$f":"IF($B10=\"\",\"\",VLOOKUP(N$4,INDIRECT($B10&\"!D9:BP764\"),43,FALSE))","v":""},0,"",{"$f":"IF($B10=\"\",\"\",VLOOKUP(Q$4,INDIRECT($B10&\"!D9:BP764\"),43,FALSE))","v":""},0,"",{"$f":"IF($B10=\"\",\"\",VLOOKUP(T$4,INDIRECT($B10&\"!D9:BP764\"),43,FALSE))","v":""},0,"",{"$f":"IF($B10=\"\",\"\",VLOOKUP(W$4,INDIRECT($B10&\"!D9:BP764\"),43,FALSE))","v":""},0,"",{"$f":"IF($B10=\"\",\"\",VLOOKUP(Z$4,INDIRECT($B10&\"!D9:BP764\"),43,FALSE))","v":""},0,"",{"$f":"IF($B10=\"\",\"\",VLOOKUP(AC$4,INDIRECT($B10&\"!D9:BP764\"),43,FALSE))","v":""},0,"",{"$f":"IF($B10=\"\",\"\",VLOOKUP(AF$4,INDIRECT($B10&\"!D9:BP764\"),43,FALSE))","v":""},0,"",{"$f":"IF($B10=\"\",\"\",VLOOKUP(AI$4,INDIRECT($B10&\"!D9:BP764\"),43,FALSE))","v":""},0,"",{"$f":"IF($B10=\"\",\"\",VLOOKUP(AL$4,INDIRECT($B10&\"!D9:BP764\"),43,FALSE))","v":""},0,"","",0,"","","","","","","","",null,"","","",{"$f":"IF($B10=\"\",\"\",VLOOKUP(BC$4,INDIRECT($B10&\"!D9:BP764\"),56,FALSE))","v":""},"",{"$f":"IF($B10=\"\",\"\",VLOOKUP(BE$4,INDIRECT($B10&\"!D9:BP764\"),56,FALSE))","v":""},"",{"$f":"IF($B10=\"\",\"\",VLOOKUP(BG$4,INDIRECT($B10&\"!D9:BP764\"),56,FALSE))","v":""},"",{"$f":"IF($B10=\"\",\"\",VLOOKUP(BI$4,INDIRECT($B10&\"!D9:BP764\"),56,FALSE))","v":""},"",{"$f":"IF($B10=\"\",\"\",VLOOKUP(BK$4,INDIRECT($B10&\"!D9:BP764\"),56,FALSE))","v":""},"",{"$f":"IF($B10=\"\",\"\",VLOOKUP(BM$4,INDIRECT($B10&\"!D9:BP764\"),56,FALSE))","v":""},"",{"$f":"IF($B10=\"\",\"\",VLOOKUP(BO$4,INDIRECT($B10&\"!D9:BP764\"),56,FALSE))","v":""},"",{"$f":"IF($B10=\"\",\"\",VLOOKUP(BQ$4,INDIRECT($B10&\"!D9:BP764\"),56,FALSE))","v":""},"",{"$f":"IF($B10=\"\",\"\",VLOOKUP(BS$4,INDIRECT($B10&\"!D9:BP764\"),56,FALSE))","v":""},"",{"$f":"IF($B10=\"\",\"\",VLOOKUP(BU$4,INDIRECT($B10&\"!D9:BP764\"),56,FALSE))","v":""},"","","","","","","","","",""]
[null,null,"","","","",0,"",{"$f":"IF($B11=\"\",\"\",VLOOKUP(H$4,INDIRECT($B11&\"!D9:BP764\"),43,FALSE))","v":""},0,"",{"$f":"IF($B11=\"\",\"\",VLOOKUP(K$4,INDIRECT($B11&\"!D9:BP764\"),43,FALSE))","v":""},0,"",{"$f":"IF($B11=\"\",\"\",VLOOKUP(N$4,INDIRECT($B11&\"!D9:BP764\"),43,FALSE))","v":""},0,"",{"$f":"IF($B11=\"\",\"\",VLOOKUP(Q$4,INDIRECT($B11&\"!D9:BP764\"),43,FALSE))","v":""},0,"",{"$f":"IF($B11=\"\",\"\",VLOOKUP(T$4,INDIRECT($B11&\"!D9:BP764\"),43,FALSE))","v":""},0,"",{"$f":"IF($B11=\"\",\"\",VLOOKUP(W$4,INDIRECT($B11&\"!D9:BP764\"),43,FALSE))","v":""},0,"",{"$f":"IF($B11=\"\",\"\",VLOOKUP(Z$4,INDIRECT($B11&\"!D9:BP764\"),43,FALSE))","v":""},0,"",{"$f":"IF($B11=\"\",\"\",VLOOKUP(AC$4,INDIRECT($B11&\"!D9:BP764\"),43,FALSE))","v":""},0,"",{"$f":"IF($B11=\"\",\"\",VLOOKUP(AF$4,INDIRECT($B11&\"!D9:BP764\"),43,FALSE))","v":""},0,"",{"$f":"IF($B11=\"\",\"\",VLOOKUP(AI$4,INDIRECT($B11&\"!D9:BP764\"),43,FALSE))","v":""},0,"",{"$f":"IF($B11=\"\",\"\",VLOOKUP(AL$4,INDIRECT($B11&\"!D9:BP764\"),43,FALSE))","v":""},0,"","",0,"","","","","","","","",null,"","","",{"$f":"IF($B11=\"\",\"\",VLOOKUP(BC$4,INDIRECT($B11&\"!D9:BP764\"),56,FALSE))","v":""},"",{"$f":"IF($B11=\"\",\"\",VLOOKUP(BE$4,INDIRECT($B11&\"!D9:BP764\"),56,FALSE))","v":""},"",{"$f":"IF($B11=\"\",\"\",VLOOKUP(BG$4,INDIRECT($B11&\"!D9:BP764\"),56,FALSE))","v":""},"",{"$f":"IF($B11=\"\",\"\",VLOOKUP(BI$4,INDIRECT($B11&\"!D9:BP764\"),56,FALSE))","v":""},"",{"$f":"IF($B11=\"\",\"\",VLOOKUP(BK$4,INDIRECT($B11&\"!D9:BP764\"),56,FALSE))","v":""},"",{"$f":"IF($B11=\"\",\"\",VLOOKUP(BM$4,INDIRECT($B11&\"!D9:BP764\"),56,FALSE))","v":""},"",{"$f":"IF($B11=\"\",\"\",VLOOKUP(BO$4,INDIRECT($B11&\"!D9:BP764\"),56,FALSE))","v":""},"",{"$f":"IF($B11=\"\",\"\",VLOOKUP(BQ$4,INDIRECT($B11&\"!D9:BP764\"),56,FALSE))","v":""},"",{"$f":"IF($B11=\"\",\"\",VLOOKUP(BS$4,INDIRECT($B11&\"!D9:BP764\"),56,FALSE))","v":""},"",{"$f":"IF($B11=\"\",\"\",VLOOKUP(BU$4,INDIRECT($B11&\"!D9:BP764\"),56,FALSE))","v":""},"","","","","","","","","",""]
[null,null,"","","","",0,"",{"$f":"IF($B12=\"\",\"\",VLOOKUP(H$4,INDIRECT($B12&\"!D9:BP764\"),43,FALSE))","v":""},0,"",{"$f":"IF($B12=\"\",\"\",VLOOKUP(K$4,INDIRECT($B12&\"!D9:BP764\"),43,FALSE))","v":""},0,"",{"$f":"IF($B12=\"\",\"\",VLOOKUP(N$4,INDIRECT($B12&\"!D9:BP764\"),43,FALSE))","v":""},0,"",{"$f":"IF($B12=\"\",\"\",VLOOKUP(Q$4,INDIRECT($B12&\"!D9:BP764\"),43,FALSE))","v":""},0,"",{"$f":"IF($B12=\"\",\"\",VLOOKUP(T$4,INDIRECT($B12&\"!D9:BP764\"),43,FALSE))","v":""},0,"",{"$f":"IF($B12=\"\",\"\",VLOOKUP(W$4,INDIRECT($B12&\"!D9:BP764\"),43,FALSE))","v":""},0,"",{"$f":"IF($B12=\"\",\"\",VLOOKUP(Z$4,INDIRECT($B12&\"!D9:BP764\"),43,FALSE))","v":""},0,"",{"$f":"IF($B12=\"\",\"\",VLOOKUP(AC$4,INDIRECT($B12&\"!D9:BP764\"),43,FALSE))","v":""},0,"",{"$f":"IF($B12=\"\",\"\",VLOOKUP(AF$4,INDIRECT($B12&\"!D9:BP764\"),43,FALSE))","v":""},0,"",{"$f":"IF($B12=\"\",\"\",VLOOKUP(AI$4,INDIRECT($B12&\"!D9:BP764\"),43,FALSE))","v":""},0,"",{"$f":"IF($B12=\"\",\"\",VLOOKUP(AL$4,INDIRECT($B12&\"!D9:BP764\"),43,FALSE))","v":""},0,"","",0,"","","","","","","","",null,"","","",{"$f":"IF($B12=\"\",\"\",VLOOKUP(BC$4,INDIRECT($B12&\"!D9:BP764\"),56,FALSE))","v":""},"",{"$f":"IF($B12=\"\",\"\",VLOOKUP(BE$4,INDIRECT($B12&\"!D9:BP764\"),56,FALSE))","v":""},"",{"$f":"IF($B12=\"\",\"\",VLOOKUP(BG$4,INDIRECT($B12&\"!D9:BP764\"),56,FALSE))","v":""},"",{"$f":"IF($B12=\"\",\"\",VLOOKUP(BI$4,INDIRECT($B12&\"!D9:BP764\"),56,FALSE))","v":""},"",{"$f":"IF($B12=\"\",\"\",VLOOKUP(BK$4,INDIRECT($B12&\"!D9:BP764\"),56,FALSE))","v":""},"",{"$f":"IF($B12=\"\",\"\",VLOOKUP(BM$4,INDIRECT($B12&\"!D9:BP764\"),56,FALSE))","v":""},"",{"$f":"IF($B12=\"\",\"\",VLOOKUP(BO$4,INDIRECT($B12&\"!D9:BP764\"),56,FALSE))","v":""},"",{"$f":"IF($B12=\"\",\"\",VLOOKUP(BQ$4,INDIRECT($B12&\"!D9:BP764\"),56,FALSE))","v":""},"",{"$f":"IF($B12=\"\",\"\",VLOOKUP(BS$4,INDIRECT($B12&\"!D9:BP764\"),56,FALSE))","v":""},"",{"$f":"IF($B12=\"\",\"\",VLOOKUP(BU$4,INDIRECT($B12&\"!D9:BP764\"),56,FALSE))","v":""},"","","","","","","","","",""]
[null,null,"","","","",0,"",{"$f":"IF($B13=\"\",\"\",VLOOKUP(H$4,INDIRECT($B13&\"!D9:BP764\"),43,FALSE))","v":""},0,"",{"$f":"IF($B13=\"\",\"\",VLOOKUP(K$4,INDIRECT($B13&\"!D9:BP764\"),43,FALSE))","v":""},0,"",{"$f":"IF($B13=\"\",\"\",VLOOKUP(N$4,INDIRECT($B13&\"!D9:BP764\"),43,FALSE))","v":""},0,"",{"$f":"IF($B13=\"\",\"\",VLOOKUP(Q$4,INDIRECT($B13&\"!D9:BP764\"),43,FALSE))","v":""},0,"",{"$f":"IF($B13=\"\",\"\",VLOOKUP(T$4,INDIRECT($B13&\"!D9:BP764\"),43,FALSE))","v":""},0,"",{"$f":"IF($B13=\"\",\"\",VLOOKUP(W$4,INDIRECT($B13&\"!D9:BP764\"),43,FALSE))","v":""},0,"",{"$f":"IF($B13=\"\",\"\",VLOOKUP(Z$4,INDIRECT($B13&\"!D9:BP764\"),43,FALSE))","v":""},0,"",{"$f":"IF($B13=\"\",\"\",VLOOKUP(AC$4,INDIRECT($B13&\"!D9:BP764\"),43,FALSE))","v":""},0,"",{"$f":"IF($B13=\"\",\"\",VLOOKUP(AF$4,INDIRECT($B13&\"!D9:BP764\"),43,FALSE))","v":""},0,"",{"$f":"IF($B13=\"\",\"\",VLOOKUP(AI$4,INDIRECT($B13&\"!D9:BP764\"),43,FALSE))","v":""},0,"",{"$f":"IF($B13=\"\",\"\",VLOOKUP(AL$4,INDIRECT($B13&\"!D9:BP764\"),43,FALSE))","v":""},0,"","",0,"","","","","","","","",null,"","","",{"$f":"IF($B13=\"\",\"\",VLOOKUP(BC$4,INDIRECT($B13&\"!D9:BP764\"),56,FALSE))","v":""},"",{"$f":"IF($B13=\"\",\"\",VLOOKUP(BE$4,INDIRECT($B13&\"!D9:BP764\"),56,FALSE))","v":""},"",{"$f":"IF($B13=\"\",\"\",VLOOKUP(BG$4,INDIRECT($B13&\"!D9:BP764\"),56,FALSE))","v":""},"",{"$f":"IF($B13=\"\",\"\",VLOOKUP(BI$4,INDIRECT($B13&\"!D9:BP764\"),56,FALSE))","v":""},"",{"$f":"IF($B13=\"\",\"\",VLOOKUP(BK$4,INDIRECT($B13&\"!D9:BP764\"),56,FALSE))","v":""},"",{"$f":"IF($B13=\"\",\"\",VLOOKUP(BM$4,INDIRECT($B13&\"!D9:BP764\"),56,FALSE))","v":""},"",{"$f":"IF($B13=\"\",\"\",VLOOKUP(BO$4,INDIRECT($B13&\"!D9:BP764\"),56,FALSE))","v":""},"",{"$f":"IF($B13=\"\",\"\",VLOOKUP(BQ$4,INDIRECT($B13&\"!D9:BP764\"),56,FALSE))","v":""},"",{"$f":"IF($B13=\"\",\"\",VLOOKUP(BS$4,INDIRECT($B13&\"!D9:BP764\"),56,FALSE))","v":""},"",{"$f":"IF($B13=\"\",\"\",VLOOKUP(BU$4,INDIRECT($B13&\"!D9:BP764\"),56,FALSE))","v":""},"","","","","","","","","",""]
[null,null,"","","","",0,"",{"$f":"IF($B14=\"\",\"\",VLOOKUP(H$4,INDIRECT($B14&\"!D9:BP764\"),43,FALSE))","v":""},0,"",{"$f":"IF($B14=\"\",\"\",VLOOKUP(K$4,INDIRECT($B14&\"!D9:BP764\"),43,FALSE))","v":""},0,"",{"$f":"IF($B14=\"\",\"\",VLOOKUP(N$4,INDIRECT($B14&\"!D9:BP764\"),43,FALSE))","v":""},0,"",{"$f":"IF($B14=\"\",\"\",VLOOKUP(Q$4,INDIRECT($B14&\"!D9:BP764\"),43,FALSE))","v":""},0,"",{"$f":"IF($B14=\"\",\"\",VLOOKUP(T$4,INDIRECT($B14&\"!D9:BP764\"),43,FALSE))","v":""},0,"",{"$f":"IF($B14=\"\",\"\",VLOOKUP(W$4,INDIRECT($B14&\"!D9:BP764\"),43,FALSE))","v":""},0,"",{"$f":"IF($B14=\"\",\"\",VLOOKUP(Z$4,INDIRECT($B14&\"!D9:BP764\"),43,FALSE))","v":""},0,"",{"$f":"IF($B14=\"\",\"\",VLOOKUP(AC$4,INDIRECT($B14&\"!D9:BP764\"),43,FALSE))","v":""},0,"",{"$f":"IF($B14=\"\",\"\",VLOOKUP(AF$4,INDIRECT($B14&\"!D9:BP764\"),43,FALSE))","v":""},0,"",{"$f":"IF($B14=\"\",\"\",VLOOKUP(AI$4,INDIRECT($B14&\"!D9:BP764\"),43,FALSE))","v":""},0,"",{"$f":"IF($B14=\"\",\"\",VLOOKUP(AL$4,INDIRECT($B14&\"!D9:BP764\"),43,FALSE))","v":""},0,"","",0,"","","","","","","","",null,"","","",{"$f":"IF($B14=\"\",\"\",VLOOKUP(BC$4,INDIRECT($B14&\"!D9:BP764\"),56,FALSE))","v":""},"",{"$f":"IF($B14=\"\",\"\",VLOOKUP(BE$4,INDIRECT($B14&\"!D9:BP764\"),56,FALSE))","v":""},"",{"$f":"IF($B14=\"\",\"\",VLOOKUP(BG$4,INDIRECT($B14&\"!D9:BP764\"),56,FALSE))","v":""},"",{"$f":"IF($B14=\"\",\"\",VLOOKUP(BI$4,INDIRECT($B14&\"!D9:BP764\"),56,FALSE))","v":""},"",{"$f":"IF($B14=\"\",\"\",VLOOKUP(BK$4,INDIRECT($B14&\"!D9:BP764\"),56,FALSE))","v":""},"",{"$f":"IF($B14=\"\",\"\",VLOOKUP(BM$4,INDIRECT($B14&\"!D9:BP764\"),56,FALSE))","v":""},"",{"$f":"IF($B14=\"\",\"\",VLOOKUP(BO$4,INDIRECT($B14&\"!D9:BP764\"),56,FALSE))","v":""},"",{"$f":"IF($B14=\"\",\"\",VLOOKUP(BQ$4,INDIRECT($B14&\"!D9:BP764\"),56,FALSE))","v":""},"",{"$f":"IF($B14=\"\",\"\",VLOOKUP(BS$4,INDIRECT($B14&\"!D9:BP764\"),56,FALSE))","v":""},"",{"$f":"IF($B14=\"\",\"\",VLOOKUP(BU$4,INDIRECT($B14&\"!D9:BP764\"),56,FALSE))","v":""},"","","","","","","","","",""]
[null,null,"","","","",0,"",{"$f":"IF($B15=\"\",\"\",VLOOKUP(H$4,INDIRECT($B15&\"!D9:BP764\"),43,FALSE))","v":""},0,"",{"$f":"IF($B15=\"\",\"\",VLOOKUP(K$4,INDIRECT($B15&\"!D9:BP764\"),43,FALSE))","v":""},0,"",{"$f":"IF($B15=\"\",\"\",VLOOKUP(N$4,INDIRECT($B15&\"!D9:BP764\"),43,FALSE))","v":""},0,"",{"$f":"IF($B15=\"\",\"\",VLOOKUP(Q$4,INDIRECT($B15&\"!D9:BP764\"),43,FALSE))","v":""},0,"",{"$f":"IF($B15=\"\",\"\",VLOOKUP(T$4,INDIRECT($B15&\"!D9:BP764\"),43,FALSE))","v":""},0,"",{"$f":"IF($B15=\"\",\"\",VLOOKUP(W$4,INDIRECT($B15&\"!D9:BP764\"),43,FALSE))","v":""},0,"",{"$f":"IF($B15=\"\",\"\",VLOOKUP(Z$4,INDIRECT($B15&\"!D9:BP764\"),43,FALSE))","v":""},0,"",{"$f":"IF($B15=\"\",\"\",VLOOKUP(AC$4,INDIRECT($B15&\"!D9:BP764\"),43,FALSE))","v":""},0,"",{"$f":"IF($B15=\"\",\"\",VLOOKUP(AF$4,INDIRECT($B15&\"!D9:BP764\"),43,FALSE))","v":""},0,"",{"$f":"IF($B15=\"\",\"\",VLOOKUP(AI$4,INDIRECT($B15&\"!D9:BP764\"),43,FALSE))","v":""},0,"",{"$f":"IF($B15=\"\",\"\",VLOOKUP(AL$4,INDIRECT($B15&\"!D9:BP764\"),43,FALSE))","v":""},0,"","",0,"","","","","","","","",null,"","","",{"$f":"IF($B15=\"\",\"\",VLOOKUP(BC$4,INDIRECT($B15&\"!D9:BP764\"),56,FALSE))","v":""},"",{"$f":"IF($B15=\"\",\"\",VLOOKUP(BE$4,INDIRECT($B15&\"!D9:BP764\"),56,FALSE))","v":""},"",{"$f":"IF($B15=\"\",\"\",VLOOKUP(BG$4,INDIRECT($B15&\"!D9:BP764\"),56,FALSE))","v":""},"",{"$f":"IF($B15=\"\",\"\",VLOOKUP(BI$4,INDIRECT($B15&\"!D9:BP764\"),56,FALSE))","v":""},"",{"$f":"IF($B15=\"\",\"\",VLOOKUP(BK$4,INDIRECT($B15&\"!D9:BP764\"),56,FALSE))","v":""},"",{"$f":"IF($B15=\"\",\"\",VLOOKUP(BM$4,INDIRECT($B15&\"!D9:BP764\"),56,FALSE))","v":""},"",{"$f":"IF($B15=\"\",\"\",VLOOKUP(BO$4,INDIRECT($B15&\"!D9:BP764\"),56,FALSE))","v":""},"",{"$f":"IF($B15=\"\",\"\",VLOOKUP(BQ$4,INDIRECT($B15&\"!D9:BP764\"),56,FALSE))","v":""},"",{"$f":"IF($B15=\"\",\"\",VLOOKUP(BS$4,INDIRECT($B15&\"!D9:BP764\"),56,FALSE))","v":""},"",{"$f":"IF($B15=\"\",\"\",VLOOKUP(BU$4,INDIRECT($B15&\"!D9:BP764\"),56,FALSE))","v":""},"","","","","","","","","",""]
[null,null,"","","","",0,"",{"$f":"IF($B16=\"\",\"\",VLOOKUP(H$4,INDIRECT($B16&\"!D9:BP764\"),43,FALSE))","v":""},0,"",{"$f":"IF($B16=\"\",\"\",VLOOKUP(K$4,INDIRECT($B16&\"!D9:BP764\"),43,FALSE))","v":""},0,"",{"$f":"IF($B16=\"\",\"\",VLOOKUP(N$4,INDIRECT($B16&\"!D9:BP764\"),43,FALSE))","v":""},0,"",{"$f":"IF($B16=\"\",\"\",VLOOKUP(Q$4,INDIRECT($B16&\"!D9:BP764\"),43,FALSE))","v":""},0,"",{"$f":"IF($B16=\"\",\"\",VLOOKUP(T$4,INDIRECT($B16&\"!D9:BP764\"),43,FALSE))","v":""},0,"",{"$f":"IF($B16=\"\",\"\",VLOOKUP(W$4,INDIRECT($B16&\"!D9:BP764\"),43,FALSE))","v":""},0,"",{"$f":"IF($B16=\"\",\"\",VLOOKUP(Z$4,INDIRECT($B16&\"!D9:BP764\"),43,FALSE))","v":""},0,"",{"$f":"IF($B16=\"\",\"\",VLOOKUP(AC$4,INDIRECT($B16&\"!D9:BP764\"),43,FALSE))","v":""},0,"",{"$f":"IF($B16=\"\",\"\",VLOOKUP(AF$4,INDIRECT($B16&\"!D9:BP764\"),43,FALSE))","v":""},0,"",{"$f":"IF($B16=\"\",\"\",VLOOKUP(AI$4,INDIRECT($B16&\"!D9:BP764\"),43,FALSE))","v":""},0,"",{"$f":"IF($B16=\"\",\"\",VLOOKUP(AL$4,INDIRECT($B16&\"!D9:BP764\"),43,FALSE))","v":""},0,"","",0,"","","","","","","","",null,"","","",{"$f":"IF($B16=\"\",\"\",VLOOKUP(BC$4,INDIRECT($B16&\"!D9:BP764\"),56,FALSE))","v":""},"",{"$f":"IF($B16=\"\",\"\",VLOOKUP(BE$4,INDIRECT($B16&\"!D9:BP764\"),56,FALSE))","v":""},"",{"$f":"IF($B16=\"\",\"\",VLOOKUP(BG$4,INDIRECT($B16&\"!D9:BP764\"),56,FALSE))","v":""},"",{"$f":"IF($B16=\"\",\"\",VLOOKUP(BI$4,INDIRECT($B16&\"!D9:BP764\"),56,FALSE))","v":""},"",{"$f":"IF($B16=\"\",\"\",VLOOKUP(BK$4,INDIRECT($B16&\"!D9:BP764\"),56,FALSE))","v":""},"",{"$f":"IF($B16=\"\",\"\",VLOOKUP(BM$4,INDIRECT($B16&\"!D9:BP764\"),56,FALSE))","v":""},"",{"$f":"IF($B16=\"\",\"\",VLOOKUP(BO$4,INDIRECT($B16&\"!D9:BP764\"),56,FALSE))","v":""},"",{"$f":"IF($B16=\"\",\"\",VLOOKUP(BQ$4,INDIRECT($B16&\"!D9:BP764\"),56,FALSE))","v":""},"",{"$f":"IF($B16=\"\",\"\",VLOOKUP(BS$4,INDIRECT($B16&\"!D9:BP764\"),56,FALSE))","v":""},"",{"$f":"IF($B16=\"\",\"\",VLOOKUP(BU$4,INDIRECT($B16&\"!D9:BP764\"),56,FALSE))","v":""},"","","","","","","","","",""]
[null,null,"","","","",0,"",{"$f":"IF($B17=\"\",\"\",VLOOKUP(H$4,INDIRECT($B17&\"!D9:BP764\"),43,FALSE))","v":""},0,"",{"$f":"IF($B17=\"\",\"\",VLOOKUP(K$4,INDIRECT($B17&\"!D9:BP764\"),43,FALSE))","v":""},0,"",{"$f":"IF($B17=\"\",\"\",VLOOKUP(N$4,INDIRECT($B17&\"!D9:BP764\"),43,FALSE))","v":""},0,"",{"$f":"IF($B17=\"\",\"\",VLOOKUP(Q$4,INDIRECT($B17&\"!D9:BP764\"),43,FALSE))","v":""},0,"",{"$f":"IF($B17=\"\",\"\",VLOOKUP(T$4,INDIRECT($B17&\"!D9:BP764\"),43,FALSE))","v":""},0,"",{"$f":"IF($B17=\"\",\"\",VLOOKUP(W$4,INDIRECT($B17&\"!D9:BP764\"),43,FALSE))","v":""},0,"",{"$f":"IF($B17=\"\",\"\",VLOOKUP(Z$4,INDIRECT($B17&\"!D9:BP764\"),43,FALSE))","v":""},0,"",{"$f":"IF($B17=\"\",\"\",VLOOKUP(AC$4,INDIRECT($B17&\"!D9:BP764\"),43,FALSE))","v":""},0,"",{"$f":"IF($B17=\"\",\"\",VLOOKUP(AF$4,INDIRECT($B17&\"!D9:BP764\"),43,FALSE))","v":""},0,"",{"$f":"IF($B17=\"\",\"\",VLOOKUP(AI$4,INDIRECT($B17&\"!D9:BP764\"),43,FALSE))","v":""},0,"",{"$f":"IF($B17=\"\",\"\",VLOOKUP(AL$4,INDIRECT($B17&\"!D9:BP764\"),43,FALSE))","v":""},0,"","",0,"","","","","","","","",null,"","","",{"$f":"IF($B17=\"\",\"\",VLOOKUP(BC$4,INDIRECT($B17&\"!D9:BP764\"),56,FALSE))","v":""},"",{"$f":"IF($B17=\"\",\"\",VLOOKUP(BE$4,INDIRECT($B17&\"!D9:BP764\"),56,FALSE))","v":""},"",{"$f":"IF($B17=\"\",\"\",VLOOKUP(BG$4,INDIRECT($B17&\"!D9:BP764\"),56,FALSE))","v":""},"",{"$f":"IF($B17=\"\",\"\",VLOOKUP(BI$4,INDIRECT($B17&\"!D9:BP764\"),56,FALSE))","v":""},"",{"$f":"IF($B17=\"\",\"\",VLOOKUP(BK$4,INDIRECT($B17&\"!D9:BP764\"),56,FALSE))","v":""},"",{"$f":"IF($B17=\"\",\"\",VLOOKUP(BM$4,INDIRECT($B17&\"!D9:BP764\"),56,FALSE))","v":""},"",{"$f":"IF($B17=\"\",\"\",VLOOKUP(BO$4,INDIRECT($B17&\"!D9:BP764\"),56,FALSE))","v":""},"",{"$f":"IF($B17=\"\",\"\",VLOOKUP(BQ$4,INDIRECT($B17&\"!D9:BP764\"),56,FALSE))","v":""},"",{"$f":"IF($B17=\"\",\"\",VLOOKUP(BS$4,INDIRECT($B17&\"!D9:BP764\"),56,FALSE))","v":""},"",{"$f":"IF($B17=\"\",\"\",VLOOKUP(BU$4,INDIRECT($B17&\"!D9:BP764\"),56,FALSE))","v":""},"","","","","","","","","",""]
[null,null,"","","","",0,"",{"$f":"IF($B18=\"\",\"\",VLOOKUP(H$4,INDIRECT($B18&\"!D9:BP764\"),43,FALSE))","v":""},0,"",{"$f":"IF($B18=\"\",\"\",VLOOKUP(K$4,INDIRECT($B18&\"!D9:BP764\"),43,FALSE))","v":""},0,"",{"$f":"IF($B18=\"\",\"\",VLOOKUP(N$4,INDIRECT($B18&\"!D9:BP764\"),43,FALSE))","v":""},0,"",{"$f":"IF($B18=\"\",\"\",VLOOKUP(Q$4,INDIRECT($B18&\"!D9:BP764\"),43,FALSE))","v":""},0,"",{"$f":"IF($B18=\"\",\"\",VLOOKUP(T$4,INDIRECT($B18&\"!D9:BP764\"),43,FALSE))","v":""},0,"",{"$f":"IF($B18=\"\",\"\",VLOOKUP(W$4,INDIRECT($B18&\"!D9:BP764\"),43,FALSE))","v":""},0,"",{"$f":"IF($B18=\"\",\"\",VLOOKUP(Z$4,INDIRECT($B18&\"!D9:BP764\"),43,FALSE))","v":""},0,"",{"$f":"IF($B18=\"\",\"\",VLOOKUP(AC$4,INDIRECT($B18&\"!D9:BP764\"),43,FALSE))","v":""},0,"",{"$f":"IF($B18=\"\",\"\",VLOOKUP(AF$4,INDIRECT($B18&\"!D9:BP764\"),43,FALSE))","v":""},0,"",{"$f":"IF($B18=\"\",\"\",VLOOKUP(AI$4,INDIRECT($B18&\"!D9:BP764\"),43,FALSE))","v":""},0,"",{"$f":"IF($B18=\"\",\"\",VLOOKUP(AL$4,INDIRECT($B18&\"!D9:BP764\"),43,FALSE))","v":""},0,"","",0,"","","","","","","","",null,"","","",{"$f":"IF($B18=\"\",\"\",VLOOKUP(BC$4,INDIRECT($B18&\"!D9:BP764\"),56,FALSE))","v":""},"",{"$f":"IF($B18=\"\",\"\",VLOOKUP(BE$4,INDIRECT($B18&\"!D9:BP764\"),56,FALSE))","v":""},"",{"$f":"IF($B18=\"\",\"\",VLOOKUP(BG$4,INDIRECT($B18&\"!D9:BP764\"),56,FALSE))","v":""},"",{"$f":"IF($B18=\"\",\"\",VLOOKUP(BI$4,INDIRECT($B18&\"!D9:BP764\"),56,FALSE))","v":""},"",{"$f":"IF($B18=\"\",\"\",VLOOKUP(BK$4,INDIRECT($B18&\"!D9:BP764\"),56,FALSE))","v":""},"",{"$f":"IF($B18=\"\",\"\",VLOOKUP(BM$4,INDIRECT($B18&\"!D9:BP764\"),56,FALSE))","v":""},"",{"$f":"IF($B18=\"\",\"\",VLOOKUP(BO$4,INDIRECT($B18&\"!D9:BP764\"),56,FALSE))","v":""},"",{"$f":"IF($B18=\"\",\"\",VLOOKUP(BQ$4,INDIRECT($B18&\"!D9:BP764\"),56,FALSE))","v":""},"",{"$f":"IF($B18=\"\",\"\",VLOOKUP(BS$4,INDIRECT($B18&\"!D9:BP764\"),56,FALSE))","v":""},"",{"$f":"IF($B18=\"\",\"\",VLOOKUP(BU$4,INDIRECT($B18&\"!D9:BP764\"),56,FALSE))","v":""},"","","","","","","","","",""]
[null,null,"","","","",0,"",{"$f":"IF($B19=\"\",\"\",VLOOKUP(H$4,INDIRECT($B19&\"!D9:BP764\"),43,FALSE))","v":""},0,"",{"$f":"IF($B19=\"\",\"\",VLOOKUP(K$4,INDIRECT($B19&\"!D9:BP764\"),43,FALSE))","v":""},0,"",{"$f":"IF($B19=\"\",\"\",VLOOKUP(N$4,INDIRECT($B19&\"!D9:BP764\"),43,FALSE))","v":""},0,"",{"$f":"IF($B19=\"\",\"\",VLOOKUP(Q$4,INDIRECT($B19&\"!D9:BP764\"),43,FALSE))","v":""},0,"",{"$f":"IF($B19=\"\",\"\",VLOOKUP(T$4,INDIRECT($B19&\"!D9:BP764\"),43,FALSE))","v":""},0,"",{"$f":"IF($B19=\"\",\"\",VLOOKUP(W$4,INDIRECT($B19&\"!D9:BP764\"),43,FALSE))","v":""},0,"",{"$f":"IF($B19=\"\",\"\",VLOOKUP(Z$4,INDIRECT($B19&\"!D9:BP764\"),43,FALSE))","v":""},0,"",{"$f":"IF($B19=\"\",\"\",VLOOKUP(AC$4,INDIRECT($B19&\"!D9:BP764\"),43,FALSE))","v":""},0,"",{"$f":"IF($B19=\"\",\"\",VLOOKUP(AF$4,INDIRECT($B19&\"!D9:BP764\"),43,FALSE))","v":""},0,"",{"$f":"IF($B19=\"\",\"\",VLOOKUP(AI$4,INDIRECT($B19&\"!D9:BP764\"),43,FALSE))","v":""},0,"",{"$f":"IF($B19=\"\",\"\",VLOOKUP(AL$4,INDIRECT($B19&\"!D9:BP764\"),43,FALSE))","v":""},0,"","",0,"","","","","","","","",null,"","","",{"$f":"IF($B19=\"\",\"\",VLOOKUP(BC$4,INDIRECT($B19&\"!D9:BP764\"),56,FALSE))","v":""},"",{"$f":"IF($B19=\"\",\"\",VLOOKUP(BE$4,INDIRECT($B19&\"!D9:BP764\"),56,FALSE))","v":""},"",{"$f":"IF($B19=\"\",\"\",VLOOKUP(BG$4,INDIRECT($B19&\"!D9:BP764\"),56,FALSE))","v":""},"",{"$f":"IF($B19=\"\",\"\",VLOOKUP(BI$4,INDIRECT($B19&\"!D9:BP764\"),56,FALSE))","v":""},"",{"$f":"IF($B19=\"\",\"\",VLOOKUP(BK$4,INDIRECT($B19&\"!D9:BP764\"),56,FALSE))","v":""},"",{"$f":"IF($B19=\"\",\"\",VLOOKUP(BM$4,INDIRECT($B19&\"!D9:BP764\"),56,FALSE))","v":""},"",{"$f":"IF($B19=\"\",\"\",VLOOKUP(BO$4,INDIRECT($B19&\"!D9:BP764\"),56,FALSE))","v":""},"",{"$f":"IF($B19=\"\",\"\",VLOOKUP(BQ$4,INDIRECT($B19&\"!D9:BP764\"),56,FALSE))","v":""},"",{"$f":"IF($B19=\"\",\"\",VLOOKUP(BS$4,INDIRECT($B19&\"!D9:BP764\"),56,FALSE))","v":""},"",{"$f":"IF($B19=\"\",\"\",VLOOKUP(BU$4,INDIRECT($B19&\"!D9:BP764\"),56,FALSE))","v":""},"","","","","","","","","",""]
[null,null,"","","","",0,"",{"$f":"IF($B20=\"\",\"\",VLOOKUP(H$4,INDIRECT($B20&\"!D9:BP764\"),43,FALSE))","v":""},0,"",{"$f":"IF($B20=\"\",\"\",VLOOKUP(K$4,INDIRECT($B20&\"!D9:BP764\"),43,FALSE))","v":""},0,"",{"$f":"IF($B20=\"\",\"\",VLOOKUP(N$4,INDIRECT($B20&\"!D9:BP764\"),43,FALSE))","v":""},0,"",{"$f":"IF($B20=\"\",\"\",VLOOKUP(Q$4,INDIRECT($B20&\"!D9:BP764\"),43,FALSE))","v":""},0,"",{"$f":"IF($B20=\"\",\"\",VLOOKUP(T$4,INDIRECT($B20&\"!D9:BP764\"),43,FALSE))","v":""},0,"",{"$f":"IF($B20=\"\",\"\",VLOOKUP(W$4,INDIRECT($B20&\"!D9:BP764\"),43,FALSE))","v":""},0,"",{"$f":"IF($B20=\"\",\"\",VLOOKUP(Z$4,INDIRECT($B20&\"!D9:BP764\"),43,FALSE))","v":""},0,"",{"$f":"IF($B20=\"\",\"\",VLOOKUP(AC$4,INDIRECT($B20&\"!D9:BP764\"),43,FALSE))","v":""},0,"",{"$f":"IF($B20=\"\",\"\",VLOOKUP(AF$4,INDIRECT($B20&\"!D9:BP764\"),43,FALSE))","v":""},0,"",{"$f":"IF($B20=\"\",\"\",VLOOKUP(AI$4,INDIRECT($B20&\"!D9:BP764\"),43,FALSE))","v":""},0,"",{"$f":"IF($B20=\"\",\"\",VLOOKUP(AL$4,INDIRECT($B20&\"!D9:BP764\"),43,FALSE))","v":""},0,"","",0,"","","","","","","","",null,"","","",{"$f":"IF($B20=\"\",\"\",VLOOKUP(BC$4,INDIRECT($B20&\"!D9:BP764\"),56,FALSE))","v":""},"",{"$f":"IF($B20=\"\",\"\",VLOOKUP(BE$4,INDIRECT($B20&\"!D9:BP764\"),56,FALSE))","v":""},"",{"$f":"IF($B20=\"\",\"\",VLOOKUP(BG$4,INDIRECT($B20&\"!D9:BP764\"),56,FALSE))","v":""},"",{"$f":"IF($B20=\"\",\"\",VLOOKUP(BI$4,INDIRECT($B20&\"!D9:BP764\"),56,FALSE))","v":""},"",{"$f":"IF($B20=\"\",\"\",VLOOKUP(BK$4,INDIRECT($B20&\"!D9:BP764\"),56,FALSE))","v":""},"",{"$f":"IF($B20=\"\",\"\",VLOOKUP(BM$4,INDIRECT($B20&\"!D9:BP764\"),56,FALSE))","v":""},"",{"$f":"IF($B20=\"\",\"\",VLOOKUP(BO$4,INDIRECT($B20&\"!D9:BP764\"),56,FALSE))","v":""},"",{"$f":"IF($B20=\"\",\"\",VLOOKUP(BQ$4,INDIRECT($B20&\"!D9:BP764\"),56,FALSE))","v":""},"",{"$f":"IF($B20=\"\",\"\",VLOOKUP(BS$4,INDIRECT($B20&\"!D9:BP764\"),56,FALSE))","v":""},"",{"$f":"IF($B20=\"\",\"\",VLOOKUP(BU$4,INDIRECT($B20&\"!D9:BP764\"),56,FALSE))","v":""},"","","","","","","","","",""]
[null,null,"","","","",0,"",{"$f":"IF($B21=\"\",\"\",VLOOKUP(H$4,INDIRECT($B21&\"!D9:BP764\"),43,FALSE))","v":""},0,"",{"$f":"IF($B21=\"\",\"\",VLOOKUP(K$4,INDIRECT($B21&\"!D9:BP764\"),43,FALSE))","v":""},0,"",{"$f":"IF($B21=\"\",\"\",VLOOKUP(N$4,INDIRECT($B21&\"!D9:BP764\"),43,FALSE))","v":""},0,"",{"$f":"IF($B21=\"\",\"\",VLOOKUP(Q$4,INDIRECT($B21&\"!D9:BP764\"),43,FALSE))","v":""},0,"",{"$f":"IF($B21=\"\",\"\",VLOOKUP(T$4,INDIRECT($B21&\"!D9:BP764\"),43,FALSE))","v":""},0,"",{"$f":"IF($B21=\"\",\"\",VLOOKUP(W$4,INDIRECT($B21&\"!D9:BP764\"),43,FALSE))","v":""},0,"",{"$f":"IF($B21=\"\",\"\",VLOOKUP(Z$4,INDIRECT($B21&\"!D9:BP764\"),43,FALSE))","v":""},0,"",{"$f":"IF($B21=\"\",\"\",VLOOKUP(AC$4,INDIRECT($B21&\"!D9:BP764\"),43,FALSE))","v":""},0,"",{"$f":"IF($B21=\"\",\"\",VLOOKUP(AF$4,INDIRECT($B21&\"!D9:BP764\"),43,FALSE))","v":""},0,"",{"$f":"IF($B21=\"\",\"\",VLOOKUP(AI$4,INDIRECT($B21&\"!D9:BP764\"),43,FALSE))","v":""},0,"",{"$f":"IF($B21=\"\",\"\",VLOOKUP(AL$4,INDIRECT($B21&\"!D9:BP764\"),43,FALSE))","v":""},0,"","",0,"","","","","","","","",null,"","","",{"$f":"IF($B21=\"\",\"\",VLOOKUP(BC$4,INDIRECT($B21&\"!D9:BP764\"),56,FALSE))","v":""},"",{"$f":"IF($B21=\"\",\"\",VLOOKUP(BE$4,INDIRECT($B21&\"!D9:BP764\"),56,FALSE))","v":""},"",{"$f":"IF($B21=\"\",\"\",VLOOKUP(BG$4,INDIRECT($B21&\"!D9:BP764\"),56,FALSE))","v":""},"",{"$f":"IF($B21=\"\",\"\",VLOOKUP(BI$4,INDIRECT($B21&\"!D9:BP764\"),56,FALSE))","v":""},"",{"$f":"IF($B21=\"\",\"\",VLOOKUP(BK$4,INDIRECT($B21&\"!D9:BP764\"),56,FALSE))","v":""},"",{"$f":"IF($B21=\"\",\"\",VLOOKUP(BM$4,INDIRECT($B21&\"!D9:BP764\"),56,FALSE))","v":""},"",{"$f":"IF($B21=\"\",\"\",VLOOKUP(BO$4,INDIRECT($B21&\"!D9:BP764\"),56,FALSE))","v":""},"",{"$f":"IF($B21=\"\",\"\",VLOOKUP(BQ$4,INDIRECT($B21&\"!D9:BP764\"),56,FALSE))","v":""},"",{"$f":"IF($B21=\"\",\"\",VLOOKUP(BS$4,INDIRECT($B21&\"!D9:BP764\"),56,FALSE))","v":""},"",{"$f":"IF($B21=\"\",\"\",VLOOKUP(BU$4,INDIRECT($B21&\"!D9:BP764\"),56,FALSE))","v":""},"","","","","","","","","",""]
[null,null,"","","","",0,{"$f":"IF($B22=\"\",\"\",VLOOKUP(H$4,INDIRECT($B22&\"!D9:BP764\"),42,FALSE))","v":""},{"$f":"IF($B22=\"\",\"\",VLOOKUP(H$4,INDIRECT($B22&\"!D9:BP764\"),43,FALSE))","v":""},0,{"$f":"IF($B22=\"\",\"\",VLOOKUP(K$4,INDIRECT($B22&\"!D9:BP764\"),42,FALSE))","v":""},{"$f":"IF($B22=\"\",\"\",VLOOKUP(K$4,INDIRECT($B22&\"!D9:BP764\"),43,FALSE))","v":""},0,{"$f":"IF($B22=\"\",\"\",VLOOKUP(N$4,INDIRECT($B22&\"!D9:BP764\"),42,FALSE))","v":""},{"$f":"IF($B22=\"\",\"\",VLOOKUP(N$4,INDIRECT($B22&\"!D9:BP764\"),43,FALSE))","v":""},0,{"$f":"IF($B22=\"\",\"\",VLOOKUP(Q$4,INDIRECT($B22&\"!D9:BP764\"),42,FALSE))","v":""},{"$f":"IF($B22=\"\",\"\",VLOOKUP(Q$4,INDIRECT($B22&\"!D9:BP764\"),43,FALSE))","v":""},0,{"$f":"IF($B22=\"\",\"\",VLOOKUP(T$4,INDIRECT($B22&\"!D9:BP764\"),42,FALSE))","v":""},{"$f":"IF($B22=\"\",\"\",VLOOKUP(T$4,INDIRECT($B22&\"!D9:BP764\"),43,FALSE))","v":""},0,{"$f":"IF($B22=\"\",\"\",VLOOKUP(W$4,INDIRECT($B22&\"!D9:BP764\"),42,FALSE))","v":""},{"$f":"IF($B22=\"\",\"\",VLOOKUP(W$4,INDIRECT($B22&\"!D9:BP764\"),43,FALSE))","v":""},0,{"$f":"IF($B22=\"\",\"\",VLOOKUP(Z$4,INDIRECT($B22&\"!D9:BP764\"),42,FALSE))","v":""},{"$f":"IF($B22=\"\",\"\",VLOOKUP(Z$4,INDIRECT($B22&\"!D9:BP764\"),43,FALSE))","v":""},0,{"$f":"IF($B22=\"\",\"\",VLOOKUP(AC$4,INDIRECT($B22&\"!D9:BP764\"),42,FALSE))","v":""},{"$f":"IF($B22=\"\",\"\",VLOOKUP(AC$4,INDIRECT($B22&\"!D9:BP764\"),43,FALSE))","v":""},0,{"$f":"IF($B22=\"\",\"\",VLOOKUP(AF$4,INDIRECT($B22&\"!D9:BP764\"),42,FALSE))","v":""},{"$f":"IF($B22=\"\",\"\",VLOOKUP(AF$4,INDIRECT($B22&\"!D9:BP764\"),43,FALSE))","v":""},0,{"$f":"IF($B22=\"\",\"\",VLOOKUP(AI$4,INDIRECT($B22&\"!D9:BP764\"),42,FALSE))","v":""},{"$f":"IF($B22=\"\",\"\",VLOOKUP(AI$4,INDIRECT($B22&\"!D9:BP764\"),43,FALSE))","v":""},0,"",{"$f":"IF($B22=\"\",\"\",VLOOKUP(AL$4,INDIRECT($B22&\"!D9:BP764\"),43,FALSE))","v":""},0,"","",0,"","","","","","","","",null,"","",{"$f":"IF($B22=\"\",\"\",VLOOKUP(BC$4,INDIRECT($B22&\"!D9:BP764\"),55,FALSE))","v":""},{"$f":"IF($B22=\"\",\"\",VLOOKUP(BC$4,INDIRECT($B22&\"!D9:BP764\"),56,FALSE))","v":""},{"$f":"IF($B22=\"\",\"\",VLOOKUP(BE$4,INDIRECT($B22&\"!D9:BP764\"),55,FALSE))","v":""},{"$f":"IF($B22=\"\",\"\",VLOOKUP(BE$4,INDIRECT($B22&\"!D9:BP764\"),56,FALSE))","v":""},{"$f":"IF($B22=\"\",\"\",VLOOKUP(BG$4,INDIRECT($B22&\"!D9:BP764\"),55,FALSE))","v":""},{"$f":"IF($B22=\"\",\"\",VLOOKUP(BG$4,INDIRECT($B22&\"!D9:BP764\"),56,FALSE))","v":""},{"$f":"IF($B22=\"\",\"\",VLOOKUP(BI$4,INDIRECT($B22&\"!D9:BP764\"),55,FALSE))","v":""},{"$f":"IF($B22=\"\",\"\",VLOOKUP(BI$4,INDIRECT($B22&\"!D9:BP764\"),56,FALSE))","v":""},{"$f":"IF($B22=\"\",\"\",VLOOKUP(BK$4,INDIRECT($B22&\"!D9:BP764\"),55,FALSE))","v":""},{"$f":"IF($B22=\"\",\"\",VLOOKUP(BK$4,INDIRECT($B22&\"!D9:BP764\"),56,FALSE))","v":""},{"$f":"IF($B22=\"\",\"\",VLOOKUP(BM$4,INDIRECT($B22&\"!D9:BP764\"),55,FALSE))","v":""},{"$f":"IF($B22=\"\",\"\",VLOOKUP(BM$4,INDIRECT($B22&\"!D9:BP764\"),56,FALSE))","v":""},{"$f":"IF($B22=\"\",\"\",VLOOKUP(BO$4,INDIRECT($B22&\"!D9:BP764\"),55,FALSE))","v":""},{"$f":"IF($B22=\"\",\"\",VLOOKUP(BO$4,INDIRECT($B22&\"!D9:BP764\"),56,FALSE))","v":""},{"$f":"IF($B22=\"\",\"\",VLOOKUP(BQ$4,INDIRECT($B22&\"!D9:BP764\"),55,FALSE))","v":""},{"$f":"IF($B22=\"\",\"\",VLOOKUP(BQ$4,INDIRECT($B22&\"!D9:BP764\"),56,FALSE))","v":""},{"$f":"IF($B22=\"\",\"\",VLOOKUP(BS$4,INDIRECT($B22&\"!D9:BP764\"),55,FALSE))","v":""},{"$f":"IF($B22=\"\",\"\",VLOOKUP(BS$4,INDIRECT($B22&\"!D9:BP764\"),56,FALSE))","v":""},{"$f":"IF($B22=\"\",\"\",VLOOKUP(BU$4,INDIRECT($B22&\"!D9:BP764\"),55,FALSE))","v":""},{"$f":"IF($B22=\"\",\"\",VLOOKUP(BU$4,INDIRECT($B22&\"!D9:BP764\"),56,FALSE))","v":""},{"$f":"IF($B22=\"\",\"\",VLOOKUP(BW$4,INDIRECT($B22&\"!D9:BP764\"),55,FALSE))","v":""},"","","","","","","","",""]
[null,null,"","","","",0,"",{"$f":"IF($B23=\"\",\"\",VLOOKUP(H$4,INDIRECT($B23&\"!D9:BP764\"),43,FALSE))","v":""},0,"",{"$f":"IF($B23=\"\",\"\",VLOOKUP(K$4,INDIRECT($B23&\"!D9:BP764\"),43,FALSE))","v":""},0,"",{"$f":"IF($B23=\"\",\"\",VLOOKUP(N$4,INDIRECT($B23&\"!D9:BP764\"),43,FALSE))","v":""},0,"",{"$f":"IF($B23=\"\",\"\",VLOOKUP(Q$4,INDIRECT($B23&\"!D9:BP764\"),43,FALSE))","v":""},0,"",{"$f":"IF($B23=\"\",\"\",VLOOKUP(T$4,INDIRECT($B23&\"!D9:BP764\"),43,FALSE))","v":""},0,"",{"$f":"IF($B23=\"\",\"\",VLOOKUP(W$4,INDIRECT($B23&\"!D9:BP764\"),43,FALSE))","v":""},0,"",{"$f":"IF($B23=\"\",\"\",VLOOKUP(Z$4,INDIRECT($B23&\"!D9:BP764\"),43,FALSE))","v":""},0,"",{"$f":"IF($B23=\"\",\"\",VLOOKUP(AC$4,INDIRECT($B23&\"!D9:BP764\"),43,FALSE))","v":""},0,"",{"$f":"IF($B23=\"\",\"\",VLOOKUP(AF$4,INDIRECT($B23&\"!D9:BP764\"),43,FALSE))","v":""},0,"",{"$f":"IF($B23=\"\",\"\",VLOOKUP(AI$4,INDIRECT($B23&\"!D9:BP764\"),43,FALSE))","v":""},0,"",{"$f":"IF($B23=\"\",\"\",VLOOKUP(AL$4,INDIRECT($B23&\"!D9:BP764\"),43,FALSE))","v":""},0,"","",0,"","","","","","","","",null,"","","",{"$f":"IF($B23=\"\",\"\",VLOOKUP(BC$4,INDIRECT($B23&\"!D9:BP764\"),56,FALSE))","v":""},"",{"$f":"IF($B23=\"\",\"\",VLOOKUP(BE$4,INDIRECT($B23&\"!D9:BP764\"),56,FALSE))","v":""},"",{"$f":"IF($B23=\"\",\"\",VLOOKUP(BG$4,INDIRECT($B23&\"!D9:BP764\"),56,FALSE))","v":""},"",{"$f":"IF($B23=\"\",\"\",VLOOKUP(BI$4,INDIRECT($B23&\"!D9:BP764\"),56,FALSE))","v":""},"",{"$f":"IF($B23=\"\",\"\",VLOOKUP(BK$4,INDIRECT($B23&\"!D9:BP764\"),56,FALSE))","v":""},"",{"$f":"IF($B23=\"\",\"\",VLOOKUP(BM$4,INDIRECT($B23&\"!D9:BP764\"),56,FALSE))","v":""},"",{"$f":"IF($B23=\"\",\"\",VLOOKUP(BO$4,INDIRECT($B23&\"!D9:BP764\"),56,FALSE))","v":""},"",{"$f":"IF($B23=\"\",\"\",VLOOKUP(BQ$4,INDIRECT($B23&\"!D9:BP764\"),56,FALSE))","v":""},"",{"$f":"IF($B23=\"\",\"\",VLOOKUP(BS$4,INDIRECT($B23&\"!D9:BP764\"),56,FALSE))","v":""},"",{"$f":"IF($B23=\"\",\"\",VLOOKUP(BU$4,INDIRECT($B23&\"!D9:BP764\"),56,FALSE))","v":""},"","","","","","","","","",""]
[null,null,"","","","",0,"",{"$f":"IF($B24=\"\",\"\",VLOOKUP(H$4,INDIRECT($B24&\"!D9:BP764\"),43,FALSE))","v":""},0,"",{"$f":"IF($B24=\"\",\"\",VLOOKUP(K$4,INDIRECT($B24&\"!D9:BP764\"),43,FALSE))","v":""},0,"",{"$f":"IF($B24=\"\",\"\",VLOOKUP(N$4,INDIRECT($B24&\"!D9:BP764\"),43,FALSE))","v":""},0,"",{"$f":"IF($B24=\"\",\"\",VLOOKUP(Q$4,INDIRECT($B24&\"!D9:BP764\"),43,FALSE))","v":""},0,"",{"$f":"IF($B24=\"\",\"\",VLOOKUP(T$4,INDIRECT($B24&\"!D9:BP764\"),43,FALSE))","v":""},0,"",{"$f":"IF($B24=\"\",\"\",VLOOKUP(W$4,INDIRECT($B24&\"!D9:BP764\"),43,FALSE))","v":""},0,"",{"$f":"IF($B24=\"\",\"\",VLOOKUP(Z$4,INDIRECT($B24&\"!D9:BP764\"),43,FALSE))","v":""},0,"",{"$f":"IF($B24=\"\",\"\",VLOOKUP(AC$4,INDIRECT($B24&\"!D9:BP764\"),43,FALSE))","v":""},0,"",{"$f":"IF($B24=\"\",\"\",VLOOKUP(AF$4,INDIRECT($B24&\"!D9:BP764\"),43,FALSE))","v":""},0,"",{"$f":"IF($B24=\"\",\"\",VLOOKUP(AI$4,INDIRECT($B24&\"!D9:BP764\"),43,FALSE))","v":""},0,"",{"$f":"IF($B24=\"\",\"\",VLOOKUP(AL$4,INDIRECT($B24&\"!D9:BP764\"),43,FALSE))","v":""},0,"","",0,"","","","","","","","",null,"","","",{"$f":"IF($B24=\"\",\"\",VLOOKUP(BC$4,INDIRECT($B24&\"!D9:BP764\"),56,FALSE))","v":""},"",{"$f":"IF($B24=\"\",\"\",VLOOKUP(BE$4,INDIRECT($B24&\"!D9:BP764\"),56,FALSE))","v":""},"",{"$f":"IF($B24=\"\",\"\",VLOOKUP(BG$4,INDIRECT($B24&\"!D9:BP764\"),56,FALSE))","v":""},"",{"$f":"IF($B24=\"\",\"\",VLOOKUP(BI$4,INDIRECT($B24&\"!D9:BP764\"),56,FALSE))","v":""},"",{"$f":"IF($B24=\"\",\"\",VLOOKUP(BK$4,INDIRECT($B24&\"!D9:BP764\"),56,FALSE))","v":""},"",{"$f":"IF($B24=\"\",\"\",VLOOKUP(BM$4,INDIRECT($B24&\"!D9:BP764\"),56,FALSE))","v":""},"",{"$f":"IF($B24=\"\",\"\",VLOOKUP(BO$4,INDIRECT($B24&\"!D9:BP764\"),56,FALSE))","v":""},"",{"$f":"IF($B24=\"\",\"\",VLOOKUP(BQ$4,INDIRECT($B24&\"!D9:BP764\"),56,FALSE))","v":""},"",{"$f":"IF($B24=\"\",\"\",VLOOKUP(BS$4,INDIRECT($B24&\"!D9:BP764\"),56,FALSE))","v":""},"",{"$f":"IF($B24=\"\",\"\",VLOOKUP(BU$4,INDIRECT($B24&\"!D9:BP764\"),56,FALSE))","v":""},"","","","","","","","","",""]
[null,null,{"$f":"IF($B25=\"\",\"\",INDIRECT($B25&\"!U3\"))","v":""},"","","",0,"",{"$f":"IF($B25=\"\",\"\",VLOOKUP(H$4,INDIRECT($B25&\"!D9:BP764\"),43,FALSE))","v":""},0,"",{"$f":"IF($B25=\"\",\"\",VLOOKUP(K$4,INDIRECT($B25&\"!D9:BP764\"),43,FALSE))","v":""},0,"",{"$f":"IF($B25=\"\",\"\",VLOOKUP(N$4,INDIRECT($B25&\"!D9:BP764\"),43,FALSE))","v":""},0,"",{"$f":"IF($B25=\"\",\"\",VLOOKUP(Q$4,INDIRECT($B25&\"!D9:BP764\"),43,FALSE))","v":""},0,"",{"$f":"IF($B25=\"\",\"\",VLOOKUP(T$4,INDIRECT($B25&\"!D9:BP764\"),43,FALSE))","v":""},0,"",{"$f":"IF($B25=\"\",\"\",VLOOKUP(W$4,INDIRECT($B25&\"!D9:BP764\"),43,FALSE))","v":""},0,"",{"$f":"IF($B25=\"\",\"\",VLOOKUP(Z$4,INDIRECT($B25&\"!D9:BP764\"),43,FALSE))","v":""},0,"",{"$f":"IF($B25=\"\",\"\",VLOOKUP(AC$4,INDIRECT($B25&\"!D9:BP764\"),43,FALSE))","v":""},0,"",{"$f":"IF($B25=\"\",\"\",VLOOKUP(AF$4,INDIRECT($B25&\"!D9:BP764\"),43,FALSE))","v":""},0,"",{"$f":"IF($B25=\"\",\"\",VLOOKUP(AI$4,INDIRECT($B25&\"!D9:BP764\"),43,FALSE))","v":""},0,"",{"$f":"IF($B25=\"\",\"\",VLOOKUP(AL$4,INDIRECT($B25&\"!D9:BP764\"),43,FALSE))","v":""},0,"","",0,"","","","","","","",{"$f":"IF($B25=\"\",\"\",VLOOKUP($AC$2,INDIRECT($B25&\"!D9:BP764\"),53,FALSE))","v":""},null,"","","",{"$f":"IF($B25=\"\",\"\",VLOOKUP(BC$4,INDIRECT($B25&\"!D9:BP764\"),56,FALSE))","v":""},"",{"$f":"IF($B25=\"\",\"\",VLOOKUP(BE$4,INDIRECT($B25&\"!D9:BP764\"),56,FALSE))","v":""},"",{"$f":"IF($B25=\"\",\"\",VLOOKUP(BG$4,INDIRECT($B25&\"!D9:BP764\"),56,FALSE))","v":""},"",{"$f":"IF($B25=\"\",\"\",VLOOKUP(BI$4,INDIRECT($B25&\"!D9:BP764\"),56,FALSE))","v":""},"",{"$f":"IF($B25=\"\",\"\",VLOOKUP(BK$4,INDIRECT($B25&\"!D9:BP764\"),56,FALSE))","v":""},"",{"$f":"IF($B25=\"\",\"\",VLOOKUP(BM$4,INDIRECT($B25&\"!D9:BP764\"),56,FALSE))","v":""},"",{"$f":"IF($B25=\"\",\"\",VLOOKUP(BO$4,INDIRECT($B25&\"!D9:BP764\"),56,FALSE))","v":""},"",{"$f":"IF($B25=\"\",\"\",VLOOKUP(BQ$4,INDIRECT($B25&\"!D9:BP764\"),56,FALSE))","v":""},"",{"$f":"IF($B25=\"\",\"\",VLOOKUP(BS$4,INDIRECT($B25&\"!D9:BP764\"),56,FALSE))","v":""},"",{"$f":"IF($B25=\"\",\"\",VLOOKUP(BU$4,INDIRECT($B25&\"!D9:BP764\"),56,FALSE))","v":""},"","","","","","","","","",{"$f":"IF($B25=\"\",\"\",VLOOKUP($AC$2,INDIRECT($B25&\"!D9:BP764\"),64,FALSE))","v":""}]
[null,null,"合計",null,{"$f":"SUM(E6:E25)","v":{"$error":"#N/A"}},{"$f":"SUM(F6:F25)","v":{"$error":"#N/A"}},{"$f":"SUM(G6:G25)","v":{"$error":"#N/A"}},{"$error":"#N/A"},{"$error":"#N/A"},{"$error":"#N/A"},{"$error":"#N/A"},{"$error":"#N/A"},{"$error":"#N/A"},{"$error":"#N/A"},{"$error":"#N/A"},{"$error":"#N/A"},{"$error":"#N/A"},{"$error":"#N/A"},{"$error":"#N/A"},{"$error":"#N/A"},{"$error":"#N/A"},{"$error":"#N/A"},{"$error":"#N/A"},{"$error":"#N/A"},{"$error":"#N/A"},{"$error":"#N/A"},{"$error":"#N/A"},{"$error":"#N/A"},{"$error":"#N/A"},{"$error":"#N/A"},{"$error":"#N/A"},{"$error":"#N/A"},{"$error":"#N/A"},{"$error":"#N/A"},{"$error":"#N/A"},{"$error":"#N/A"},{"$error":"#N/A"},{"$error":"#N/A"},{"$error":"#N/A"},{"$error":"#N/A"},{"$error":"#N/A"},{"$error":"#N/A"},{"$f":"SUM(AQ6:AQ25)","v":{"$error":"#N/A"}},"-","-","-","-","-","-","-","-",null,{"$f":"SUM(BA6:BA25)","v":{"$error":"#N/A"}},{"$f":"SUM(BB6:BB25)","v":{"$error":"#N/A"}},{"$f":"SUM(BC6:BC25)","v":{"$error":"#N/A"}},{"$f":"SUM(BD6:BD25)","v":{"$error":"#N/A"}},{"$f":"SUM(BE6:BE25)","v":{"$error":"#N/A"}},{"$f":"SUM(BF6:BF25)","v":{"$error":"#N/A"}},{"$f":"SUM(BG6:BG25)","v":{"$error":"#N/A"}},{"$f":"SUM(BH6:BH25)","v":{"$error":"#N/A"}},{"$f":"SUM(BI6:BI25)","v":{"$error":"#N/A"}},{"$f":"SUM(BJ6:BJ25)","v":{"$error":"#N/A"}},{"$f":"SUM(BK6:BK25)","v":{"$error":"#N/A"}},{"$f":"SUM(BL6:BL25)","v":{"$error":"#N/A"}},{"$f":"SUM(BM6:BM25)","v":{"$error":"#N/A"}},{"$f":"SUM(BN6:BN25)","v":{"$error":"#N/A"}},{"$f":"SUM(BO6:BO25)","v":{"$error":"#N/A"}},{"$f":"SUM(BP6:BP25)","v":{"$error":"#N/A"}},{"$f":"SUM(BQ6:BQ25)","v":{"$error":"#N/A"}},{"$f":"SUM(BR6:BR25)","v":{"$error":"#N/A"}},{"$f":"SUM(BS6:BS25)","v":{"$error":"#N/A"}},{"$f":"SUM(BT6:BT25)","v":{"$error":"#N/A"}},{"$f":"SUM(BU6:BU25)","v":{"$error":"#N/A"}},{"$f":"SUM(BV6:BV25)","v":{"$error":"#N/A"}},{"$f":"SUM(BW6:BW25)","v":{"$error":"#N/A"}},{"$f":"SUM(BX6:BX25)","v":{"$error":"#N/A"}},{"$f":"SUM(BY6:BY25)","v":{"$error":"#N/A"}},{"$f":"SUM(BZ6:BZ25)","v":{"$error":"#N/A"}},"-","-","-","-","-","-"]
[]
[null,null,null,null,null,null,null,null,null,null,null,null,null,null,null,null,null,null,null,null,null,null,null,null,null,null,null,null,"４月"]
[null,null,null,null,null,null,null,null,null,null,null,null,null,null,null,null,null,null,null,null,null,null,null,null,null,null,null,null,"５月"]
[null,null,null,null,null,null,null,null,null,null,null,null,null,null,null,null,null,null,null,null,null,null,null,null,null,null,null,null,"６月"]
[null,null,null,null,null,null,null,null,null,null,null,null,null,null,null,null,null,null,null,null,null,null,null,null,null,null,null,null,"７月"]
[null,null,null,null,null,null,null,null,null,null,null,null,null,null,null,null,null,null,null,null,null,null,null,null,null,null,null,null,"８月"]
[null,null,null,null,null,null,null,null,null,null,null,null,null,null,null,null,null,null,null,null,null,null,null,null,null,null,null,null,"９月"]
[null,null,null,null,null,null,null,null,null,null,null,null,null,null,null,null,null,null,null,null,null,null,null,null,null,null,null,null,"１０月"]
[null,null,null,null,null,null,null,null,null,null,null,null,null,null,null,null,null,null,null,null,null,null,null,null,null,null,null,null,"１１月"]
[null,null,null,null,null,null,null,null,null,null,null,null,null,null,null,null,null,null,null,null,null,null,null,null,null,null,null,null,"１２月"]
[null,null,null,null,null,null,null,null,null,null,null,null,null,null,null,null,null,null,null,null,null,null,null,null,null,null,null,null,"１月"]
[null,null,null,null,null,null,null,null,null,null,null,null,null,null,null,null,null,null,null,null,null,null,null,null,null,null,null,null,"２月"]
[null,null,null,null,null,null,null,null,null,null,null,null,null,null,null,null,null,null,null,null,null,null,null,null,null,null,null,null,"３月"]
[null,null,null,null,{"$f":"ROUND(E6,0)+ROUND(E7,0)+ROUND(E8,0)+ROUND(E9,0)+ROUND(E10,0)+ROUND(E11,0)+ROUND(E12,0)","v":{"$error":"#N/A"}},{"$f":"ROUND(F6,0)+ROUND(F7,0)+ROUND(F8,0)+ROUND(F9,0)+ROUND(F10,0)+ROUND(F11,0)+ROUND(F12,0)","v":{"$error":"#N/A"}},{"$error":"#N/A"},{"$error":"#N/A"},{"$error":"#N/A"},{"$error":"#N/A"},{"$error":"#N/A"},{"$error":"#N/A"},{"$error":"#N/A"},{"$error":"#N/A"},{"$error":"#N/A"},{"$error":"#N/A"},{"$error":"#N/A"},{"$error":"#N/A"},{"$error":"#N/A"},{"$error":"#N/A"},{"$error":"#N/A"},{"$error":"#N/A"},{"$error":"#N/A"},{"$error":"#N/A"},{"$error":"#N/A"},{"$error":"#N/A"},{"$error":"#N/A"},{"$error":"#N/A"},{"$error":"#N/A"},{"$error":"#N/A"},{"$error":"#N/A"},{"$error":"#N/A"},{"$error":"#N/A"},{"$error":"#N/A"},{"$error":"#N/A"},{"$error":"#N/A"},{"$error":"#N/A"},{"$error":"#N/A"},{"$error":"#N/A"},{"$error":"#N/A"},{"$error":"#N/A"},{"$error":"#N/A"},{"$error":"#N/A"}]

{"sheet":"Sheet1","index":5,"n_rows":6,"n_cols":2,"rows_kept":6,"cut":false,"hidden":false,"merged":[]}
[]
[]
[]
[]
[]
[null,"マクロを有効にしてください"]

{"sheet":"実績グラフ(任意）","index":6,"n_rows":6,"n_cols":14,"rows_kept":6,"cut":false,"hidden":true,"merged":[[0,0,0,13]]}
["時間外勤務実績時数の推移（入力任意）"]
[]
["時間外勤務実績時数（各月の実績時数を入力してください。）",null,null,null,null,null,null,null,null,null,{"$f":"集計表!C3","v":"●●●立●●●学校"}]
["氏名","4月","５月","6月","7月","8月","9月","10月","11月","12月","1月","2月","3月","計"]
[{"$f":"集計表!D6","v":"●●　■■"},null,null,null,null,null,null,null,null,null,null,null,null,{"$f":"SUM(B5:M5)","v":0}]
[{"$f":"集計表!D7","v":"▲▲　◆◆"},null,null,null,null,null,null,null,null,null,null,null,null,{"$f":"SUM(B6:M6)","v":0}]